BEGIN:VCALENDAR
VERSION:2.0
PRODID:-//Roslyn Downtown Association - ECPv6.15.20//NONSGML v1.0//EN
CALSCALE:GREGORIAN
METHOD:PUBLISH
X-WR-CALNAME:Roslyn Downtown Association
X-ORIGINAL-URL:https://roslyndowntown.org
X-WR-CALDESC:Events for Roslyn Downtown Association
REFRESH-INTERVAL;VALUE=DURATION:PT1H
X-Robots-Tag:noindex
X-PUBLISHED-TTL:PT1H
BEGIN:VTIMEZONE
TZID:America/Los_Angeles
BEGIN:DAYLIGHT
TZOFFSETFROM:-0800
TZOFFSETTO:-0700
TZNAME:PDT
DTSTART:20250309T100000
END:DAYLIGHT
BEGIN:STANDARD
TZOFFSETFROM:-0700
TZOFFSETTO:-0800
TZNAME:PST
DTSTART:20251102T090000
END:STANDARD
BEGIN:DAYLIGHT
TZOFFSETFROM:-0800
TZOFFSETTO:-0700
TZNAME:PDT
DTSTART:20260308T100000
END:DAYLIGHT
BEGIN:STANDARD
TZOFFSETFROM:-0700
TZOFFSETTO:-0800
TZNAME:PST
DTSTART:20261101T090000
END:STANDARD
BEGIN:DAYLIGHT
TZOFFSETFROM:-0800
TZOFFSETTO:-0700
TZNAME:PDT
DTSTART:20270314T100000
END:DAYLIGHT
BEGIN:STANDARD
TZOFFSETFROM:-0700
TZOFFSETTO:-0800
TZNAME:PST
DTSTART:20271107T090000
END:STANDARD
END:VTIMEZONE
BEGIN:VEVENT
DTSTART;VALUE=DATE:20260424
DTEND;VALUE=DATE:20260427
DTSTAMP:20260424T021655
CREATED:20260319T005550Z
LAST-MODIFIED:20260409T013715Z
UID:7106-1776988800-1777247999@roslyndowntown.org
SUMMARY:Mountain Wellness Adventure - 2026
DESCRIPTION:Presented by Simple Indulgence Wellness\n\n\n\n\n\n\n\n\n\n\n\n\nWe have an exciting weekend planned for April 24th – April 26th\, 2026 in Cle Elum & Roslyn\, in the heart of the Cascades!Make plans to “Find Yourself in the Mountains” and join the wellness community for the 4th Annual Mountain Wellness Adventure.More info: www.mountainwellnessadventure.com and on Facebook.\n\nA choose your own wellness weekend in Cle Elum & Roslyn\, April 24–26. \nExplore local offerings\, attend one experience or many\, and enjoy a free Saturday Wellness Fair & Market. \n\nActivities Around Town (registration required\, fees vary)\n\nCreative Confidence\nPast Life Regression | Forest Bathing\nWarrior Rising | Power Vinyasa Flow\nRestorative Yoga + Massage\nLocal Art Show | Slow Flow Yoga\nLocal Medicinal Plant Walk\n\n\nWellness Fair & Market April 25\, 10am – 4pm\, free to attend\nExplore the wellness market\, learn from local practitioners\, and enjoy offerings like chair massage\, mini sessions\, astrological readings and more. \nMini Speaker Series April 25\, 10:30am – 4pm\, free to attend\nShort talks from local practitioners sharing practical insights on health\, metaphysics\, wellness\, and everyday care. \nfull schedule
URL:https://roslyndowntown.org/event/mountain-wellness-adventure-2026/
LOCATION:WA
CATEGORIES:Festivals and Holiday Celebrations
ATTACH;FMTTYPE=image/png:https://roslyndowntown.org/wp-content/uploads/2026/03/MWA-Flyer-2026.png
END:VEVENT
END:VCALENDAR