BEGIN:VCALENDAR
VERSION:2.0
PRODID:-//Roslyn Downtown Association - ECPv6.15.20//NONSGML v1.0//EN
CALSCALE:GREGORIAN
METHOD:PUBLISH
X-ORIGINAL-URL:https://roslyndowntown.org
X-WR-CALDESC:Events for Roslyn Downtown Association
REFRESH-INTERVAL;VALUE=DURATION:PT1H
X-Robots-Tag:noindex
X-PUBLISHED-TTL:PT1H
BEGIN:VTIMEZONE
TZID:America/Los_Angeles
BEGIN:DAYLIGHT
TZOFFSETFROM:-0800
TZOFFSETTO:-0700
TZNAME:PDT
DTSTART:20240310T100000
END:DAYLIGHT
BEGIN:STANDARD
TZOFFSETFROM:-0700
TZOFFSETTO:-0800
TZNAME:PST
DTSTART:20241103T090000
END:STANDARD
BEGIN:DAYLIGHT
TZOFFSETFROM:-0800
TZOFFSETTO:-0700
TZNAME:PDT
DTSTART:20250309T100000
END:DAYLIGHT
BEGIN:STANDARD
TZOFFSETFROM:-0700
TZOFFSETTO:-0800
TZNAME:PST
DTSTART:20251102T090000
END:STANDARD
BEGIN:DAYLIGHT
TZOFFSETFROM:-0800
TZOFFSETTO:-0700
TZNAME:PDT
DTSTART:20260308T100000
END:DAYLIGHT
BEGIN:STANDARD
TZOFFSETFROM:-0700
TZOFFSETTO:-0800
TZNAME:PST
DTSTART:20261101T090000
END:STANDARD
END:VTIMEZONE
BEGIN:VEVENT
DTSTART;TZID=America/Los_Angeles:20250802T113000
DTEND;TZID=America/Los_Angeles:20250802T130000
DTSTAMP:20260424T043905
CREATED:20250409T043957Z
LAST-MODIFIED:20250409T043957Z
UID:5286-1754134200-1754139600@roslyndowntown.org
SUMMARY:RDA Free Parrot Show - August 2\, 2025
DESCRIPTION:Saturday\, August 2\, 2025 – RDA Free Parrot Show @ the Roslyn Creative Center 11:30 AM – 1:00 PM \n103 E Idaho Street\,  Roslyn \, WA 98941
URL:https://roslyndowntown.org/event/rda-free-parrot-show-august-2-2025/
LOCATION:RDA Creative Center\, 103 W. Idaho Ave.\, Roslyn\, WA\, 98941\, United States
CATEGORIES:Community Events,RDA Creative Center Events,Show on Creative Center Page
ATTACH;FMTTYPE=image/png:https://roslyndowntown.org/wp-content/uploads/2025/04/Parrot-Experience-flyer-AUGUST-2025-scaled.png
ORGANIZER;CN="Roslyn Downtown Association":MAILTO:info@roslyndowntown.org
END:VEVENT
BEGIN:VEVENT
DTSTART;TZID=America/Los_Angeles:20250816T200000
DTEND;TZID=America/Los_Angeles:20250816T220000
DTSTAMP:20260424T043905
CREATED:20250524T015003Z
LAST-MODIFIED:20250524T033921Z
UID:5404-1755374400-1755381600@roslyndowntown.org
SUMMARY:"DOG MAN" - The Roslyn Yard Summer Nights - Outdoor Movie
DESCRIPTION:FREE ADMISSION!\nSaturday\, August 16\, 2025 – Outdoor Movie Dog Man @ The Roslyn Yard – at Sunset (8:00 p.m.) \nDog Man (2025) – PG\nAfter a policeman and his police dog are fused together to turn into Dog Man\, he must stop the villainous Petey the Cat from cloning himself and creating an evil kitten\, doubling his evil abilities. Starring the voices of Pete Davidson\, Poppy Liu and Lil Rel Howery. \nBrought to you by Basecamp Books and the Roslyn Downtown Association.
URL:https://roslyndowntown.org/event/outdoor-movie-the-roslyn-yard-dog-man/
LOCATION:The Roslyn Yard\, 104 W Pennsylvania Ave\, Roslyn\, WA\, 98941
CATEGORIES:Community Events,Entertainment
ATTACH;FMTTYPE=image/jpeg:https://roslyndowntown.org/wp-content/uploads/2025/05/Roslyn-Yard-Summer-Movie-Nights-2025.jpg
END:VEVENT
BEGIN:VEVENT
DTSTART;TZID=America/Los_Angeles:20250823T200000
DTEND;TZID=America/Los_Angeles:20250823T220000
DTSTAMP:20260424T043905
CREATED:20250524T015741Z
LAST-MODIFIED:20250524T033857Z
UID:5408-1755979200-1755986400@roslyndowntown.org
SUMMARY:"MOANA 2" - The Roslyn Yard Summer Nights - Outdoor Movie
DESCRIPTION:FREE ADMISSION!\nSaturday\, August 23\, 2025 – Outdoor Movie Moana 2 @ The Roslyn Yard – at Sunset (8:00 p.m.) \nMoana 2 (2024) – PG\nAfter receiving an unexpected call from her wayfinding ancestors\, Moana must journey to the far seas of Oceania and into dangerous\, long-lost waters for an adventure unlike anything she’s ever faced. Starring the voices of Auli’i Cravalho\, Dwayne “The Rock” Johnson\, and Hualalai Chung. \nBrought to you by Basecamp Books and the Roslyn Downtown Association.
URL:https://roslyndowntown.org/event/moana-2-the-roslyn-yard-summer-nights-outdoor-movie/
LOCATION:The Roslyn Yard\, 104 W Pennsylvania Ave\, Roslyn\, WA\, 98941
CATEGORIES:Community Events,Entertainment
ATTACH;FMTTYPE=image/jpeg:https://roslyndowntown.org/wp-content/uploads/2025/05/Roslyn-Yard-Summer-Movie-Nights-2025.jpg
END:VEVENT
BEGIN:VEVENT
DTSTART;TZID=America/Los_Angeles:20250829T195000
DTEND;TZID=America/Los_Angeles:20250829T205000
DTSTAMP:20260424T043905
CREATED:20250524T020339Z
LAST-MODIFIED:20250524T033845Z
UID:5411-1756497000-1756500600@roslyndowntown.org
SUMMARY:"SONIC THE HEDGEHOG 3" - The Roslyn Yard Summer Nights - Outdoor Movie
DESCRIPTION:FREE ADMISSION!\nFriday\, August 29\, 2025 – Outdoor Movie Sonic the Hedgehog 3 @ The Roslyn Yard – at Sunset (7:50 p.m.) \nSonic the Hedgehog 3 (2024) – PG\nSonic\, Knuckles\, and Tails reunite against a powerful new adversary\, Shadow\, a mysterious villain with powers unlike anything they have faced before. With their abilities outmatched\, Team Sonic must seek out an unlikely alliance. Starring Jim Carrey\, and the voices of Ben Schwartz and Keanu Reaves. \nBrought to you by Basecamp Books and the Roslyn Downtown Association.
URL:https://roslyndowntown.org/event/sonic-the-hedgehog-3-the-roslyn-yard-summer-nights-outdoor-movie/
LOCATION:The Roslyn Yard\, 104 W Pennsylvania Ave\, Roslyn\, WA\, 98941
CATEGORIES:Community Events,Entertainment
ATTACH;FMTTYPE=image/jpeg:https://roslyndowntown.org/wp-content/uploads/2025/05/Roslyn-Yard-Summer-Movie-Nights-2025.jpg
END:VEVENT
BEGIN:VEVENT
DTSTART;TZID=America/Los_Angeles:20250830T193000
DTEND;TZID=America/Los_Angeles:20250830T213000
DTSTAMP:20260424T043905
CREATED:20250524T022002Z
LAST-MODIFIED:20250524T033834Z
UID:5421-1756582200-1756589400@roslyndowntown.org
SUMMARY:"THE WILD ROBOT" - The Roslyn Yard Summer Nights - Outdoor Movie
DESCRIPTION:FREE ADMISSION!\nSaturday\, August 30\, 2025 – Outdoor Movie The Wild Robot @ The Roslyn Yard – at Sunset (7:30 p.m.) \nThe Wild Robot (2024) – PG\nAfter a shipwreck\, an intelligent robot called Roz is stranded on an uninhabited island. To survive the harsh environment\, Roz bonds with the island’s animals and cares for an orphaned baby goose. Starring the voices of Lupita Nyong’o\, Pedro Pascal and Kit Connor. \nBrought to you by Basecamp Books and the Roslyn Downtown Association.
URL:https://roslyndowntown.org/event/wild-robot-the-roslyn-yard-summer-nights-outdoor-movie/
LOCATION:The Roslyn Yard\, 104 W Pennsylvania Ave\, Roslyn\, WA\, 98941
CATEGORIES:Community Events,Entertainment
ATTACH;FMTTYPE=image/jpeg:https://roslyndowntown.org/wp-content/uploads/2025/05/Roslyn-Yard-Summer-Movie-Nights-2025.jpg
END:VEVENT
BEGIN:VEVENT
DTSTART;TZID=America/Los_Angeles:20250831T093000
DTEND;TZID=America/Los_Angeles:20250831T120000
DTSTAMP:20260424T043905
CREATED:20250827T133425Z
LAST-MODIFIED:20250827T133616Z
UID:5574-1756632600-1756641600@roslyndowntown.org
SUMMARY:Heritage Club Crowning of King Coal & Roslyn Labor Day Parade 2025
DESCRIPTION:Join the fun! \nSunday\, August 31\, 2025\, Crowning of King Coal 9:30 AM \nCity of Roslyn Parade to follow at 11:00 AM
URL:https://roslyndowntown.org/event/heritage-club-crowning-of-king-coal-roslyn-labor-day-parade-2025/
LOCATION:Downtown Roslyn\, WA\, 98941
CATEGORIES:Community Events,Festivals and Holiday Celebrations
ATTACH;FMTTYPE=image/jpeg:https://roslyndowntown.org/wp-content/uploads/2025/08/2025-King-Coal.jpg
END:VEVENT
BEGIN:VEVENT
DTSTART;TZID=America/Los_Angeles:20250831T193000
DTEND;TZID=America/Los_Angeles:20250831T213000
DTSTAMP:20260424T043905
CREATED:20250524T022945Z
LAST-MODIFIED:20250524T033802Z
UID:5427-1756668600-1756675800@roslyndowntown.org
SUMMARY:"IF" - The Roslyn Yard Summer Nights - Outdoor Movie
DESCRIPTION:FREE ADMISSION!\nSunday\, August 31\, 2025 – Outdoor Movie IF @ The Roslyn Yard – at Sunset (7:30 p.m.) \nIF (2024) – PG\nA young girl who goes through a difficult experience begins to see everyone’s imaginary friends who have been left behind as their real-life friends have grown up. Starring Cailey Fleming\, Ryan Reynolds and John Krasinski . \nBrought to you by Basecamp Books and the Roslyn Downtown Association.
URL:https://roslyndowntown.org/event/if-the-roslyn-yard-summer-nights-outdoor-movie/
LOCATION:The Roslyn Yard\, 104 W Pennsylvania Ave\, Roslyn\, WA\, 98941
CATEGORIES:Community Events,Entertainment
ATTACH;FMTTYPE=image/jpeg:https://roslyndowntown.org/wp-content/uploads/2025/05/Roslyn-Yard-Summer-Movie-Nights-2025.jpg
END:VEVENT
END:VCALENDAR