BEGIN:VCALENDAR
VERSION:2.0
PRODID:-//Roslyn Downtown Association - ECPv6.15.20//NONSGML v1.0//EN
CALSCALE:GREGORIAN
METHOD:PUBLISH
X-WR-CALNAME:Roslyn Downtown Association
X-ORIGINAL-URL:https://roslyndowntown.org
X-WR-CALDESC:Events for Roslyn Downtown Association
REFRESH-INTERVAL;VALUE=DURATION:PT1H
X-Robots-Tag:noindex
X-PUBLISHED-TTL:PT1H
BEGIN:VTIMEZONE
TZID:America/Los_Angeles
BEGIN:DAYLIGHT
TZOFFSETFROM:-0800
TZOFFSETTO:-0700
TZNAME:PDT
DTSTART:20240310T100000
END:DAYLIGHT
BEGIN:STANDARD
TZOFFSETFROM:-0700
TZOFFSETTO:-0800
TZNAME:PST
DTSTART:20241103T090000
END:STANDARD
BEGIN:DAYLIGHT
TZOFFSETFROM:-0800
TZOFFSETTO:-0700
TZNAME:PDT
DTSTART:20250309T100000
END:DAYLIGHT
BEGIN:STANDARD
TZOFFSETFROM:-0700
TZOFFSETTO:-0800
TZNAME:PST
DTSTART:20251102T090000
END:STANDARD
BEGIN:DAYLIGHT
TZOFFSETFROM:-0800
TZOFFSETTO:-0700
TZNAME:PDT
DTSTART:20260308T100000
END:DAYLIGHT
BEGIN:STANDARD
TZOFFSETFROM:-0700
TZOFFSETTO:-0800
TZNAME:PST
DTSTART:20261101T090000
END:STANDARD
END:VTIMEZONE
BEGIN:VEVENT
DTSTART;TZID=America/Los_Angeles:20250906T193000
DTEND;TZID=America/Los_Angeles:20250906T213000
DTSTAMP:20260424T025303
CREATED:20250524T023445Z
LAST-MODIFIED:20250524T033806Z
UID:5430-1757187000-1757194200@roslyndowntown.org
SUMMARY:"SNOW WHITE" - The Roslyn Yard Summer Nights - Outdoor Movie
DESCRIPTION:FREE ADMISSION!\nSaturday\, September 6\, 2025 – Outdoor Movie Snow White @ The Roslyn Yard – at Sunset (7:30 p.m.) \nSnow White (2025) – PG\nA princess joins forces with seven dwarfs and a group of rebels to liberate her kingdom from her cruel stepmother the Evil Queen. Starring Rachel Zegler\, Emilia Faucher and Gal Gadot. \nBrought to you by Basecamp Books and the Roslyn Downtown Association.
URL:https://roslyndowntown.org/event/snow-white-the-roslyn-yard-summer-nights-outdoor-movie/
LOCATION:The Roslyn Yard\, 104 W Pennsylvania Ave\, Roslyn\, WA\, 98941
CATEGORIES:Community Events,Entertainment
ATTACH;FMTTYPE=image/jpeg:https://roslyndowntown.org/wp-content/uploads/2025/05/Roslyn-Yard-Summer-Movie-Nights-2025.jpg
END:VEVENT
BEGIN:VEVENT
DTSTART;TZID=America/Los_Angeles:20250912T192000
DTEND;TZID=America/Los_Angeles:20250912T212000
DTSTAMP:20260424T025303
CREATED:20250524T023952Z
LAST-MODIFIED:20250524T033811Z
UID:5433-1757704800-1757712000@roslyndowntown.org
SUMMARY:"BARBIE" - The Roslyn Yard Summer Nights - Outdoor Movie
DESCRIPTION:FREE ADMISSION!\nFriday\, September 12\, 2025 – Outdoor Movie Barbie @ The Roslyn Yard – at Sunset (7:20 p.m.) \nBarbie (2023) – PG-13\nBarbie and Ken are having the time of their lives in the seemingly perfect world of Barbie Land. However\, when they get a chance to go to the outside world\, they soon discover the joys and perils of living among regular humans. Starring Margot Robbie\, Ryan Gosling and Issa Rae. \nBrought to you by Basecamp Books and the Roslyn Downtown Association.
URL:https://roslyndowntown.org/event/barbie-the-roslyn-yard-summer-nights-outdoor-movie/
LOCATION:The Roslyn Yard\, 104 W Pennsylvania Ave\, Roslyn\, WA\, 98941
CATEGORIES:Community Events,Entertainment
ATTACH;FMTTYPE=image/jpeg:https://roslyndowntown.org/wp-content/uploads/2025/05/Roslyn-Yard-Summer-Movie-Nights-2025.jpg
END:VEVENT
BEGIN:VEVENT
DTSTART;TZID=America/Los_Angeles:20250913T192000
DTEND;TZID=America/Los_Angeles:20250913T212000
DTSTAMP:20260424T025303
CREATED:20250524T024420Z
LAST-MODIFIED:20250524T033816Z
UID:5436-1757791200-1757798400@roslyndowntown.org
SUMMARY:"MUFASA: THE LION KING" - The Roslyn Yard Summer Nights - Outdoor Movie
DESCRIPTION:FREE ADMISSION!\nSaturday\, September 13\, 2025 – Outdoor Movie Mufasa: The Lion King @ The Roslyn Yard – at Sunset (7:20 p.m.) \nMufasa: The Lion King (2025) – PG\nMufasa\, a cub lost and alone\, meets a sympathetic lion named Taka\, the heir to a royal bloodline. The chance meeting sets in motion an expansive journey of a group of misfits searching for their destiny. Starring the voices of Aaron Pierre\, Kelvin Harrison Jr.\, and Tiffany Boone. \nBrought to you by Basecamp Books and the Roslyn Downtown Association.
URL:https://roslyndowntown.org/event/mufasa-the-roslyn-yard-summer-nights-outdoor-movie/
LOCATION:The Roslyn Yard\, 104 W Pennsylvania Ave\, Roslyn\, WA\, 98941
CATEGORIES:Community Events,Entertainment
ATTACH;FMTTYPE=image/jpeg:https://roslyndowntown.org/wp-content/uploads/2025/05/Roslyn-Yard-Summer-Movie-Nights-2025.jpg
END:VEVENT
BEGIN:VEVENT
DTSTART;TZID=America/Los_Angeles:20250919T191000
DTEND;TZID=America/Los_Angeles:20250919T211000
DTSTAMP:20260424T025303
CREATED:20250524T024928Z
LAST-MODIFIED:20250524T033820Z
UID:5439-1758309000-1758316200@roslyndowntown.org
SUMMARY:"THE BOYS IN THE BOAT" - The Roslyn Yard Summer Nights - Outdoor Movie
DESCRIPTION:FREE ADMISSION!\nFriday\, September 19\, 2025 – Outdoor Movie The Boys in the Boat @ The Roslyn Yard – at Sunset (7:10 p.m.) \nThe Boys in the Boat (2023) – PG-13\nA 1930s-set story centered on the University of Washington’s rowing team\, from their Depression-era beginnings. Starring Joel Edgerton\, Callum Turner and Peter Guinness \nBrought to you by Basecamp Books and the Roslyn Downtown Association.
URL:https://roslyndowntown.org/event/boys-in-the-boat-the-roslyn-yard-summer-nights-outdoor-movie/
LOCATION:The Roslyn Yard\, 104 W Pennsylvania Ave\, Roslyn\, WA\, 98941
CATEGORIES:Community Events,Entertainment
ATTACH;FMTTYPE=image/jpeg:https://roslyndowntown.org/wp-content/uploads/2025/05/Roslyn-Yard-Summer-Movie-Nights-2025.jpg
END:VEVENT
BEGIN:VEVENT
DTSTART;TZID=America/Los_Angeles:20250920T191000
DTEND;TZID=America/Los_Angeles:20250920T211000
DTSTAMP:20260424T025303
CREATED:20250524T025336Z
LAST-MODIFIED:20250524T033649Z
UID:5442-1758395400-1758402600@roslyndowntown.org
SUMMARY:"WICKED" - The Roslyn Yard Summer Nights - Outdoor Movie
DESCRIPTION:FREE ADMISSION!\nSaturday\, September 20\, 2025 – Outdoor Movie Wicked @ The Roslyn Yard – at Sunset (7:10 p.m.) \nWicked (2024) – PG\nElphaba\, a young woman ridiculed for her green skin\, and Galinda\, a popular girl\, become friends at Shiz University in the Land of Oz. After an encounter with the Wonderful Wizard of Oz\, their friendship reaches a crossroads. Starring Cynthia Erivo\, Arianna Grande\, and Jeff Goldblum \nBrought to you by Basecamp Books and the Roslyn Downtown Association.
URL:https://roslyndowntown.org/event/wicked-the-roslyn-yard-summer-nights-outdoor-movie/
LOCATION:The Roslyn Yard\, 104 W Pennsylvania Ave\, Roslyn\, WA\, 98941
CATEGORIES:Community Events,Entertainment
ATTACH;FMTTYPE=image/jpeg:https://roslyndowntown.org/wp-content/uploads/2025/05/Roslyn-Yard-Summer-Movie-Nights-2025.jpg
END:VEVENT
END:VCALENDAR