BEGIN:VCALENDAR
VERSION:2.0
PRODID:-//Roslyn Downtown Association - ECPv6.15.20//NONSGML v1.0//EN
CALSCALE:GREGORIAN
METHOD:PUBLISH
X-ORIGINAL-URL:https://roslyndowntown.org
X-WR-CALDESC:Events for Roslyn Downtown Association
REFRESH-INTERVAL;VALUE=DURATION:PT1H
X-Robots-Tag:noindex
X-PUBLISHED-TTL:PT1H
BEGIN:VTIMEZONE
TZID:America/Los_Angeles
BEGIN:DAYLIGHT
TZOFFSETFROM:-0800
TZOFFSETTO:-0700
TZNAME:PDT
DTSTART:20240310T100000
END:DAYLIGHT
BEGIN:STANDARD
TZOFFSETFROM:-0700
TZOFFSETTO:-0800
TZNAME:PST
DTSTART:20241103T090000
END:STANDARD
BEGIN:DAYLIGHT
TZOFFSETFROM:-0800
TZOFFSETTO:-0700
TZNAME:PDT
DTSTART:20250309T100000
END:DAYLIGHT
BEGIN:STANDARD
TZOFFSETFROM:-0700
TZOFFSETTO:-0800
TZNAME:PST
DTSTART:20251102T090000
END:STANDARD
BEGIN:DAYLIGHT
TZOFFSETFROM:-0800
TZOFFSETTO:-0700
TZNAME:PDT
DTSTART:20260308T100000
END:DAYLIGHT
BEGIN:STANDARD
TZOFFSETFROM:-0700
TZOFFSETTO:-0800
TZNAME:PST
DTSTART:20261101T090000
END:STANDARD
END:VTIMEZONE
BEGIN:VEVENT
DTSTART;TZID=America/Los_Angeles:20251004T130000
DTEND;TZID=America/Los_Angeles:20251004T141500
DTSTAMP:20260424T010523
CREATED:20250129T235659Z
LAST-MODIFIED:20251003T080844Z
UID:5195-1759582800-1759587300@roslyndowntown.org
SUMMARY:Yakama Nation Creators Law Ceremony 2025
DESCRIPTION:Families and friends – please join The Roslyn Downtown Association at the  Yakama Nation Creators Law Ceremony – \nSaturday\, Oct. 4\, 1:00-2:15 p.m. \nJoin us for a Yakama Nation Wild Rose Dance Group and Drummer Performance and a Narrative of the Creators Law \nat the City of Roslyn Pioneer Park (aka Runje Field) centered around the Creators Law Sculpture (feel free to bring lawn chairs or blankets to sit on the lawn) \nLearn more background at roslyndowntown.org/yakama-nation
URL:https://roslyndowntown.org/event/yakama-nation-creators-law-ceremony-2025/
LOCATION:Roslyn Pioneer Park\, N. 3rd Street\, Roslyn\, WA\, 98941
CATEGORIES:Community Events,Festivals and Holiday Celebrations
ATTACH;FMTTYPE=image/jpeg:https://roslyndowntown.org/wp-content/uploads/2025/01/RDA-Creators-Law-ceremony-flyer-2025REV-scaled.jpg
ORGANIZER;CN="Roslyn Downtown Association":MAILTO:info@roslyndowntown.org
END:VEVENT
END:VCALENDAR