BEGIN:VCALENDAR
VERSION:2.0
PRODID:-//Roslyn Downtown Association - ECPv6.15.20//NONSGML v1.0//EN
CALSCALE:GREGORIAN
METHOD:PUBLISH
X-WR-CALNAME:Roslyn Downtown Association
X-ORIGINAL-URL:https://roslyndowntown.org
X-WR-CALDESC:Events for Roslyn Downtown Association
REFRESH-INTERVAL;VALUE=DURATION:PT1H
X-Robots-Tag:noindex
X-PUBLISHED-TTL:PT1H
BEGIN:VTIMEZONE
TZID:America/Los_Angeles
BEGIN:DAYLIGHT
TZOFFSETFROM:-0800
TZOFFSETTO:-0700
TZNAME:PDT
DTSTART:20250309T100000
END:DAYLIGHT
BEGIN:STANDARD
TZOFFSETFROM:-0700
TZOFFSETTO:-0800
TZNAME:PST
DTSTART:20251102T090000
END:STANDARD
BEGIN:DAYLIGHT
TZOFFSETFROM:-0800
TZOFFSETTO:-0700
TZNAME:PDT
DTSTART:20260308T100000
END:DAYLIGHT
BEGIN:STANDARD
TZOFFSETFROM:-0700
TZOFFSETTO:-0800
TZNAME:PST
DTSTART:20261101T090000
END:STANDARD
BEGIN:DAYLIGHT
TZOFFSETFROM:-0800
TZOFFSETTO:-0700
TZNAME:PDT
DTSTART:20270314T100000
END:DAYLIGHT
BEGIN:STANDARD
TZOFFSETFROM:-0700
TZOFFSETTO:-0800
TZNAME:PST
DTSTART:20271107T090000
END:STANDARD
END:VTIMEZONE
BEGIN:VEVENT
DTSTART;TZID=America/Los_Angeles:20260503T110000
DTEND;TZID=America/Los_Angeles:20260503T130000
DTSTAMP:20260423T155619
CREATED:20260408T134018Z
LAST-MODIFIED:20260408T134048Z
UID:7178-1777806000-1777813200@roslyndowntown.org
SUMMARY:Kathleen Michael Memorial High School Scholarship Fund  Tea & Brunch Social 2026
DESCRIPTION:Kathleen Michael Memorial High School Scholarship Fund \nTea & Brunch Social  \nSunday\, May 3rd \n11am \nRoslyn Eagles – 107 N 2nd St. \nFeaturing traditional tea favorites: \nFinger sandwiches\, quiches\, savory spreads\, sweets\, tea and lemonade \nGuest Speaker Corrie Reagan ~ Community Health \nRDA Raffle Basket Drawing \nAdults & Teens $25 ~ Youth (under 12) Free \nLimited Seating – purchase tickets at the bar \nProceeds benefit the Roslyn Eagles Auxiliary Kathleen Michael Memorial High School Scholarship Fund
URL:https://roslyndowntown.org/event/scholarship-fund-tea-brunch-social-2026/
LOCATION:Roslyn Eagles #696\, 107 N 2nd St\, Roslyn\, WA\, 98941
CATEGORIES:Community Events
ATTACH;FMTTYPE=image/png:https://roslyndowntown.org/wp-content/uploads/2026/04/Tea-Party-Flyer-2026-2.png
END:VEVENT
BEGIN:VEVENT
DTSTART;TZID=America/Los_Angeles:20260505T150000
DTEND;TZID=America/Los_Angeles:20260505T173000
DTSTAMP:20260423T155619
CREATED:20260220T051612Z
LAST-MODIFIED:20260221T061011Z
UID:6884-1777993200-1778002200@roslyndowntown.org
SUMMARY:RDA Roslyn Cinco de Mayo Mariachi Band @ the Roslyn Yard - 2026
DESCRIPTION:May 5 – RDA Roslyn Cinco de Mayo Mariachi Band @ the Roslyn Yard\,  3:00 – 5:30 PM\, performing at the Roslyn Yard and around the downtown. \nCome to Roslyn to dine and have fun! \n 
URL:https://roslyndowntown.org/event/rda-roslyn-cinco-de-mayo-2026/
LOCATION:The Roslyn Yard\, 104 W Pennsylvania Ave\, Roslyn\, WA\, 98941
CATEGORIES:Community Events,Festivals and Holiday Celebrations,Music
ATTACH;FMTTYPE=image/png:https://roslyndowntown.org/wp-content/uploads/2026/02/Cinco-De-Mayo-flyer-2026-scaled.png
ORGANIZER;CN="Roslyn Downtown Association":MAILTO:info@roslyndowntown.org
END:VEVENT
BEGIN:VEVENT
DTSTART;TZID=America/Los_Angeles:20260524T090000
DTEND;TZID=America/Los_Angeles:20260524T120000
DTSTAMP:20260423T155619
CREATED:20260220T053645Z
LAST-MODIFIED:20260220T053645Z
UID:6891-1779613200-1779624000@roslyndowntown.org
SUMMARY:Roslyn Riders Prize Run
DESCRIPTION:May 24\, 2026—Roslyn Riders Poker Run 9:00 AM—Saddle up and enjoy the fun with the Roslyn Riders! \nRide starts & ends at our clubgrounds (70 Martin Road\, Roslyn\, WA). First riders out at 9 am\, last Riders out before noon. Ride is approx. 7 miles long\, 2 1/2 hours long. Registration is in the clubhouse 9-11:45\, cash or check only\, $6/hand or 4/$20. Prizes will be given out around 3:30. Food will be available. Questions\, email Darcy at bators@msn.com or ask on our Facebook page.
URL:https://roslyndowntown.org/event/roslyn-riders-prize-run/
LOCATION:Roslyn Riders\, 70 Martin Rd\, Roslyn\, WA\, 98941
CATEGORIES:Community Events
ATTACH;FMTTYPE=image/png:https://roslyndowntown.org/wp-content/uploads/2026/02/trail-riders.png
END:VEVENT
END:VCALENDAR