BEGIN:VCALENDAR
VERSION:2.0
PRODID:-//Roslyn Downtown Association - ECPv6.15.20//NONSGML v1.0//EN
CALSCALE:GREGORIAN
METHOD:PUBLISH
X-WR-CALNAME:Roslyn Downtown Association
X-ORIGINAL-URL:https://roslyndowntown.org
X-WR-CALDESC:Events for Roslyn Downtown Association
REFRESH-INTERVAL;VALUE=DURATION:PT1H
X-Robots-Tag:noindex
X-PUBLISHED-TTL:PT1H
BEGIN:VTIMEZONE
TZID:America/Los_Angeles
BEGIN:DAYLIGHT
TZOFFSETFROM:-0800
TZOFFSETTO:-0700
TZNAME:PDT
DTSTART:20250309T100000
END:DAYLIGHT
BEGIN:STANDARD
TZOFFSETFROM:-0700
TZOFFSETTO:-0800
TZNAME:PST
DTSTART:20251102T090000
END:STANDARD
BEGIN:DAYLIGHT
TZOFFSETFROM:-0800
TZOFFSETTO:-0700
TZNAME:PDT
DTSTART:20260308T100000
END:DAYLIGHT
BEGIN:STANDARD
TZOFFSETFROM:-0700
TZOFFSETTO:-0800
TZNAME:PST
DTSTART:20261101T090000
END:STANDARD
BEGIN:DAYLIGHT
TZOFFSETFROM:-0800
TZOFFSETTO:-0700
TZNAME:PDT
DTSTART:20270314T100000
END:DAYLIGHT
BEGIN:STANDARD
TZOFFSETFROM:-0700
TZOFFSETTO:-0800
TZNAME:PST
DTSTART:20271107T090000
END:STANDARD
END:VTIMEZONE
BEGIN:VEVENT
DTSTART;TZID=America/Los_Angeles:20260614T090000
DTEND;TZID=America/Los_Angeles:20260614T130000
DTSTAMP:20260423T173441
CREATED:20260220T105240Z
LAST-MODIFIED:20260220T105240Z
UID:6946-1781427600-1781442000@roslyndowntown.org
SUMMARY:Roslyn Farmers Market - (Sundays\, June 14-Sept. 13\, 2026)
DESCRIPTION:June 14 – Roslyn Farmers Market (every Sunday thru Sept. 13th) – 9am-1pm \nPennsylvania Avenue\, Downtown Roslyn \nroslynfarmersmarket.org \nRoslyn Farmers Market Facebook Page \nShort video Reel highlighting the market (Central Washington Outdoor) \nThe Roslyn Farmers Market is a market place for farmers\, specialty food producers\, artisan/crafters\, food preparers and entertainers.
URL:https://roslyndowntown.org/event/roslyn-farmers-market-061426/
LOCATION:Downtown Roslyn\, WA\, 98941
CATEGORIES:Community Events,Downtown Events
ATTACH;FMTTYPE=image/jpeg:https://roslyndowntown.org/wp-content/uploads/2026/02/Roslyn-Farmers-Market-2026.jpg
END:VEVENT
BEGIN:VEVENT
DTSTART;TZID=America/Los_Angeles:20260618T080000
DTEND;TZID=America/Los_Angeles:20260621T170000
DTSTAMP:20260423T173441
CREATED:20260220T054744Z
LAST-MODIFIED:20260408T081301Z
UID:6895-1781769600-1782061200@roslyndowntown.org
SUMMARY:Roslyn Vintage Trailer Rally 2026
DESCRIPTION:Please join us June 18th -21st for another fun-filled time camping with old and new friends in the heart of the Cascade Mountains. Dave and Heather May will be your new hosts this year and look forward to seeing you there. Pre-registration starts February 2026! \nClick here to register.
URL:https://roslyndowntown.org/event/roslyn-vintage-trailer-rally-2026/
LOCATION:Roslyn Pioneer Park\, N. 3rd Street\, Roslyn\, WA\, 98941
CATEGORIES:Community Events
ATTACH;FMTTYPE=image/png:https://roslyndowntown.org/wp-content/uploads/2026/02/rv1-Roslyn_Vintage-Trialer-Trailer-Rally-2026-FLYER.png
END:VEVENT
BEGIN:VEVENT
DTSTART;TZID=America/Los_Angeles:20260621T090000
DTEND;TZID=America/Los_Angeles:20260621T130000
DTSTAMP:20260423T173441
CREATED:20260220T105419Z
LAST-MODIFIED:20260220T105419Z
UID:6951-1782032400-1782046800@roslyndowntown.org
SUMMARY:Roslyn Farmers Market - (Sundays\, June 14-Sept. 13\, 2026)
DESCRIPTION:June 21\, 2026 – Roslyn Farmers Market (every Sunday thru Sept. 13th) – 9am-1pm \nPennsylvania Avenue\, Downtown Roslyn \nroslynfarmersmarket.org \nRoslyn Farmers Market Facebook Page \nShort video Reel highlighting the market (Central Washington Outdoor) \nThe Roslyn Farmers Market is a market place for farmers\, specialty food producers\, artisan/crafters\, food preparers and entertainers.
URL:https://roslyndowntown.org/event/roslyn-farmers-market-062126/
LOCATION:Downtown Roslyn\, WA\, 98941
CATEGORIES:Community Events,Downtown Events
ATTACH;FMTTYPE=image/jpeg:https://roslyndowntown.org/wp-content/uploads/2026/02/Roslyn-Farmers-Market-2026.jpg
END:VEVENT
BEGIN:VEVENT
DTSTART;VALUE=DATE:20260626
DTEND;VALUE=DATE:20260629
DTSTAMP:20260423T173441
CREATED:20260319T020107Z
LAST-MODIFIED:20260319T020107Z
UID:7120-1782432000-1782691199@roslyndowntown.org
SUMMARY:Suncadia Social Grand Opening
DESCRIPTION:Opening in 2026\, Suncadia Social is a welcoming collection of shops and gathering spots just a short stroll from The Lodge at Suncadia. Enjoy a cozy cup of coffee\, browse local goods\, or share a meal with friends—each space is designed to spark conversation\, connection\, and a true sense of community. Learn more at suncadia.com/suncadia-social/ \nInteractive Map
URL:https://roslyndowntown.org/event/suncadia-social-grand-opening/
LOCATION:Suncadia Social
CATEGORIES:Community Events
ATTACH;FMTTYPE=image/png:https://roslyndowntown.org/wp-content/uploads/2026/03/Suncadia-Social-Map.png
END:VEVENT
BEGIN:VEVENT
DTSTART;TZID=America/Los_Angeles:20260628T090000
DTEND;TZID=America/Los_Angeles:20260628T130000
DTSTAMP:20260423T173441
CREATED:20260220T105452Z
LAST-MODIFIED:20260220T105452Z
UID:6953-1782637200-1782651600@roslyndowntown.org
SUMMARY:Roslyn Farmers Market - (Sundays\, June 14-Sept. 13\, 2026)
DESCRIPTION:June 28\, 2026 – Roslyn Farmers Market (every Sunday thru Sept. 13th) – 9am-1pm \nPennsylvania Avenue\, Downtown Roslyn \nroslynfarmersmarket.org \nRoslyn Farmers Market Facebook Page \nShort video Reel highlighting the market (Central Washington Outdoor) \nThe Roslyn Farmers Market is a market place for farmers\, specialty food producers\, artisan/crafters\, food preparers and entertainers.
URL:https://roslyndowntown.org/event/roslyn-farmers-market-062826/
LOCATION:Downtown Roslyn\, WA\, 98941
CATEGORIES:Community Events,Downtown Events
ATTACH;FMTTYPE=image/jpeg:https://roslyndowntown.org/wp-content/uploads/2026/02/Roslyn-Farmers-Market-2026.jpg
END:VEVENT
END:VCALENDAR