BEGIN:VCALENDAR
VERSION:2.0
PRODID:-//Roslyn Downtown Association - ECPv6.15.20//NONSGML v1.0//EN
CALSCALE:GREGORIAN
METHOD:PUBLISH
X-WR-CALNAME:Roslyn Downtown Association
X-ORIGINAL-URL:https://roslyndowntown.org
X-WR-CALDESC:Events for Roslyn Downtown Association
REFRESH-INTERVAL;VALUE=DURATION:PT1H
X-Robots-Tag:noindex
X-PUBLISHED-TTL:PT1H
BEGIN:VTIMEZONE
TZID:America/Los_Angeles
BEGIN:DAYLIGHT
TZOFFSETFROM:-0800
TZOFFSETTO:-0700
TZNAME:PDT
DTSTART:20250309T100000
END:DAYLIGHT
BEGIN:STANDARD
TZOFFSETFROM:-0700
TZOFFSETTO:-0800
TZNAME:PST
DTSTART:20251102T090000
END:STANDARD
BEGIN:DAYLIGHT
TZOFFSETFROM:-0800
TZOFFSETTO:-0700
TZNAME:PDT
DTSTART:20260308T100000
END:DAYLIGHT
BEGIN:STANDARD
TZOFFSETFROM:-0700
TZOFFSETTO:-0800
TZNAME:PST
DTSTART:20261101T090000
END:STANDARD
BEGIN:DAYLIGHT
TZOFFSETFROM:-0800
TZOFFSETTO:-0700
TZNAME:PDT
DTSTART:20270314T100000
END:DAYLIGHT
BEGIN:STANDARD
TZOFFSETFROM:-0700
TZOFFSETTO:-0800
TZNAME:PST
DTSTART:20271107T090000
END:STANDARD
END:VTIMEZONE
BEGIN:VEVENT
DTSTART;TZID=America/Los_Angeles:20260815T200000
DTEND;TZID=America/Los_Angeles:20260815T213700
DTSTAMP:20260423T143842
CREATED:20260318T165326Z
LAST-MODIFIED:20260318T221607Z
UID:6942-1786824000-1786829820@roslyndowntown.org
SUMMARY:"SCHOOL OF ROCK" - The Roslyn Yard Summer Nights - Outdoor Movie - 2026
DESCRIPTION:Outdoor movies at the Roslyn Yard\n \nFREE ADMISSION!\nSaturday\, August 15\, 2026 – Outdoor Movie SCHOOL OF ROCK @ The Roslyn Yard – at Sunset (8:00 p.m.) \n97 minutes \nSchool of Rock (2003) – PG-13\nAfter being kicked out of his rock band\, guitarist slacker Dewey Finn faces a mountain of debts and depression. He shares an apartment with his best friend\, Ned Schneebly\, an old band member who is now a substitute teacher. Dewey pretends to be his roommate Ned and accepts a job as a substitute teacher at a snobbish private elementary school where his attitude and hijinks have a powerful result on his students. He learns they are talented young musicians\, and he decides to form a rock band with them to win the $20\,000 prize money in a local band contest. Once Dewey wins a competition called “Battle of the Bands”\, the prize money would solve his financial problems and put him back in the rock music spotlight. \nBrought to you by Basecamp Books and the Roslyn Downtown Association.
URL:https://roslyndowntown.org/event/roslyn-yard-summer-nights-outdoor-movie-1-2026/
LOCATION:The Roslyn Yard\, 104 W Pennsylvania Ave\, Roslyn\, WA\, 98941
CATEGORIES:Community Events,Entertainment
ATTACH;FMTTYPE=image/png:https://roslyndowntown.org/wp-content/uploads/2026/03/Roslyn-Summer-Movie-Nights-2026-flyer-1.png
END:VEVENT
BEGIN:VEVENT
DTSTART;TZID=America/Los_Angeles:20260822T200000
DTEND;TZID=America/Los_Angeles:20260822T213800
DTSTAMP:20260423T143842
CREATED:20260318T171456Z
LAST-MODIFIED:20260318T221745Z
UID:7068-1787428800-1787434680@roslyndowntown.org
SUMMARY:"THE SUPER MARIO GALAXY MOVIE (2026)" - The Roslyn Yard Summer Nights - Outdoor Movie - 2026
DESCRIPTION:Outdoor movies at the Roslyn Yard\n \nFREE ADMISSION!\nSaturday\, August 22\, 2026 – Outdoor Movie THE SUPER MARIO GALAXY MOVIE (2026) @ The Roslyn Yard – at Sunset (8:00 p.m.) \n98 minutes \nThe Super Mario Galaxy Movie (2026) – PG-13\nMario ventures into space\, exploring cosmic worlds and tackling galactic challenges far from the familiar Mushroom Kingdom. \n\nCast: \n\n\nChris Pratt\nAnya Taylor-Joy\nCharlie Day\nJack Black\nKeegan-Michael Key\nBenny Safdie\nDonald Glover\nIssa Rae\nLuis Guzmán\nKevin Michael Richardson\nBrie Larson \n\nBrought to you by Basecamp Books and the Roslyn Downtown Association.
URL:https://roslyndowntown.org/event/the-super-mario-galaxy-movie-2026-the-roslyn-yard-summer-nights-outdoor-movie-2026/
LOCATION:The Roslyn Yard\, 104 W Pennsylvania Ave\, Roslyn\, WA\, 98941
CATEGORIES:Community Events,Entertainment
ATTACH;FMTTYPE=image/png:https://roslyndowntown.org/wp-content/uploads/2026/03/Roslyn-Summer-Movie-Nights-2026-flyer-1.png
END:VEVENT
BEGIN:VEVENT
DTSTART;TZID=America/Los_Angeles:20260829T195000
DTEND;TZID=America/Los_Angeles:20260829T214200
DTSTAMP:20260423T143842
CREATED:20260318T172353Z
LAST-MODIFIED:20260318T221827Z
UID:7071-1788033000-1788039720@roslyndowntown.org
SUMMARY:"ENCANTO" - The Roslyn Yard Summer Nights - Outdoor Movie - 2026
DESCRIPTION:Outdoor movies at the Roslyn Yard\n \nFREE ADMISSION!\nSaturday\, August 29\, 2026 – Outdoor Movie ENCANTO (2021) @ The Roslyn Yard – at Sunset (7:50 p.m.) \n112 minutes \nEncanto (2021) – PG\nEncanto tells the tale of an extraordinary family\, the Madrigals\, who live hidden in the mountains of Colombia\, in a magical house\, in a vibrant town\, in a wondrous\, charmed place called an Encanto. The magic of the Encanto has blessed every child in the family with a unique gift from super strength to the power to heal-every child except one\, Mirabel. But when she discovers that the magic surrounding the Encanto is in danger\, Mirabel decides that she\, the only ordinary Madrigal\, might just be her exceptional family’s last hope. \nBrought to you by Basecamp Books and the Roslyn Downtown Association.
URL:https://roslyndowntown.org/event/encanto-the-roslyn-yard-summer-nights-outdoor-movie-2026-2/
LOCATION:The Roslyn Yard\, 104 W Pennsylvania Ave\, Roslyn\, WA\, 98941
CATEGORIES:Community Events,Entertainment
ATTACH;FMTTYPE=image/png:https://roslyndowntown.org/wp-content/uploads/2026/03/Roslyn-Summer-Movie-Nights-2026-flyer-1.png
END:VEVENT
END:VCALENDAR