BEGIN:VCALENDAR
VERSION:2.0
PRODID:-//Roslyn Downtown Association - ECPv6.15.20//NONSGML v1.0//EN
CALSCALE:GREGORIAN
METHOD:PUBLISH
X-ORIGINAL-URL:https://roslyndowntown.org
X-WR-CALDESC:Events for Roslyn Downtown Association
REFRESH-INTERVAL;VALUE=DURATION:PT1H
X-Robots-Tag:noindex
X-PUBLISHED-TTL:PT1H
BEGIN:VTIMEZONE
TZID:America/Los_Angeles
BEGIN:DAYLIGHT
TZOFFSETFROM:-0800
TZOFFSETTO:-0700
TZNAME:PDT
DTSTART:20250309T100000
END:DAYLIGHT
BEGIN:STANDARD
TZOFFSETFROM:-0700
TZOFFSETTO:-0800
TZNAME:PST
DTSTART:20251102T090000
END:STANDARD
BEGIN:DAYLIGHT
TZOFFSETFROM:-0800
TZOFFSETTO:-0700
TZNAME:PDT
DTSTART:20260308T100000
END:DAYLIGHT
BEGIN:STANDARD
TZOFFSETFROM:-0700
TZOFFSETTO:-0800
TZNAME:PST
DTSTART:20261101T090000
END:STANDARD
BEGIN:DAYLIGHT
TZOFFSETFROM:-0800
TZOFFSETTO:-0700
TZNAME:PDT
DTSTART:20270314T100000
END:DAYLIGHT
BEGIN:STANDARD
TZOFFSETFROM:-0700
TZOFFSETTO:-0800
TZNAME:PST
DTSTART:20271107T090000
END:STANDARD
END:VTIMEZONE
BEGIN:VEVENT
DTSTART;TZID=America/Los_Angeles:20261127T100000
DTEND;TZID=America/Los_Angeles:20261127T193000
DTSTAMP:20260423T193647
CREATED:20260220T093249Z
LAST-MODIFIED:20260220T093249Z
UID:6928-1795773600-1795807800@roslyndowntown.org
SUMMARY:Roslyn Old Town Christmas 2026
DESCRIPTION:Roslyn Old Town Christmas 2026!\nEvent Overview:\n🎄✨ It’s the countdown to the most wonderful time of the year! Join us for our Annual  Old Town Christmas Roslyn Style. You will be thrilled with a festive experience to cheer in the Christmas season. \nStarting at 10:00 a.m.\, enjoy activities downtown throughout the day like live music\, leading up to the Christmas program and the exciting countdown to lighting the Christmas tree\, followed by the Yakima Christmas Trucks parade. \nSave the date and come one\, come all\, to kick off a Merry Christmas season! 🎅🎁 \n \n  \nVisit Roslyn Businesses for SPECIAL OFFERS during Roslyn Old Town Christmas!
URL:https://roslyndowntown.org/event/roslyn-old-town-christmas-2026/
LOCATION:Downtown Roslyn\, WA\, 98941
CATEGORIES:Community Events,Downtown Events,Entertainment,Festivals and Holiday Celebrations
ATTACH;FMTTYPE=image/png:https://roslyndowntown.org/wp-content/uploads/2026/02/Roslyn-Old-Town-Christmas-preview.png
ORGANIZER;CN="Roslyn Downtown Association":MAILTO:info@roslyndowntown.org
END:VEVENT
END:VCALENDAR