BEGIN:VCALENDAR
VERSION:2.0
PRODID:-//Roslyn Downtown Association - ECPv6.15.20//NONSGML v1.0//EN
CALSCALE:GREGORIAN
METHOD:PUBLISH
X-WR-CALNAME:Roslyn Downtown Association
X-ORIGINAL-URL:https://roslyndowntown.org
X-WR-CALDESC:Events for Roslyn Downtown Association
REFRESH-INTERVAL;VALUE=DURATION:PT1H
X-Robots-Tag:noindex
X-PUBLISHED-TTL:PT1H
BEGIN:VTIMEZONE
TZID:America/Los_Angeles
BEGIN:DAYLIGHT
TZOFFSETFROM:-0800
TZOFFSETTO:-0700
TZNAME:PDT
DTSTART:20250309T100000
END:DAYLIGHT
BEGIN:STANDARD
TZOFFSETFROM:-0700
TZOFFSETTO:-0800
TZNAME:PST
DTSTART:20251102T090000
END:STANDARD
BEGIN:DAYLIGHT
TZOFFSETFROM:-0800
TZOFFSETTO:-0700
TZNAME:PDT
DTSTART:20260308T100000
END:DAYLIGHT
BEGIN:STANDARD
TZOFFSETFROM:-0700
TZOFFSETTO:-0800
TZNAME:PST
DTSTART:20261101T090000
END:STANDARD
BEGIN:DAYLIGHT
TZOFFSETFROM:-0800
TZOFFSETTO:-0700
TZNAME:PDT
DTSTART:20270314T100000
END:DAYLIGHT
BEGIN:STANDARD
TZOFFSETFROM:-0700
TZOFFSETTO:-0800
TZNAME:PST
DTSTART:20271107T090000
END:STANDARD
END:VTIMEZONE
BEGIN:VEVENT
DTSTART;TZID=America/Los_Angeles:20261003T130000
DTEND;TZID=America/Los_Angeles:20261003T141500
DTSTAMP:20260423T193116
CREATED:20260220T084108Z
LAST-MODIFIED:20260318T090905Z
UID:6919-1791032400-1791036900@roslyndowntown.org
SUMMARY:Yakama Nation - Sacred Acknowlegement of the Creators Law 2026
DESCRIPTION:Families and friends – please join The Roslyn Downtown Association at the  Yakama Nation Creators Law Ceremony – \nSaturday\, Oct. 3\, 2026 1:00-2:15 p.m. \nJoin us for a Yakama Nation Wild Rose Dance Group and Drummer Performance and a Narrative of the Creators Law \nat the City of Roslyn Pioneer Park (aka Runje Field) centered around the Creators Law Sculpture (feel free to bring lawn chairs or blankets to sit on the lawn) \nLearn more background at roslyndowntown.org/yakama-nation
URL:https://roslyndowntown.org/event/creators-law-2026/
LOCATION:Roslyn Pioneer Park\, N. 3rd Street\, Roslyn\, WA\, 98941
CATEGORIES:Community Events,Festivals and Holiday Celebrations
ATTACH;FMTTYPE=image/png:https://roslyndowntown.org/wp-content/uploads/2026/02/RDA-Creators-Law-ceremony-flyer-2026-scaled.png
ORGANIZER;CN="Roslyn Downtown Association":MAILTO:info@roslyndowntown.org
END:VEVENT
BEGIN:VEVENT
DTSTART;TZID=America/Los_Angeles:20261007T183000
DTEND;TZID=America/Los_Angeles:20261007T203000
DTSTAMP:20260423T193116
CREATED:20260125T014631Z
LAST-MODIFIED:20260125T014631Z
UID:6745-1791397800-1791405000@roslyndowntown.org
SUMMARY:RDA Roslyn Music Jam - October 2026
DESCRIPTION:October 7\, 2026 – RDA Roslyn Music Jam 6:30 – 8:30 PM \n(1st Wednesday of every month March thru November 2026 @ the RDA Creative Center) \nMarch 4 to November 4 \nBring an instrument and a tune (or two) to share and make some music with your community! \nALL LEVELS WELCOME! \n6:30 – 8:30 PM\nRoslyn Creative Center\n103 W Idaho – Roslyn\, WA \nHosted by Jake Weber\, Rob Witte & Bob Van Lone
URL:https://roslyndowntown.org/event/rda-roslyn-music-jam-october-2026/
LOCATION:RDA Creative Center\, 103 W. Idaho Ave.\, Roslyn\, WA\, 98941\, United States
CATEGORIES:Music,RDA Creative Center Events,Show on Creative Center Page
ATTACH;FMTTYPE=image/png:https://roslyndowntown.org/wp-content/uploads/2026/01/2026-Jam-Night.png
ORGANIZER;CN="Roslyn Downtown Association":MAILTO:info@roslyndowntown.org
END:VEVENT
BEGIN:VEVENT
DTSTART;TZID=America/Los_Angeles:20261017T130000
DTEND;TZID=America/Los_Angeles:20261017T170000
DTSTAMP:20260423T193116
CREATED:20260220T085110Z
LAST-MODIFIED:20260220T085110Z
UID:6922-1792242000-1792256400@roslyndowntown.org
SUMMARY:Roslyn Mountain Ale Festival 2026
DESCRIPTION:Get ready\, beer lovers! The perfect event for any beer aficionado is coming back to the quaint mountain town of Roslyn\, Washington. The Roslyn Mountain Ale Festival will introduce different breweries from the Pacific Northwest area to fill up The Roslyn Yard. Attendees will also enjoy the musical stylings from our live band. \nSaturday October 17\, 2026\, from 1 p.m. to 5 p.m.  |  Roslyn Yard\, Downtown Roslyn \n[21+ event\, No pets allowed]
URL:https://roslyndowntown.org/event/roslyn-mountain-ale-festival-2026/
LOCATION:The Roslyn Yard\, 104 W Pennsylvania Ave\, Roslyn\, WA\, 98941
CATEGORIES:Downtown Events
ATTACH;FMTTYPE=image/png:https://roslyndowntown.org/wp-content/uploads/2026/02/Mountain-Ale-Festival-transparent-Logo-a40bb314-a3b5-4b75-941d-d65e3fc5c01a-scaled.png
ORGANIZER;CN="Kittitas County Chamber of Commerce":MAILTO:info@kittitascountychamber.com
END:VEVENT
BEGIN:VEVENT
DTSTART;VALUE=DATE:20261031
DTEND;VALUE=DATE:20261101
DTSTAMP:20260423T193116
CREATED:20260125T035920Z
LAST-MODIFIED:20260125T035920Z
UID:6771-1793404800-1793491199@roslyndowntown.org
SUMMARY:ARRF Paws on Parade 2026 - Roslyn
DESCRIPTION:Saturday\, October 31 – Roslyn AARF Animal Rescue Halloween Paws on Parade\, 1:00 p.m. starting at ARRF Animal Foster Care Shelter \nDress up with your pet and come for fun. Costume contest prizes for best person/pet combo\, funniest/cutest\, scariest\, best overall. Pet photos available for purchase.
URL:https://roslyndowntown.org/event/arrf-paws-on-parade-2026/
LOCATION:ARRF Animal Foster Care\, 107 E. Dakota Ave.\, Roslyn\, WA\, 98941
CATEGORIES:Community Events
ATTACH;FMTTYPE=image/png:https://roslyndowntown.org/wp-content/uploads/2026/01/2026-ARRF-Events-Calendar.png
END:VEVENT
BEGIN:VEVENT
DTSTART;TZID=America/Los_Angeles:20261031T150000
DTEND;TZID=America/Los_Angeles:20261031T170000
DTSTAMP:20260423T193116
CREATED:20260220T085622Z
LAST-MODIFIED:20260317T065216Z
UID:6925-1793458800-1793466000@roslyndowntown.org
SUMMARY:Boo-tiful Trick or Treat Downtown Businesses 2026 - informal and fun...
DESCRIPTION:Saturday\, October 31 – Boo-tiful  Roslyn Treats –  hosted by all the businesses downtown\, 3:00 pm – 5:00 pm. \n\nAbourezk & Co.\nAll Seasons Vacation Rentals\nAPS Survey & Mapping\nBasecamp Books & Bites\nBasecamp Outfitters\nBlanford Law\nCarek’s Meat Market\nCicely’s Gift Shop\nCoal Chute Café\nCorks Wine Shop\nCrow Creek Fly Fishing\nDina Yarbrough Photography\nFeather + Larch\nFused\nHotel Roslyn\nHuckleberry House\nInland Networks\nLittle Pangea Kitchen\nMarko’s Place\nMountain Joy\nOl’ MacDonald’s Farm Animal Clinic\nPink Palace Skate and Board Shop\nRebels Relics Trading\nRide Roslyn\nRoslyn Arcade\nRoslyn Brewing CO.\nRoslyn Candy Co.\nRoslyn Downtown Assoc.\nRoslyn Eagles\nRoslyn Grocery\nRoslyn Library\nRoslyn Mexican Grill\nRoslyn Movie Theatre\nRoslyn Old CO. Mercantile\nRoslyn Red House:\n\n• Simple Indulgence\n• Simple Wellness Co.\n\n\nRoslyn Soap Company\nRoslyn Style Gifts\nShanndee’s Boutique\nThe Brick\nThe Original Hot Dog Stand\n  The Wine Collaboration\nVillage Pizza\n Whole Pet Shop
URL:https://roslyndowntown.org/event/boo-tiful-trick-or-treat-2026/
LOCATION:Downtown Roslyn\, WA\, 98941
CATEGORIES:Downtown Events
ATTACH;FMTTYPE=image/png:https://roslyndowntown.org/wp-content/uploads/2026/02/Boo-tiful-Halloween-2026-flyer-1-scaled.png
END:VEVENT
BEGIN:VEVENT
DTSTART;TZID=America/Los_Angeles:20261104T183000
DTEND;TZID=America/Los_Angeles:20261104T203000
DTSTAMP:20260423T193116
CREATED:20260125T014834Z
LAST-MODIFIED:20260125T014834Z
UID:6747-1793817000-1793824200@roslyndowntown.org
SUMMARY:RDA Roslyn Music Jam - November 2026
DESCRIPTION:November 4\, 2026 – RDA Roslyn Music Jam 6:30 – 8:30 PM \n(1st Wednesday of every month March thru November 2026 @ the RDA Creative Center) \nMarch 4 to November 4 \nBring an instrument and a tune (or two) to share and make some music with your community! \nALL LEVELS WELCOME! \n6:30 – 8:30 PM\nRoslyn Creative Center\n103 W Idaho – Roslyn\, WA \nHosted by Jake Weber\, Rob Witte & Bob Van Lone
URL:https://roslyndowntown.org/event/rda-roslyn-music-jam-november-2026/
LOCATION:RDA Creative Center\, 103 W. Idaho Ave.\, Roslyn\, WA\, 98941\, United States
CATEGORIES:Music,RDA Creative Center Events,Show on Creative Center Page
ATTACH;FMTTYPE=image/png:https://roslyndowntown.org/wp-content/uploads/2026/01/2026-Jam-Night.png
ORGANIZER;CN="Roslyn Downtown Association":MAILTO:info@roslyndowntown.org
END:VEVENT
BEGIN:VEVENT
DTSTART;TZID=America/Los_Angeles:20261127T100000
DTEND;TZID=America/Los_Angeles:20261127T193000
DTSTAMP:20260423T193116
CREATED:20260220T093249Z
LAST-MODIFIED:20260220T093249Z
UID:6928-1795773600-1795807800@roslyndowntown.org
SUMMARY:Roslyn Old Town Christmas 2026
DESCRIPTION:Roslyn Old Town Christmas 2026!\nEvent Overview:\n🎄✨ It’s the countdown to the most wonderful time of the year! Join us for our Annual  Old Town Christmas Roslyn Style. You will be thrilled with a festive experience to cheer in the Christmas season. \nStarting at 10:00 a.m.\, enjoy activities downtown throughout the day like live music\, leading up to the Christmas program and the exciting countdown to lighting the Christmas tree\, followed by the Yakima Christmas Trucks parade. \nSave the date and come one\, come all\, to kick off a Merry Christmas season! 🎅🎁 \n \n  \nVisit Roslyn Businesses for SPECIAL OFFERS during Roslyn Old Town Christmas!
URL:https://roslyndowntown.org/event/roslyn-old-town-christmas-2026/
LOCATION:Downtown Roslyn\, WA\, 98941
CATEGORIES:Community Events,Downtown Events,Entertainment,Festivals and Holiday Celebrations
ATTACH;FMTTYPE=image/png:https://roslyndowntown.org/wp-content/uploads/2026/02/Roslyn-Old-Town-Christmas-preview.png
ORGANIZER;CN="Roslyn Downtown Association":MAILTO:info@roslyndowntown.org
END:VEVENT
BEGIN:VEVENT
DTSTART;TZID=America/Los_Angeles:20261205T110000
DTEND;TZID=America/Los_Angeles:20261205T150000
DTSTAMP:20260423T193116
CREATED:20260125T040900Z
LAST-MODIFIED:20260125T040900Z
UID:6773-1796468400-1796482800@roslyndowntown.org
SUMMARY:ARRF Santa Paws 2026 - Pet Pictures with Santa
DESCRIPTION:Saturday\, December 5\, 2026 – AARF Animal Rescue Pets Pictures with Santa – ARRF Foster Care Animal Shelter – 107 S Dakota\, Roslyn\, WA\, 11am-3pm. \nBring your pets for photos with Santa! Get 5×7 prints for purchase. Perfect for family holiday cards and newsletterd.
URL:https://roslyndowntown.org/event/arrf-santa-paws-2026/
LOCATION:ARRF Animal Foster Care\, 107 E. Dakota Ave.\, Roslyn\, WA\, 98941
CATEGORIES:Community Events
ATTACH;FMTTYPE=image/png:https://roslyndowntown.org/wp-content/uploads/2026/01/2026-ARRF-Events-Calendar.png
END:VEVENT
BEGIN:VEVENT
DTSTART;VALUE=DATE:20261221
DTEND;VALUE=DATE:20261222
DTSTAMP:20260423T193116
CREATED:20260220T093521Z
LAST-MODIFIED:20260220T093521Z
UID:6932-1797811200-1797897599@roslyndowntown.org
SUMMARY:Winter Solstice 2026
DESCRIPTION:Monday\, December 21 – Winter Solstice Roslyn Outdoor School… more information forthcoming
URL:https://roslyndowntown.org/event/winter-solstice-2026/
LOCATION:Downtown Roslyn\, WA\, 98941
CATEGORIES:Festivals and Holiday Celebrations
ATTACH;FMTTYPE=image/png:https://roslyndowntown.org/wp-content/uploads/2024/01/winter-solstice-graphic.png
END:VEVENT
BEGIN:VEVENT
DTSTART;TZID=America/Los_Angeles:20261224T190000
DTEND;TZID=America/Los_Angeles:20261224T200000
DTSTAMP:20260423T193116
CREATED:20260220T094119Z
LAST-MODIFIED:20260220T102905Z
UID:6934-1798138800-1798142400@roslyndowntown.org
SUMMARY:Christmas Eve with Santa Roslyn Fire Department Magical Tradition 2026
DESCRIPTION:Thursday\, December 24\, 2026 – Christmas Eve with Santa Roslyn Fire Department Magical Tradition \n7:00 PM in front of the NWIC Bldg.
URL:https://roslyndowntown.org/event/christmas-eve-with-santa-roslyn-fire-department-2026/
LOCATION:NWIC Building\, 101 E Pennsylvania Ave\, Roslyn\, WA\, 98941
CATEGORIES:Downtown Events
ATTACH;FMTTYPE=image/png:https://roslyndowntown.org/wp-content/uploads/2024/01/Christmas-Eve-with-Santa-2024-graphic.png
END:VEVENT
END:VCALENDAR