BEGIN:VCALENDAR
VERSION:2.0
PRODID:-//Roslyn Downtown Association - ECPv6.15.20//NONSGML v1.0//EN
CALSCALE:GREGORIAN
METHOD:PUBLISH
X-WR-CALNAME:Roslyn Downtown Association
X-ORIGINAL-URL:https://roslyndowntown.org
X-WR-CALDESC:Events for Roslyn Downtown Association
REFRESH-INTERVAL;VALUE=DURATION:PT1H
X-Robots-Tag:noindex
X-PUBLISHED-TTL:PT1H
BEGIN:VTIMEZONE
TZID:America/Los_Angeles
BEGIN:DAYLIGHT
TZOFFSETFROM:-0800
TZOFFSETTO:-0700
TZNAME:PDT
DTSTART:20230312T100000
END:DAYLIGHT
BEGIN:STANDARD
TZOFFSETFROM:-0700
TZOFFSETTO:-0800
TZNAME:PST
DTSTART:20231105T090000
END:STANDARD
BEGIN:DAYLIGHT
TZOFFSETFROM:-0800
TZOFFSETTO:-0700
TZNAME:PDT
DTSTART:20240310T100000
END:DAYLIGHT
BEGIN:STANDARD
TZOFFSETFROM:-0700
TZOFFSETTO:-0800
TZNAME:PST
DTSTART:20241103T090000
END:STANDARD
BEGIN:DAYLIGHT
TZOFFSETFROM:-0800
TZOFFSETTO:-0700
TZNAME:PDT
DTSTART:20250309T100000
END:DAYLIGHT
BEGIN:STANDARD
TZOFFSETFROM:-0700
TZOFFSETTO:-0800
TZNAME:PST
DTSTART:20251102T090000
END:STANDARD
END:VTIMEZONE
BEGIN:VEVENT
DTSTART;TZID=America/Los_Angeles:20240904T180000
DTEND;TZID=America/Los_Angeles:20240904T193000
DTSTAMP:20260423T160233
CREATED:20240830T003547Z
LAST-MODIFIED:20240830T003547Z
UID:4915-1725472800-1725478200@roslyndowntown.org
SUMMARY:Living with Bears in Roslyn
DESCRIPTION:Come learn from the statewide bear experts on Wednesday\, Sept 4th\, at 6:00 PM at Roslyn Masonic Hall ( next to the post office.
URL:https://roslyndowntown.org/event/living-with-bears-in-roslyn/
LOCATION:WA
ATTACH;FMTTYPE=image/png:https://roslyndowntown.org/wp-content/uploads/2024/08/Wednesday-September-4th-600-PM-730-PM-Masonic-Hall-Roslyn-WA-98941-2.png
END:VEVENT
BEGIN:VEVENT
DTSTART;TZID=America/Los_Angeles:20240902T160000
DTEND;TZID=America/Los_Angeles:20240902T190000
DTSTAMP:20260423T160233
CREATED:20240112T015224Z
LAST-MODIFIED:20240116T043755Z
UID:2972-1725292800-1725303600@roslyndowntown.org
SUMMARY:Live Music @ the Roslyn Yard
DESCRIPTION:Monday\, September 2 – Live Music @ the Roslyn Yard 4:00 PM – 7:00 PM
URL:https://roslyndowntown.org/event/live-music-the-roslyn-yard-090224/
LOCATION:The Roslyn Yard\, 104 W Pennsylvania Ave\, Roslyn\, WA\, 98941
CATEGORIES:Music
ATTACH;FMTTYPE=image/png:https://roslyndowntown.org/wp-content/uploads/2024/01/Live-music-at-the-Roslyn-Yard-4-7.png
END:VEVENT
BEGIN:VEVENT
DTSTART;VALUE=DATE:20240901
DTEND;VALUE=DATE:20240903
DTSTAMP:20260423T160233
CREATED:20240112T043541Z
LAST-MODIFIED:20240116T043755Z
UID:2892-1725210000-1725296399@roslyndowntown.org
SUMMARY:RDA American Flags Flown Downtown
DESCRIPTION:September 2 – RDA American Flags Flown Downtown
URL:https://roslyndowntown.org/event/rda-american-flags-flown-downtown-sept24/
LOCATION:Downtown Roslyn\, WA\, 98941
CATEGORIES:Downtown Events,Festivals and Holiday Celebrations
ATTACH;FMTTYPE=image/jpeg:https://roslyndowntown.org/wp-content/uploads/2024/01/american-flag.jpg
ORGANIZER;CN="Roslyn Downtown Association":MAILTO:info@roslyndowntown.org
END:VEVENT
BEGIN:VEVENT
DTSTART;TZID=America/Los_Angeles:20240901T160000
DTEND;TZID=America/Los_Angeles:20240901T190000
DTSTAMP:20260423T160233
CREATED:20240112T015118Z
LAST-MODIFIED:20240116T043755Z
UID:2971-1725206400-1725217200@roslyndowntown.org
SUMMARY:Live Music @ the Roslyn Yard
DESCRIPTION:Sunday\, September 1 – Live Music @ the Roslyn Yard 4:00 PM – 7:00 PM
URL:https://roslyndowntown.org/event/live-music-the-roslyn-yard-090124/
LOCATION:The Roslyn Yard\, 104 W Pennsylvania Ave\, Roslyn\, WA\, 98941
CATEGORIES:Music
ATTACH;FMTTYPE=image/png:https://roslyndowntown.org/wp-content/uploads/2024/01/Live-music-at-the-Roslyn-Yard-4-7.png
END:VEVENT
BEGIN:VEVENT
DTSTART;TZID=America/Los_Angeles:20240901T100000
DTEND;TZID=America/Los_Angeles:20240901T140000
DTSTAMP:20260423T160233
CREATED:20240112T004234Z
LAST-MODIFIED:20240520T015840Z
UID:2945-1725184800-1725199200@roslyndowntown.org
SUMMARY:Roslyn Farmers Market - (Sundays\, June 9-Sept. 8)
DESCRIPTION:September 1 – Roslyn Farmers Market (every Sunday thru Sept. 8th)
URL:https://roslyndowntown.org/event/roslyn-farmers-market-090124/
LOCATION:Downtown Roslyn\, WA\, 98941
CATEGORIES:Community Events,Downtown Events
ATTACH;FMTTYPE=image/jpeg:https://roslyndowntown.org/wp-content/uploads/2024/01/2024-Roslyn-Market.jpg
END:VEVENT
BEGIN:VEVENT
DTSTART;VALUE=DATE:20240901
DTEND;VALUE=DATE:20240902
DTSTAMP:20260423T160233
CREATED:20240321T230234Z
LAST-MODIFIED:20240321T230234Z
UID:3824-1725148800-1725235199@roslyndowntown.org
SUMMARY:Movies at the Roslyn Theatre - September
DESCRIPTION:We all love the Roslyn Theatre  and you will too!   Scan the QR code or visit roslyntheatre.com for current showings and events!
URL:https://roslyndowntown.org/event/roslyn-theatre-september2024/
LOCATION:Roslyn Theatre\, 101 W Dakota Avenue\, Roslyn\, WA\, 98941\, United States
CATEGORIES:Entertainment
ATTACH;FMTTYPE=image/jpeg:https://roslyndowntown.org/wp-content/uploads/2024/03/Roslyn-Theatre-2024-Poster.jpg
ORGANIZER;CN="Roslyn Theatre":MAILTO:roslyntheatre@gmail.com
END:VEVENT
BEGIN:VEVENT
DTSTART;VALUE=DATE:20240901
DTEND;VALUE=DATE:20240902
DTSTAMP:20260423T160233
CREATED:20240112T032543Z
LAST-MODIFIED:20240703T201712Z
UID:3035-1725148800-1725235199@roslyndowntown.org
SUMMARY:Outdoor Movie @ The Roslyn Yard - at Sunset – Movies TBD
DESCRIPTION:Sunday\, September 1 – Outdoor Movie  Wonka @ The Roslyn Yard – at Sunset
URL:https://roslyndowntown.org/event/outdoor-movie-090124/
LOCATION:The Roslyn Yard\, 104 W Pennsylvania Ave\, Roslyn\, WA\, 98941
CATEGORIES:Community Events
ATTACH;FMTTYPE=image/png:https://roslyndowntown.org/wp-content/uploads/2024/01/outdoor-movie.png
END:VEVENT
BEGIN:VEVENT
DTSTART;TZID=America/Los_Angeles:20240831T180000
DTEND;TZID=America/Los_Angeles:20240831T210000
DTSTAMP:20260423T160233
CREATED:20240112T023349Z
LAST-MODIFIED:20240116T043755Z
UID:2999-1725127200-1725138000@roslyndowntown.org
SUMMARY:Live Music Back on the Patio @ Basecamp
DESCRIPTION:Saturday\, August 31 – Live Music Back on the Patio @ Basecamp 6:00 PM – 9:00 PM
URL:https://roslyndowntown.org/event/live-music-basecamp-083124/
LOCATION:Back Patio at Basecamp\, 110 W Pennsylvania Ave\, Roslyn\, WA\, 98941
CATEGORIES:Music
ATTACH;FMTTYPE=image/png:https://roslyndowntown.org/wp-content/uploads/2024/01/Live-music-at-back-porch-basecamp.png
END:VEVENT
BEGIN:VEVENT
DTSTART;TZID=America/Los_Angeles:20240831T170000
DTEND;TZID=America/Los_Angeles:20240831T200000
DTSTAMP:20260423T160233
CREATED:20240112T014408Z
LAST-MODIFIED:20240116T043755Z
UID:2965-1725123600-1725134400@roslyndowntown.org
SUMMARY:Live Music @ the Roslyn Yard - Saturdays
DESCRIPTION:Saturday August 31 – Live Music @ the Roslyn Yard 5:00 PM – 8:00 PM
URL:https://roslyndowntown.org/event/live-music-the-roslyn-yard-083124/
LOCATION:The Roslyn Yard\, 104 W Pennsylvania Ave\, Roslyn\, WA\, 98941
CATEGORIES:Music
ATTACH;FMTTYPE=image/png:https://roslyndowntown.org/wp-content/uploads/2024/01/Live-music-at-the-Roslyn-Yard2.png
END:VEVENT
BEGIN:VEVENT
DTSTART;VALUE=DATE:20240831
DTEND;VALUE=DATE:20240902
DTSTAMP:20260423T160233
CREATED:20240112T052104Z
LAST-MODIFIED:20240830T004037Z
UID:3061-1725062400-1725235199@roslyndowntown.org
SUMMARY:Heritage Club  Coal Miners Dinner and | Crowning of King Coal
DESCRIPTION:Join the fun!  Saturday\, August 31\, Coal Miners Dinner 5:00 PM – 8:00 PM \nSunday\, Sept. 1\, Crowning of King Coal 9:30 AM \nCity of Roslyn Parade to follow at 11:00 AM \nRoslyn Fire Department 12:00 PM – 3:00 PM  Community Appreciation BBE\, Station Tours\, free hotdogs and burgers too!
URL:https://roslyndowntown.org/event/roslyn-parade-crowning-of-king-coal/
LOCATION:Downtown Roslyn\, WA\, 98941
CATEGORIES:Community Events,Festivals and Holiday Celebrations
ATTACH;FMTTYPE=image/jpeg:https://roslyndowntown.org/wp-content/uploads/2024/01/456390436_804529018555152_5778013133532182323_n.jpg
END:VEVENT
BEGIN:VEVENT
DTSTART;VALUE=DATE:20240831
DTEND;VALUE=DATE:20240902
DTSTAMP:20260423T160233
CREATED:20240112T050937Z
LAST-MODIFIED:20240801T191004Z
UID:3057-1725062400-1725235199@roslyndowntown.org
SUMMARY:High Country Log Show
DESCRIPTION:August 31 to September 1 – High Country Log Show – Exciting and fun for all!
URL:https://roslyndowntown.org/event/high-country-log-show/
LOCATION:Roslyn Pioneer Park\, N. 3rd Street\, Roslyn\, WA\, 98941
ATTACH;FMTTYPE=image/jpeg:https://roslyndowntown.org/wp-content/uploads/2024/01/452949331_1000079678788721_3292202469540015048_n.jpg
END:VEVENT
BEGIN:VEVENT
DTSTART;VALUE=DATE:20240831
DTEND;VALUE=DATE:20240901
DTSTAMP:20260423T160233
CREATED:20240112T032047Z
LAST-MODIFIED:20240703T201848Z
UID:3031-1725062400-1725148799@roslyndowntown.org
SUMMARY:Outdoor Movie @ The Roslyn Yard - Saturdays at Sunset – Movies TBD
DESCRIPTION:Saturday\, August 31 – Outdoor Movie Charlie and the Chocolate Factory  @ The Roslyn Yard – at Sunset
URL:https://roslyndowntown.org/event/outdoor-movie-083124/
LOCATION:The Roslyn Yard\, 104 W Pennsylvania Ave\, Roslyn\, WA\, 98941
CATEGORIES:Community Events
ATTACH;FMTTYPE=image/jpeg:https://roslyndowntown.org/wp-content/uploads/2024/01/Basecamp-Summer-Nights-2024pdf-scaled.jpg
END:VEVENT
BEGIN:VEVENT
DTSTART;TZID=America/Los_Angeles:20240830T180000
DTEND;TZID=America/Los_Angeles:20240830T210000
DTSTAMP:20260423T160233
CREATED:20240112T023819Z
LAST-MODIFIED:20240116T043755Z
UID:2998-1725040800-1725051600@roslyndowntown.org
SUMMARY:Live Music Back on the Patio @ Basecamp - Fridays
DESCRIPTION:Friday\, August 30 – Live Music Back on the Patio @ Basecamp 6:00 PM – 9:00 PM
URL:https://roslyndowntown.org/event/live-music-basecamp-083024/
LOCATION:Back Patio at Basecamp\, 110 W Pennsylvania Ave\, Roslyn\, WA\, 98941
CATEGORIES:Music
ATTACH;FMTTYPE=image/png:https://roslyndowntown.org/wp-content/uploads/2024/01/Live-music-at-back-porch-basecamp.png
END:VEVENT
BEGIN:VEVENT
DTSTART;VALUE=DATE:20240830
DTEND;VALUE=DATE:20240831
DTSTAMP:20260423T160233
CREATED:20240112T032015Z
LAST-MODIFIED:20240703T202017Z
UID:3030-1724976000-1725062399@roslyndowntown.org
SUMMARY:Outdoor Movie @ The Roslyn Yard - at Sunset – Willy Wonka and the Chocolate Factory
DESCRIPTION:Friday\, August 30 – Outdoor Movie Willy Wonka and the Chocolate Factory @ The Roslyn Yard – at Sunset
URL:https://roslyndowntown.org/event/outdoor-movie-083030/
LOCATION:The Roslyn Yard\, 104 W Pennsylvania Ave\, Roslyn\, WA\, 98941
CATEGORIES:Community Events
ATTACH;FMTTYPE=image/png:https://roslyndowntown.org/wp-content/uploads/2024/01/outdoor-movie.png
END:VEVENT
BEGIN:VEVENT
DTSTART;TZID=America/Los_Angeles:20240826T163000
DTEND;TZID=America/Los_Angeles:20240830T180000
DTSTAMP:20260423T160233
CREATED:20240805T074802Z
LAST-MODIFIED:20240823T222252Z
UID:4768-1724689800-1725040800@roslyndowntown.org
SUMMARY:Theatre Course for Kids - Mini-Camp - FULL!
DESCRIPTION:FULL – NO SPOTS AVAILABLE! \nAugust 26th – 30th\n4:30 p.m. – 6:00 p.m. \nElementary age kids 5-11 \nBig Z and Dev will share their experiences with elementary kids. Both have participated in Missoula Children’s Theatre summer programs in Montana and performed in local Boulet Theatre productions. Devyn is trained in music and leads children’s choirs\, while Zeke has dance expertise. They both have impressive stage presence. \nThis is a mini-camp\, not an intensive program\, where participants will learn a bit of everything while having fun and learn some science too. \nFree Course\nLimited Space Available\nRegister Early
URL:https://roslyndowntown.org/event/theatre-course-for-kids/
LOCATION:WA
CATEGORIES:Classes,RDA Creative Center Events,Show on Creative Center Page,Youth Events
ATTACH;FMTTYPE=image/png:https://roslyndowntown.org/wp-content/uploads/2024/08/A-Theatre-Course-for-Kids-8_24-flyer.png
ORGANIZER;CN="Roslyn Downtown Association":MAILTO:info@roslyndowntown.org
END:VEVENT
BEGIN:VEVENT
DTSTART;TZID=America/Los_Angeles:20240825T100000
DTEND;TZID=America/Los_Angeles:20240825T140000
DTSTAMP:20260423T160233
CREATED:20240112T004040Z
LAST-MODIFIED:20240520T015925Z
UID:2940-1724580000-1724594400@roslyndowntown.org
SUMMARY:Roslyn Farmers Market - (Sundays\, June 9-Sept. 8)
DESCRIPTION:August 25 – Roslyn Farmers Market (every Sunday thru Sept. 8th)
URL:https://roslyndowntown.org/event/roslyn-farmers-market-082524/
LOCATION:Downtown Roslyn\, WA\, 98941
CATEGORIES:Community Events,Downtown Events
ATTACH;FMTTYPE=image/jpeg:https://roslyndowntown.org/wp-content/uploads/2024/01/2024-Roslyn-Market.jpg
END:VEVENT
BEGIN:VEVENT
DTSTART;TZID=America/Los_Angeles:20240824T170000
DTEND;TZID=America/Los_Angeles:20240824T200000
DTSTAMP:20260423T160233
CREATED:20240112T014328Z
LAST-MODIFIED:20240116T043755Z
UID:2964-1724518800-1724529600@roslyndowntown.org
SUMMARY:Live Music @ the Roslyn Yard - Saturdays
DESCRIPTION:Saturday August 24 – Live Music @ the Roslyn Yard 5:00 PM – 8:00 PM
URL:https://roslyndowntown.org/event/live-music-the-roslyn-yard-082424/
LOCATION:The Roslyn Yard\, 104 W Pennsylvania Ave\, Roslyn\, WA\, 98941
CATEGORIES:Music
ATTACH;FMTTYPE=image/png:https://roslyndowntown.org/wp-content/uploads/2024/01/Live-music-at-the-Roslyn-Yard2.png
END:VEVENT
BEGIN:VEVENT
DTSTART;VALUE=DATE:20240824
DTEND;VALUE=DATE:20240825
DTSTAMP:20260423T160233
CREATED:20240112T031835Z
LAST-MODIFIED:20240703T201144Z
UID:3029-1724457600-1724543999@roslyndowntown.org
SUMMARY:Outdoor Movie @ The Roslyn Yard - Saturdays at Sunset – Movies TBD
DESCRIPTION:Saturday\, August 24 – Outdoor Movie  Barbie @ The Roslyn Yard – at Sunset
URL:https://roslyndowntown.org/event/outdoor-movie-082424/
LOCATION:The Roslyn Yard\, 104 W Pennsylvania Ave\, Roslyn\, WA\, 98941
CATEGORIES:Community Events
ATTACH;FMTTYPE=image/jpeg:https://roslyndowntown.org/wp-content/uploads/2024/01/Basecamp-Summer-Nights-2024pdf-scaled.jpg
END:VEVENT
BEGIN:VEVENT
DTSTART;TZID=America/Los_Angeles:20240823T180000
DTEND;TZID=America/Los_Angeles:20240823T210000
DTSTAMP:20260423T160233
CREATED:20240112T023617Z
LAST-MODIFIED:20240116T043755Z
UID:2997-1724436000-1724446800@roslyndowntown.org
SUMMARY:Live Music Back on the Patio @ Basecamp - Fridays
DESCRIPTION:Friday\, August 23 – Live Music Back on the Patio @ Basecamp 6:00 PM – 9:00 PM
URL:https://roslyndowntown.org/event/live-music-basecamp-082324/
LOCATION:Back Patio at Basecamp\, 110 W Pennsylvania Ave\, Roslyn\, WA\, 98941
CATEGORIES:Music
ATTACH;FMTTYPE=image/png:https://roslyndowntown.org/wp-content/uploads/2024/01/Live-music-at-back-porch-basecamp.png
END:VEVENT
BEGIN:VEVENT
DTSTART;TZID=America/Los_Angeles:20240818T100000
DTEND;TZID=America/Los_Angeles:20240818T140000
DTSTAMP:20260423T160233
CREATED:20240112T004004Z
LAST-MODIFIED:20240520T020006Z
UID:2939-1723975200-1723989600@roslyndowntown.org
SUMMARY:Roslyn Farmers Market - (Sundays\, June 9-Sept. 8)
DESCRIPTION:August 18 – Roslyn Farmers Market (every Sunday thru Sept. 8th)
URL:https://roslyndowntown.org/event/roslyn-farmers-market-081824/
LOCATION:Downtown Roslyn\, WA\, 98941
CATEGORIES:Community Events,Downtown Events
ATTACH;FMTTYPE=image/jpeg:https://roslyndowntown.org/wp-content/uploads/2024/01/2024-Roslyn-Market.jpg
END:VEVENT
BEGIN:VEVENT
DTSTART;TZID=America/Los_Angeles:20240817T180000
DTEND;TZID=America/Los_Angeles:20240817T210000
DTSTAMP:20260423T160233
CREATED:20240112T030041Z
LAST-MODIFIED:20240702T142642Z
UID:3023-1723917600-1723928400@roslyndowntown.org
SUMMARY:Roslyn AARF Animal Rescue Nibble and Sips
DESCRIPTION:Saturday\, August 17 –  AARF Animal Rescue Nibble and Sips Annual Fundraiser.  Ritters Farm\, 24 Lund Lane\, Cle Elum\, WA 9892.
URL:https://roslyndowntown.org/event/roslyn-aarf-animal-rescue-nibble-and-sips/
LOCATION:WA
CATEGORIES:Community Events
ATTACH;FMTTYPE=image/jpeg:https://roslyndowntown.org/wp-content/uploads/2024/01/449510049_870431005113630_8930903821408911792_n.jpg
END:VEVENT
BEGIN:VEVENT
DTSTART;TZID=America/Los_Angeles:20240817T170000
DTEND;TZID=America/Los_Angeles:20240817T200000
DTSTAMP:20260423T160233
CREATED:20240112T014255Z
LAST-MODIFIED:20240116T043755Z
UID:2963-1723914000-1723924800@roslyndowntown.org
SUMMARY:Live Music @ the Roslyn Yard - Saturdays
DESCRIPTION:Saturday August 17 – Live Music @ the Roslyn Yard 5:00 PM – 8:00 PM
URL:https://roslyndowntown.org/event/live-music-the-roslyn-yard-081724/
LOCATION:The Roslyn Yard\, 104 W Pennsylvania Ave\, Roslyn\, WA\, 98941
CATEGORIES:Music
ATTACH;FMTTYPE=image/png:https://roslyndowntown.org/wp-content/uploads/2024/01/Live-music-at-the-Roslyn-Yard2.png
END:VEVENT
BEGIN:VEVENT
DTSTART;VALUE=DATE:20240817
DTEND;VALUE=DATE:20240818
DTSTAMP:20260423T160233
CREATED:20240112T031634Z
LAST-MODIFIED:20240703T202146Z
UID:3026-1723852800-1723939199@roslyndowntown.org
SUMMARY:Outdoor Movie @ The Roslyn Yard - Saturdays at Sunset – Boys in the Boat
DESCRIPTION:Saturday\, August 17 – Outdoor Movie  Boys in the Boat @ The Roslyn Yard – at Sunset –
URL:https://roslyndowntown.org/event/outdoor-movie-081724/
LOCATION:The Roslyn Yard\, 104 W Pennsylvania Ave\, Roslyn\, WA\, 98941
CATEGORIES:Community Events
ATTACH;FMTTYPE=image/jpeg:https://roslyndowntown.org/wp-content/uploads/2024/01/Basecamp-Summer-Nights-2024pdf-scaled.jpg
END:VEVENT
BEGIN:VEVENT
DTSTART;TZID=America/Los_Angeles:20240816T180000
DTEND;TZID=America/Los_Angeles:20240816T210000
DTSTAMP:20260423T160233
CREATED:20240112T023535Z
LAST-MODIFIED:20240116T043755Z
UID:2996-1723831200-1723842000@roslyndowntown.org
SUMMARY:Live Music Back on the Patio @ Basecamp - Fridays
DESCRIPTION:Friday August 16 – Live Music Back on the Patio @ Basecamp 6:00 PM – 9:00 PM
URL:https://roslyndowntown.org/event/live-music-basecamp-081624/
LOCATION:Back Patio at Basecamp\, 110 W Pennsylvania Ave\, Roslyn\, WA\, 98941
CATEGORIES:Music
ATTACH;FMTTYPE=image/png:https://roslyndowntown.org/wp-content/uploads/2024/01/Live-music-at-back-porch-basecamp.png
END:VEVENT
BEGIN:VEVENT
DTSTART;TZID=America/Los_Angeles:20240811T100000
DTEND;TZID=America/Los_Angeles:20240811T140000
DTSTAMP:20260423T160233
CREATED:20240112T003906Z
LAST-MODIFIED:20240520T020034Z
UID:2938-1723370400-1723384800@roslyndowntown.org
SUMMARY:Roslyn Farmers Market - (Sundays\, June 9-Sept. 8)
DESCRIPTION:August 11 – Roslyn Farmers Market (every Sunday thru Sept. 8th)
URL:https://roslyndowntown.org/event/roslyn-farmers-market-081124/
LOCATION:Downtown Roslyn\, WA\, 98941
CATEGORIES:Community Events,Downtown Events
ATTACH;FMTTYPE=image/jpeg:https://roslyndowntown.org/wp-content/uploads/2024/01/2024-Roslyn-Market.jpg
END:VEVENT
BEGIN:VEVENT
DTSTART;TZID=America/Los_Angeles:20240810T170000
DTEND;TZID=America/Los_Angeles:20240810T200000
DTSTAMP:20260423T160233
CREATED:20240112T014209Z
LAST-MODIFIED:20240116T043755Z
UID:2962-1723309200-1723320000@roslyndowntown.org
SUMMARY:Live Music @ the Roslyn Yard - Saturdays
DESCRIPTION:Saturday August 10 – Live Music @ the Roslyn Yard 5:00 PM – 8:00 PM
URL:https://roslyndowntown.org/event/live-music-the-roslyn-yard-081024/
LOCATION:The Roslyn Yard\, 104 W Pennsylvania Ave\, Roslyn\, WA\, 98941
CATEGORIES:Music
ATTACH;FMTTYPE=image/png:https://roslyndowntown.org/wp-content/uploads/2024/01/Live-music-at-the-Roslyn-Yard2.png
END:VEVENT
BEGIN:VEVENT
DTSTART;TZID=America/Los_Angeles:20240809T180000
DTEND;TZID=America/Los_Angeles:20240809T210000
DTSTAMP:20260423T160233
CREATED:20240112T023456Z
LAST-MODIFIED:20240116T043755Z
UID:2995-1723226400-1723237200@roslyndowntown.org
SUMMARY:Live Music Back on the Patio @ Basecamp - Fridays
DESCRIPTION:Friday\, August 9 – Live Music Back on the Patio @ Basecamp 6:00 PM – 9:00 PM
URL:https://roslyndowntown.org/event/live-music-basecamp-080924/
LOCATION:Back Patio at Basecamp\, 110 W Pennsylvania Ave\, Roslyn\, WA\, 98941
CATEGORIES:Music
ATTACH;FMTTYPE=image/png:https://roslyndowntown.org/wp-content/uploads/2024/01/Live-music-at-back-porch-basecamp.png
END:VEVENT
BEGIN:VEVENT
DTSTART;TZID=America/Los_Angeles:20240807T183000
DTEND;TZID=America/Los_Angeles:20240807T203000
DTSTAMP:20260423T160233
CREATED:20240112T033539Z
LAST-MODIFIED:20240711T192011Z
UID:2864-1723055400-1723062600@roslyndowntown.org
SUMMARY:RDA Roslyn Music Jam
DESCRIPTION:August 7 – RDA Roslyn Music Jam 6:30 – 8:30 PM \n(1st Wednesday of every month March thru November 2024 @ the RDA Creative Center) \nMarch to November \nBring an instrument and a tune (or two) to share and make some music with your community! \nALL LEVELS WELCOME! \n6:30 – 8:30 PM\nRoslyn Creative Center\n103 W Idaho – Roslyn\, WA \nHosted by Jake Weber\, Rob Witte & Bob Van Lone
URL:https://roslyndowntown.org/event/rda-roslyn-music-jam-aug24/
LOCATION:RDA Creative Center\, 103 W. Idaho Ave.\, Roslyn\, WA\, 98941\, United States
CATEGORIES:Music,RDA Creative Center Events,Show on Creative Center Page
ATTACH;FMTTYPE=image/jpeg:https://roslyndowntown.org/wp-content/uploads/2024/01/RDA-Acoustic-Music-Jam_Flyer-2024.jpg
ORGANIZER;CN="Roslyn Downtown Association":MAILTO:info@roslyndowntown.org
END:VEVENT
BEGIN:VEVENT
DTSTART;TZID=America/Los_Angeles:20240804T100000
DTEND;TZID=America/Los_Angeles:20240804T140000
DTSTAMP:20260423T160233
CREATED:20240112T003831Z
LAST-MODIFIED:20240520T020144Z
UID:2937-1722765600-1722780000@roslyndowntown.org
SUMMARY:Roslyn Farmers Market - (Sundays\, June 9-Sept. 8)
DESCRIPTION:August 4 – Roslyn Farmers Market (every Sunday thru Sept. 8th)
URL:https://roslyndowntown.org/event/roslyn-farmers-market-080424/
LOCATION:Downtown Roslyn\, WA\, 98941
CATEGORIES:Community Events,Downtown Events
ATTACH;FMTTYPE=image/jpeg:https://roslyndowntown.org/wp-content/uploads/2024/01/2024-Roslyn-Market.jpg
END:VEVENT
BEGIN:VEVENT
DTSTART;TZID=America/Los_Angeles:20240803T170000
DTEND;TZID=America/Los_Angeles:20240803T200000
DTSTAMP:20260423T160233
CREATED:20240112T014130Z
LAST-MODIFIED:20240116T043756Z
UID:2961-1722704400-1722715200@roslyndowntown.org
SUMMARY:Live Music @ the Roslyn Yard - Saturdays
DESCRIPTION:Saturday August 3 – Live Music @ the Roslyn Yard 5:00 PM – 8:00 PM
URL:https://roslyndowntown.org/event/live-music-the-roslyn-yard-080324/
LOCATION:The Roslyn Yard\, 104 W Pennsylvania Ave\, Roslyn\, WA\, 98941
CATEGORIES:Music
ATTACH;FMTTYPE=image/png:https://roslyndowntown.org/wp-content/uploads/2024/01/Live-music-at-the-Roslyn-Yard2.png
END:VEVENT
END:VCALENDAR