BEGIN:VCALENDAR
VERSION:2.0
PRODID:-//Roslyn Downtown Association - ECPv6.15.20//NONSGML v1.0//EN
CALSCALE:GREGORIAN
METHOD:PUBLISH
X-WR-CALNAME:Roslyn Downtown Association
X-ORIGINAL-URL:https://roslyndowntown.org
X-WR-CALDESC:Events for Roslyn Downtown Association
REFRESH-INTERVAL;VALUE=DURATION:PT1H
X-Robots-Tag:noindex
X-PUBLISHED-TTL:PT1H
BEGIN:VTIMEZONE
TZID:America/Los_Angeles
BEGIN:DAYLIGHT
TZOFFSETFROM:-0800
TZOFFSETTO:-0700
TZNAME:PDT
DTSTART:20230312T100000
END:DAYLIGHT
BEGIN:STANDARD
TZOFFSETFROM:-0700
TZOFFSETTO:-0800
TZNAME:PST
DTSTART:20231105T090000
END:STANDARD
BEGIN:DAYLIGHT
TZOFFSETFROM:-0800
TZOFFSETTO:-0700
TZNAME:PDT
DTSTART:20240310T100000
END:DAYLIGHT
BEGIN:STANDARD
TZOFFSETFROM:-0700
TZOFFSETTO:-0800
TZNAME:PST
DTSTART:20241103T090000
END:STANDARD
BEGIN:DAYLIGHT
TZOFFSETFROM:-0800
TZOFFSETTO:-0700
TZNAME:PDT
DTSTART:20250309T100000
END:DAYLIGHT
BEGIN:STANDARD
TZOFFSETFROM:-0700
TZOFFSETTO:-0800
TZNAME:PST
DTSTART:20251102T090000
END:STANDARD
END:VTIMEZONE
BEGIN:VEVENT
DTSTART;TZID=America/Los_Angeles:20241002T183000
DTEND;TZID=America/Los_Angeles:20241002T203000
DTSTAMP:20260423T192827
CREATED:20240112T033706Z
LAST-MODIFIED:20240823T222612Z
UID:2868-1727893800-1727901000@roslyndowntown.org
SUMMARY:RDA Roslyn Music Jam
DESCRIPTION:October 2 – RDA Roslyn Music Jam 6:30 – 8:30 PM \n(1st Wednesday of every month March thru November 2024 @ the RDA Creative Center) \nMarch to November \nBring an instrument and a tune (or two) to share and make some music with your community! \nALL LEVELS WELCOME! \n6:30 – 8:30 PM\nRoslyn Creative Center\n103 W Idaho – Roslyn\, WA \nHosted by Jake Weber\, Rob Witte & Bob Van Lone
URL:https://roslyndowntown.org/event/rda-roslyn-music-jam-oct24/
LOCATION:RDA Creative Center\, 103 W. Idaho Ave.\, Roslyn\, WA\, 98941\, United States
CATEGORIES:Music,RDA Creative Center Events,Show on Creative Center Page
ATTACH;FMTTYPE=image/jpeg:https://roslyndowntown.org/wp-content/uploads/2024/01/RDA-Acoustic-Music-Jam_Flyer-2024.jpg
ORGANIZER;CN="Roslyn Downtown Association":MAILTO:info@roslyndowntown.org
END:VEVENT
BEGIN:VEVENT
DTSTART;VALUE=DATE:20241001
DTEND;VALUE=DATE:20241002
DTSTAMP:20260423T192827
CREATED:20240321T230246Z
LAST-MODIFIED:20240321T230246Z
UID:3826-1727740800-1727827199@roslyndowntown.org
SUMMARY:Movies at the Roslyn Theatre - October
DESCRIPTION:We all love the Roslyn Theatre  and you will too!   Scan the QR code or visit roslyntheatre.com for current showings and events!
URL:https://roslyndowntown.org/event/roslyn-theatre-october2024/
LOCATION:Roslyn Theatre\, 101 W Dakota Avenue\, Roslyn\, WA\, 98941\, United States
CATEGORIES:Entertainment
ATTACH;FMTTYPE=image/jpeg:https://roslyndowntown.org/wp-content/uploads/2024/03/Roslyn-Theatre-2024-Poster.jpg
ORGANIZER;CN="Roslyn Theatre":MAILTO:roslyntheatre@gmail.com
END:VEVENT
BEGIN:VEVENT
DTSTART;TZID=America/Los_Angeles:20240928T170000
DTEND;TZID=America/Los_Angeles:20240928T200000
DTSTAMP:20260423T192827
CREATED:20240112T015718Z
LAST-MODIFIED:20240116T043755Z
UID:2979-1727542800-1727553600@roslyndowntown.org
SUMMARY:Live Music @ the Roslyn Yard - Saturdays
DESCRIPTION:Saturday September 28 – Live Music @ the Roslyn Yard 5:00 PM – 8:00 PM
URL:https://roslyndowntown.org/event/live-music-the-roslyn-yard-092824/
LOCATION:The Roslyn Yard\, 104 W Pennsylvania Ave\, Roslyn\, WA\, 98941
CATEGORIES:Music
ATTACH;FMTTYPE=image/png:https://roslyndowntown.org/wp-content/uploads/2024/01/Live-music-at-the-Roslyn-Yard2.png
END:VEVENT
BEGIN:VEVENT
DTSTART;VALUE=DATE:20240928
DTEND;VALUE=DATE:20240929
DTSTAMP:20260423T192827
CREATED:20240112T032830Z
LAST-MODIFIED:20240116T043755Z
UID:3039-1727481600-1727567999@roslyndowntown.org
SUMMARY:Outdoor Movie @ The Roslyn Yard - Saturdays at Sunset – Movies TBD
DESCRIPTION:Saturday\, September 28 – Outdoor Movie @ The Roslyn Yard – at Sunset – Movies TBD
URL:https://roslyndowntown.org/event/outdoor-movie-092824/
LOCATION:The Roslyn Yard\, 104 W Pennsylvania Ave\, Roslyn\, WA\, 98941
CATEGORIES:Community Events
ATTACH;FMTTYPE=image/png:https://roslyndowntown.org/wp-content/uploads/2024/01/outdoor-movie.png
END:VEVENT
BEGIN:VEVENT
DTSTART;TZID=America/Los_Angeles:20240927T180000
DTEND;TZID=America/Los_Angeles:20240927T210000
DTSTAMP:20260423T192827
CREATED:20240112T024800Z
LAST-MODIFIED:20240116T043755Z
UID:3010-1727460000-1727470800@roslyndowntown.org
SUMMARY:Live Music Back on the Patio @ Basecamp - Fridays
DESCRIPTION:Friday\, September 27 – Live Music Back on the Patio @ Basecamp 6:00 PM – 9:00 PM
URL:https://roslyndowntown.org/event/live-music-basecamp-092724/
LOCATION:Back Patio at Basecamp\, 110 W Pennsylvania Ave\, Roslyn\, WA\, 98941
CATEGORIES:Music
ATTACH;FMTTYPE=image/png:https://roslyndowntown.org/wp-content/uploads/2024/01/Live-music-at-back-porch-basecamp.png
END:VEVENT
BEGIN:VEVENT
DTSTART;TZID=America/Los_Angeles:20240921T170000
DTEND;TZID=America/Los_Angeles:20240921T200000
DTSTAMP:20260423T192827
CREATED:20240112T015640Z
LAST-MODIFIED:20240116T043755Z
UID:2978-1726938000-1726948800@roslyndowntown.org
SUMMARY:Live Music @ the Roslyn Yard - Saturdays
DESCRIPTION:Saturday September 21 – Live Music @ the Roslyn Yard 5:00 PM – 8:00 PM
URL:https://roslyndowntown.org/event/live-music-the-roslyn-yard-092124/
LOCATION:The Roslyn Yard\, 104 W Pennsylvania Ave\, Roslyn\, WA\, 98941
CATEGORIES:Music
ATTACH;FMTTYPE=image/png:https://roslyndowntown.org/wp-content/uploads/2024/01/Live-music-at-the-Roslyn-Yard2.png
END:VEVENT
BEGIN:VEVENT
DTSTART;VALUE=DATE:20240921
DTEND;VALUE=DATE:20240922
DTSTAMP:20260423T192827
CREATED:20240112T032740Z
LAST-MODIFIED:20240703T201456Z
UID:3038-1726876800-1726963199@roslyndowntown.org
SUMMARY:Outdoor Movie @ The Roslyn Yard - Saturdays at Sunset – Movies TBD
DESCRIPTION:Saturday\, September 21 – Outdoor Movie Wizard of Oz  @ The Roslyn Yard – at Sunset
URL:https://roslyndowntown.org/event/outdoor-movie-092124/
LOCATION:The Roslyn Yard\, 104 W Pennsylvania Ave\, Roslyn\, WA\, 98941
CATEGORIES:Community Events
ATTACH;FMTTYPE=image/jpeg:https://roslyndowntown.org/wp-content/uploads/2024/01/Basecamp-Summer-Nights-2024pdf-scaled.jpg
END:VEVENT
BEGIN:VEVENT
DTSTART;TZID=America/Los_Angeles:20240920T180000
DTEND;TZID=America/Los_Angeles:20240920T210000
DTSTAMP:20260423T192827
CREATED:20240112T024718Z
LAST-MODIFIED:20240116T043755Z
UID:3011-1726855200-1726866000@roslyndowntown.org
SUMMARY:Live Music Back on the Patio @ Basecamp - Fridays
DESCRIPTION:Friday\, September 20 – Live Music Back on the Patio @ Basecamp 6:00 PM – 9:00 PM
URL:https://roslyndowntown.org/event/live-music-basecamp-092024/
LOCATION:Back Patio at Basecamp\, 110 W Pennsylvania Ave\, Roslyn\, WA\, 98941
CATEGORIES:Music
ATTACH;FMTTYPE=image/png:https://roslyndowntown.org/wp-content/uploads/2024/01/Live-music-at-back-porch-basecamp.png
END:VEVENT
BEGIN:VEVENT
DTSTART;TZID=America/Los_Angeles:20240919T170000
DTEND;TZID=America/Los_Angeles:20240919T190000
DTSTAMP:20260423T192827
CREATED:20240823T215152Z
LAST-MODIFIED:20240827T023744Z
UID:4870-1726765200-1726772400@roslyndowntown.org
SUMMARY:"Mastering Classic Sauces" Demonstration Cooking Class
DESCRIPTION: Thursday\, September 19\, 2024  \nMastering Classic Sauces – Demonstration Cooking Class  \nRegister here \n• Chef Chris will demonstrate how to prepare six delicious sauces that will take your dishes from ordinary to extraordinary!  \n• You will get to taste each of the six preparations and learn which foods pair well with them.  \n• You will take home recipes for the following sauces and a tip sheet on how to make sauces your own!  \nBeurre Blanc  – A classic French white wine sauce known for its rich\, buttery flavor and smooth\, velvety texture  \nBeurre Rouge  – A rich\, flavorful French red wine sauce that is a variation of beurre blanc  \nLemon Caper – A tangy\, vibrant sauce that combines the bright acidity of lemon with the briny\, distinctive flavor of capers  \nChimichurri  – A vibrant\, herby sauce from Argentina with parsley as the main ingredient  \nRomesco – A flavorful\, versatile sauce from Catalonia\, Spain\, known for its rich\, nutty\, and slightly smoky taste  \nMaple Sage Cream – A rich and flavorful sauce that combines the sweetness of maple syrup with the earthy\, aromatic notes of sage and the creaminess of a traditional cream sauce  \nwww.yourculinarycreations.com  \nJoin the fun on Thursday\, September 19th\, from 5:00 PM – 7:00 PM for a cooking class with Chef Chris! Register here. \n Cost: $85  \nRoslyn Creative Center | 103 W Idaho Ave | Roslyn\, WA 98941 \n(See all upcoming Food Related Classes) \n2024 Fall Cooking Classes Schedule: \nAbout the Instructor:\nRoslyn Downtown Association Culinary Ambassador  \nChef Chris Plemmons “Legacy of Excellence and Education” \n \nWith over 35 years of dedicated experience in the culinary arts and food service industry\, Chef Christopher H Plemmons\, a Certified Executive Chef (CEC) and esteemed member of the American Academy of Chefs (AAC) brings a wealth of expertise\, passion\, and leadership to the table. Committed to staying at the forefront of culinary innovation\, Chef Plemmons actively engages in ongoing education programs provided by the American Culinary Federation (ACF) while tirelessly contributing to various community food events and initiatives. \nChef Chris works with the Roslyn Downtown Association\, is passionate about education\, and is committed to culinary excellence. Chef Plemmons looks forward to continuing his legacy of inspiring and empowering future generations of chefs. \n  \n\nCertified Executive Chef (CEC)\, American Academy of Chefs (AAC)\nMember\, American Culinary Federation (ACF)\nParticipant\, Michelle Obama’s “Chefs Move to Schools” Program (2010)\nPresident\, Vice President\, Chair of the Board\, Board Member\, and Chair of Chef and Child and Horizon 2000\, Washington State Chefs Association\nTrustee\, Washington State Chefs Association\nMember\, ACFEF Accrediting Commission Secondary Committee (2011 – 2017)\nCo-author\, “Washington State Association Foodbank Challenge” Cookbook\nCo-author\, “Cooking with Two Snooty Chefs”\nRecipient\, Chapter Chef of the Year (1993)\nRecipient\, Lawrence M Noonan Award\, Olympic College (2008)\nRecipient\, President’s Award\, Olympic College (2011)\n\nRecipient\, American Culinary Federation Western Region “Educator of the Year” Award (2020)
URL:https://roslyndowntown.org/event/mastering-classic-sauces-demonstration-cooking-class/
LOCATION:RDA Creative Center\, 103 W. Idaho Ave.\, Roslyn\, WA\, 98941\, United States
CATEGORIES:Classes,Food Classes,RDA Creative Center Events,Show on Creative Center Page
ATTACH;FMTTYPE=image/png:https://roslyndowntown.org/wp-content/uploads/2024/08/Mastering-Classic-Sauces-9-19-2024-CC-R-scaled.png
END:VEVENT
BEGIN:VEVENT
DTSTART;TZID=America/Los_Angeles:20240914T170000
DTEND;TZID=America/Los_Angeles:20240914T200000
DTSTAMP:20260423T192827
CREATED:20240112T015540Z
LAST-MODIFIED:20240116T043755Z
UID:2977-1726333200-1726344000@roslyndowntown.org
SUMMARY:Live Music @ the Roslyn Yard - Saturdays
DESCRIPTION:Saturday September 14 – Live Music @ the Roslyn Yard 5:00 PM – 8:00 PM
URL:https://roslyndowntown.org/event/live-music-the-roslyn-yard-091424/
LOCATION:The Roslyn Yard\, 104 W Pennsylvania Ave\, Roslyn\, WA\, 98941
CATEGORIES:Music
ATTACH;FMTTYPE=image/png:https://roslyndowntown.org/wp-content/uploads/2024/01/Live-music-at-the-Roslyn-Yard2.png
END:VEVENT
BEGIN:VEVENT
DTSTART;VALUE=DATE:20240914
DTEND;VALUE=DATE:20240915
DTSTAMP:20260423T192827
CREATED:20240112T032659Z
LAST-MODIFIED:20240703T201412Z
UID:3037-1726272000-1726358399@roslyndowntown.org
SUMMARY:Outdoor Movie @ The Roslyn Yard - Saturdays at Sunset – Movies TBD
DESCRIPTION:Saturday\, September 14 – Outdoor Movie Wish @ The Roslyn Yard – at Sunset
URL:https://roslyndowntown.org/event/outdoor-movie-091424/
LOCATION:The Roslyn Yard\, 104 W Pennsylvania Ave\, Roslyn\, WA\, 98941
CATEGORIES:Community Events
ATTACH;FMTTYPE=image/jpeg:https://roslyndowntown.org/wp-content/uploads/2024/01/Basecamp-Summer-Nights-2024pdf-scaled.jpg
END:VEVENT
BEGIN:VEVENT
DTSTART;TZID=America/Los_Angeles:20240913T180000
DTEND;TZID=America/Los_Angeles:20240913T210000
DTSTAMP:20260423T192827
CREATED:20240112T024619Z
LAST-MODIFIED:20240116T043755Z
UID:3012-1726250400-1726261200@roslyndowntown.org
SUMMARY:Live Music Back on the Patio @ Basecamp - Fridays
DESCRIPTION:Friday\, September 13 – Live Music Back on the Patio @ Basecamp 6:00 PM – 9:00 PM
URL:https://roslyndowntown.org/event/live-music-basecamp-091324/
LOCATION:Back Patio at Basecamp\, 110 W Pennsylvania Ave\, Roslyn\, WA\, 98941
CATEGORIES:Music
ATTACH;FMTTYPE=image/png:https://roslyndowntown.org/wp-content/uploads/2024/01/Live-music-at-back-porch-basecamp.png
END:VEVENT
BEGIN:VEVENT
DTSTART;TZID=America/Los_Angeles:20240908T100000
DTEND;TZID=America/Los_Angeles:20240908T140000
DTSTAMP:20260423T192827
CREATED:20240112T004308Z
LAST-MODIFIED:20240520T015737Z
UID:2946-1725789600-1725804000@roslyndowntown.org
SUMMARY:Roslyn Farmers Market - (Sundays\, June 9-Sept. 8)
DESCRIPTION:September 8 – Roslyn Farmers Market (every Sunday thru Sept. 8th) – CLOSING DAY
URL:https://roslyndowntown.org/event/roslyn-farmers-market-sundays-june-9-sept-8/
LOCATION:Downtown Roslyn\, WA\, 98941
CATEGORIES:Community Events,Downtown Events
ATTACH;FMTTYPE=image/jpeg:https://roslyndowntown.org/wp-content/uploads/2024/01/2024-Roslyn-Market.jpg
END:VEVENT
BEGIN:VEVENT
DTSTART;TZID=America/Los_Angeles:20240907T170000
DTEND;TZID=America/Los_Angeles:20240907T200000
DTSTAMP:20260423T192827
CREATED:20240112T015438Z
LAST-MODIFIED:20240116T043755Z
UID:2976-1725728400-1725739200@roslyndowntown.org
SUMMARY:Live Music @ the Roslyn Yard - Saturdays
DESCRIPTION:Saturday September 7 – Live Music @ the Roslyn Yard 5:00 PM – 8:00 PM
URL:https://roslyndowntown.org/event/live-music-the-roslyn-yard-090724/
LOCATION:The Roslyn Yard\, 104 W Pennsylvania Ave\, Roslyn\, WA\, 98941
CATEGORIES:Music
ATTACH;FMTTYPE=image/png:https://roslyndowntown.org/wp-content/uploads/2024/01/Live-music-at-the-Roslyn-Yard2.png
END:VEVENT
BEGIN:VEVENT
DTSTART;VALUE=DATE:20240907
DTEND;VALUE=DATE:20240908
DTSTAMP:20260423T192827
CREATED:20240112T032619Z
LAST-MODIFIED:20240703T201549Z
UID:3036-1725667200-1725753599@roslyndowntown.org
SUMMARY:Outdoor Movie @ The Roslyn Yard - Saturdays at Sunset – Movies TBD
DESCRIPTION:Saturday\, September 7 – Outdoor Movie  Super Mario Brothers @ The Roslyn Yard – at Sunset
URL:https://roslyndowntown.org/event/outdoor-movie-090724/
LOCATION:The Roslyn Yard\, 104 W Pennsylvania Ave\, Roslyn\, WA\, 98941
CATEGORIES:Community Events
ATTACH;FMTTYPE=image/jpeg:https://roslyndowntown.org/wp-content/uploads/2024/01/Basecamp-Summer-Nights-2024pdf-scaled.jpg
END:VEVENT
BEGIN:VEVENT
DTSTART;TZID=America/Los_Angeles:20240906T180000
DTEND;TZID=America/Los_Angeles:20240906T210000
DTSTAMP:20260423T192827
CREATED:20240112T024641Z
LAST-MODIFIED:20240116T043755Z
UID:3013-1725645600-1725656400@roslyndowntown.org
SUMMARY:Live Music Back on the Patio @ Basecamp - Fridays
DESCRIPTION:Friday\, September 6 – Live Music Back on the Patio @ Basecamp 6:00 PM – 9:00 PM
URL:https://roslyndowntown.org/event/live-music-basecamp-090624/
LOCATION:Back Patio at Basecamp\, 110 W Pennsylvania Ave\, Roslyn\, WA\, 98941
CATEGORIES:Music
ATTACH;FMTTYPE=image/png:https://roslyndowntown.org/wp-content/uploads/2024/01/Live-music-at-back-porch-basecamp.png
END:VEVENT
BEGIN:VEVENT
DTSTART;TZID=America/Los_Angeles:20240905T170000
DTEND;TZID=America/Los_Angeles:20240905T190000
DTSTAMP:20260423T192827
CREATED:20240805T064218Z
LAST-MODIFIED:20240827T023420Z
UID:4761-1725555600-1725562800@roslyndowntown.org
SUMMARY:"Knife Skills 101" Cooking Class
DESCRIPTION:Join the fun on Thursday\, September 5th\, from 5:00 PM – 7:00 PM for a cooking class with Chef Chris! Register here. \nThe Class Format Includes:\n\nDemonstrations: Chef Chris will demonstrate each basic cutting technique\, chopping\, dicing\, julienning\, mincing and knife safety and maintenance. \nHands-On Practice: You will practice cutting techniques with types of knives and their uses and take home your freshly chopped ingredients\, perfect for whipping up a delicious soup or a delightful stir-fry! \nDuring the class\, you will experience the quality of a Messermeister chef knife. You will also be entered into a drawing for a chance to win one! \n$75 per person Register here \nRoslyn Creative Center | 103 W Idaho Ave | Roslyn\, WA 98941 \n(See all upcoming Food Related Classes) \n2024 Fall Cooking Classes Schedule: \nAbout the Instructor:\nRoslyn Downtown Association Culinary Ambassador  \nChef Chris Plemmons “Legacy of Excellence and Education” \n \nWith over 35 years of dedicated experience in the culinary arts and food service industry\, Chef Christopher H Plemmons\, a Certified Executive Chef (CEC) and esteemed member of the American Academy of Chefs (AAC) brings a wealth of expertise\, passion\, and leadership to the table. Committed to staying at the forefront of culinary innovation\, Chef Plemmons actively engages in ongoing education programs provided by the American Culinary Federation (ACF) while tirelessly contributing to various community food events and initiatives. \nChef Chris works with the Roslyn Downtown Association\, is passionate about education\, and is committed to culinary excellence. Chef Plemmons looks forward to continuing his legacy of inspiring and empowering future generations of chefs. \n  \n\nCertified Executive Chef (CEC)\, American Academy of Chefs (AAC)\nMember\, American Culinary Federation (ACF)\nParticipant\, Michelle Obama’s “Chefs Move to Schools” Program (2010)\nPresident\, Vice President\, Chair of the Board\, Board Member\, and Chair of Chef and Child and Horizon 2000\, Washington State Chefs Association\nTrustee\, Washington State Chefs Association\nMember\, ACFEF Accrediting Commission Secondary Committee (2011 – 2017)\nCo-author\, “Washington State Association Foodbank Challenge” Cookbook\nCo-author\, “Cooking with Two Snooty Chefs”\nRecipient\, Chapter Chef of the Year (1993)\nRecipient\, Lawrence M Noonan Award\, Olympic College (2008)\nRecipient\, President’s Award\, Olympic College (2011)\n\nRecipient\, American Culinary Federation Western Region “Educator of the Year” Award (2020)
URL:https://roslyndowntown.org/event/knife-skills-101-cooking-class/
LOCATION:RDA Creative Center\, 103 W. Idaho Ave.\, Roslyn\, WA\, 98941\, United States
CATEGORIES:Classes,Food Classes,RDA Creative Center Events,Show on Creative Center Page
ATTACH;FMTTYPE=image/png:https://roslyndowntown.org/wp-content/uploads/2024/08/Knife-Skills-Class-flyer-9_5_24.png
END:VEVENT
BEGIN:VEVENT
DTSTART;TZID=America/Los_Angeles:20240904T183000
DTEND;TZID=America/Los_Angeles:20240904T203000
DTSTAMP:20260423T192827
CREATED:20240112T033625Z
LAST-MODIFIED:20240823T222428Z
UID:2866-1725474600-1725481800@roslyndowntown.org
SUMMARY:RDA Roslyn Music Jam
DESCRIPTION:September 4 – RDA Roslyn Music Jam 6:30 – 8:30 PM \n(1st Wednesday of every month March thru November 2024 @ the RDA Creative Center) \nMarch to November \nBring an instrument and a tune (or two) to share and make some music with your community! \nALL LEVELS WELCOME! \n6:30 – 8:30 PM\nRoslyn Creative Center\n103 W Idaho – Roslyn\, WA \nHosted by Jake Weber\, Rob Witte & Bob Van Lone
URL:https://roslyndowntown.org/event/rda-roslyn-music-jam-sept24/
LOCATION:RDA Creative Center\, 103 W. Idaho Ave.\, Roslyn\, WA\, 98941\, United States
CATEGORIES:Music,RDA Creative Center Events,Show on Creative Center Page
ATTACH;FMTTYPE=image/jpeg:https://roslyndowntown.org/wp-content/uploads/2024/01/RDA-Acoustic-Music-Jam_Flyer-2024.jpg
ORGANIZER;CN="Roslyn Downtown Association":MAILTO:info@roslyndowntown.org
END:VEVENT
BEGIN:VEVENT
DTSTART;TZID=America/Los_Angeles:20240904T180000
DTEND;TZID=America/Los_Angeles:20240904T193000
DTSTAMP:20260423T192827
CREATED:20240830T003547Z
LAST-MODIFIED:20240830T003547Z
UID:4915-1725472800-1725478200@roslyndowntown.org
SUMMARY:Living with Bears in Roslyn
DESCRIPTION:Come learn from the statewide bear experts on Wednesday\, Sept 4th\, at 6:00 PM at Roslyn Masonic Hall ( next to the post office.
URL:https://roslyndowntown.org/event/living-with-bears-in-roslyn/
LOCATION:WA
ATTACH;FMTTYPE=image/png:https://roslyndowntown.org/wp-content/uploads/2024/08/Wednesday-September-4th-600-PM-730-PM-Masonic-Hall-Roslyn-WA-98941-2.png
END:VEVENT
BEGIN:VEVENT
DTSTART;TZID=America/Los_Angeles:20240902T160000
DTEND;TZID=America/Los_Angeles:20240902T190000
DTSTAMP:20260423T192827
CREATED:20240112T015224Z
LAST-MODIFIED:20240116T043755Z
UID:2972-1725292800-1725303600@roslyndowntown.org
SUMMARY:Live Music @ the Roslyn Yard
DESCRIPTION:Monday\, September 2 – Live Music @ the Roslyn Yard 4:00 PM – 7:00 PM
URL:https://roslyndowntown.org/event/live-music-the-roslyn-yard-090224/
LOCATION:The Roslyn Yard\, 104 W Pennsylvania Ave\, Roslyn\, WA\, 98941
CATEGORIES:Music
ATTACH;FMTTYPE=image/png:https://roslyndowntown.org/wp-content/uploads/2024/01/Live-music-at-the-Roslyn-Yard-4-7.png
END:VEVENT
BEGIN:VEVENT
DTSTART;VALUE=DATE:20240901
DTEND;VALUE=DATE:20240903
DTSTAMP:20260423T192827
CREATED:20240112T043541Z
LAST-MODIFIED:20240116T043755Z
UID:2892-1725210000-1725296399@roslyndowntown.org
SUMMARY:RDA American Flags Flown Downtown
DESCRIPTION:September 2 – RDA American Flags Flown Downtown
URL:https://roslyndowntown.org/event/rda-american-flags-flown-downtown-sept24/
LOCATION:Downtown Roslyn\, WA\, 98941
CATEGORIES:Downtown Events,Festivals and Holiday Celebrations
ATTACH;FMTTYPE=image/jpeg:https://roslyndowntown.org/wp-content/uploads/2024/01/american-flag.jpg
ORGANIZER;CN="Roslyn Downtown Association":MAILTO:info@roslyndowntown.org
END:VEVENT
BEGIN:VEVENT
DTSTART;TZID=America/Los_Angeles:20240901T160000
DTEND;TZID=America/Los_Angeles:20240901T190000
DTSTAMP:20260423T192827
CREATED:20240112T015118Z
LAST-MODIFIED:20240116T043755Z
UID:2971-1725206400-1725217200@roslyndowntown.org
SUMMARY:Live Music @ the Roslyn Yard
DESCRIPTION:Sunday\, September 1 – Live Music @ the Roslyn Yard 4:00 PM – 7:00 PM
URL:https://roslyndowntown.org/event/live-music-the-roslyn-yard-090124/
LOCATION:The Roslyn Yard\, 104 W Pennsylvania Ave\, Roslyn\, WA\, 98941
CATEGORIES:Music
ATTACH;FMTTYPE=image/png:https://roslyndowntown.org/wp-content/uploads/2024/01/Live-music-at-the-Roslyn-Yard-4-7.png
END:VEVENT
BEGIN:VEVENT
DTSTART;TZID=America/Los_Angeles:20240901T100000
DTEND;TZID=America/Los_Angeles:20240901T140000
DTSTAMP:20260423T192827
CREATED:20240112T004234Z
LAST-MODIFIED:20240520T015840Z
UID:2945-1725184800-1725199200@roslyndowntown.org
SUMMARY:Roslyn Farmers Market - (Sundays\, June 9-Sept. 8)
DESCRIPTION:September 1 – Roslyn Farmers Market (every Sunday thru Sept. 8th)
URL:https://roslyndowntown.org/event/roslyn-farmers-market-090124/
LOCATION:Downtown Roslyn\, WA\, 98941
CATEGORIES:Community Events,Downtown Events
ATTACH;FMTTYPE=image/jpeg:https://roslyndowntown.org/wp-content/uploads/2024/01/2024-Roslyn-Market.jpg
END:VEVENT
BEGIN:VEVENT
DTSTART;VALUE=DATE:20240901
DTEND;VALUE=DATE:20240902
DTSTAMP:20260423T192827
CREATED:20240321T230234Z
LAST-MODIFIED:20240321T230234Z
UID:3824-1725148800-1725235199@roslyndowntown.org
SUMMARY:Movies at the Roslyn Theatre - September
DESCRIPTION:We all love the Roslyn Theatre  and you will too!   Scan the QR code or visit roslyntheatre.com for current showings and events!
URL:https://roslyndowntown.org/event/roslyn-theatre-september2024/
LOCATION:Roslyn Theatre\, 101 W Dakota Avenue\, Roslyn\, WA\, 98941\, United States
CATEGORIES:Entertainment
ATTACH;FMTTYPE=image/jpeg:https://roslyndowntown.org/wp-content/uploads/2024/03/Roslyn-Theatre-2024-Poster.jpg
ORGANIZER;CN="Roslyn Theatre":MAILTO:roslyntheatre@gmail.com
END:VEVENT
BEGIN:VEVENT
DTSTART;VALUE=DATE:20240901
DTEND;VALUE=DATE:20240902
DTSTAMP:20260423T192827
CREATED:20240112T032543Z
LAST-MODIFIED:20240703T201712Z
UID:3035-1725148800-1725235199@roslyndowntown.org
SUMMARY:Outdoor Movie @ The Roslyn Yard - at Sunset – Movies TBD
DESCRIPTION:Sunday\, September 1 – Outdoor Movie  Wonka @ The Roslyn Yard – at Sunset
URL:https://roslyndowntown.org/event/outdoor-movie-090124/
LOCATION:The Roslyn Yard\, 104 W Pennsylvania Ave\, Roslyn\, WA\, 98941
CATEGORIES:Community Events
ATTACH;FMTTYPE=image/png:https://roslyndowntown.org/wp-content/uploads/2024/01/outdoor-movie.png
END:VEVENT
BEGIN:VEVENT
DTSTART;TZID=America/Los_Angeles:20240831T180000
DTEND;TZID=America/Los_Angeles:20240831T210000
DTSTAMP:20260423T192827
CREATED:20240112T023349Z
LAST-MODIFIED:20240116T043755Z
UID:2999-1725127200-1725138000@roslyndowntown.org
SUMMARY:Live Music Back on the Patio @ Basecamp
DESCRIPTION:Saturday\, August 31 – Live Music Back on the Patio @ Basecamp 6:00 PM – 9:00 PM
URL:https://roslyndowntown.org/event/live-music-basecamp-083124/
LOCATION:Back Patio at Basecamp\, 110 W Pennsylvania Ave\, Roslyn\, WA\, 98941
CATEGORIES:Music
ATTACH;FMTTYPE=image/png:https://roslyndowntown.org/wp-content/uploads/2024/01/Live-music-at-back-porch-basecamp.png
END:VEVENT
BEGIN:VEVENT
DTSTART;TZID=America/Los_Angeles:20240831T170000
DTEND;TZID=America/Los_Angeles:20240831T200000
DTSTAMP:20260423T192827
CREATED:20240112T014408Z
LAST-MODIFIED:20240116T043755Z
UID:2965-1725123600-1725134400@roslyndowntown.org
SUMMARY:Live Music @ the Roslyn Yard - Saturdays
DESCRIPTION:Saturday August 31 – Live Music @ the Roslyn Yard 5:00 PM – 8:00 PM
URL:https://roslyndowntown.org/event/live-music-the-roslyn-yard-083124/
LOCATION:The Roslyn Yard\, 104 W Pennsylvania Ave\, Roslyn\, WA\, 98941
CATEGORIES:Music
ATTACH;FMTTYPE=image/png:https://roslyndowntown.org/wp-content/uploads/2024/01/Live-music-at-the-Roslyn-Yard2.png
END:VEVENT
BEGIN:VEVENT
DTSTART;VALUE=DATE:20240831
DTEND;VALUE=DATE:20240902
DTSTAMP:20260423T192827
CREATED:20240112T052104Z
LAST-MODIFIED:20240830T004037Z
UID:3061-1725062400-1725235199@roslyndowntown.org
SUMMARY:Heritage Club  Coal Miners Dinner and | Crowning of King Coal
DESCRIPTION:Join the fun!  Saturday\, August 31\, Coal Miners Dinner 5:00 PM – 8:00 PM \nSunday\, Sept. 1\, Crowning of King Coal 9:30 AM \nCity of Roslyn Parade to follow at 11:00 AM \nRoslyn Fire Department 12:00 PM – 3:00 PM  Community Appreciation BBE\, Station Tours\, free hotdogs and burgers too!
URL:https://roslyndowntown.org/event/roslyn-parade-crowning-of-king-coal/
LOCATION:Downtown Roslyn\, WA\, 98941
CATEGORIES:Community Events,Festivals and Holiday Celebrations
ATTACH;FMTTYPE=image/jpeg:https://roslyndowntown.org/wp-content/uploads/2024/01/456390436_804529018555152_5778013133532182323_n.jpg
END:VEVENT
BEGIN:VEVENT
DTSTART;VALUE=DATE:20240831
DTEND;VALUE=DATE:20240902
DTSTAMP:20260423T192827
CREATED:20240112T050937Z
LAST-MODIFIED:20240801T191004Z
UID:3057-1725062400-1725235199@roslyndowntown.org
SUMMARY:High Country Log Show
DESCRIPTION:August 31 to September 1 – High Country Log Show – Exciting and fun for all!
URL:https://roslyndowntown.org/event/high-country-log-show/
LOCATION:Roslyn Pioneer Park\, N. 3rd Street\, Roslyn\, WA\, 98941
ATTACH;FMTTYPE=image/jpeg:https://roslyndowntown.org/wp-content/uploads/2024/01/452949331_1000079678788721_3292202469540015048_n.jpg
END:VEVENT
BEGIN:VEVENT
DTSTART;VALUE=DATE:20240831
DTEND;VALUE=DATE:20240901
DTSTAMP:20260423T192827
CREATED:20240112T032047Z
LAST-MODIFIED:20240703T201848Z
UID:3031-1725062400-1725148799@roslyndowntown.org
SUMMARY:Outdoor Movie @ The Roslyn Yard - Saturdays at Sunset – Movies TBD
DESCRIPTION:Saturday\, August 31 – Outdoor Movie Charlie and the Chocolate Factory  @ The Roslyn Yard – at Sunset
URL:https://roslyndowntown.org/event/outdoor-movie-083124/
LOCATION:The Roslyn Yard\, 104 W Pennsylvania Ave\, Roslyn\, WA\, 98941
CATEGORIES:Community Events
ATTACH;FMTTYPE=image/jpeg:https://roslyndowntown.org/wp-content/uploads/2024/01/Basecamp-Summer-Nights-2024pdf-scaled.jpg
END:VEVENT
END:VCALENDAR