BEGIN:VCALENDAR
VERSION:2.0
PRODID:-//Roslyn Downtown Association - ECPv6.15.20//NONSGML v1.0//EN
CALSCALE:GREGORIAN
METHOD:PUBLISH
X-WR-CALNAME:Roslyn Downtown Association
X-ORIGINAL-URL:https://roslyndowntown.org
X-WR-CALDESC:Events for Roslyn Downtown Association
REFRESH-INTERVAL;VALUE=DURATION:PT1H
X-Robots-Tag:noindex
X-PUBLISHED-TTL:PT1H
BEGIN:VTIMEZONE
TZID:America/Los_Angeles
BEGIN:DAYLIGHT
TZOFFSETFROM:-0800
TZOFFSETTO:-0700
TZNAME:PDT
DTSTART:20230312T100000
END:DAYLIGHT
BEGIN:STANDARD
TZOFFSETFROM:-0700
TZOFFSETTO:-0800
TZNAME:PST
DTSTART:20231105T090000
END:STANDARD
BEGIN:DAYLIGHT
TZOFFSETFROM:-0800
TZOFFSETTO:-0700
TZNAME:PDT
DTSTART:20240310T100000
END:DAYLIGHT
BEGIN:STANDARD
TZOFFSETFROM:-0700
TZOFFSETTO:-0800
TZNAME:PST
DTSTART:20241103T090000
END:STANDARD
BEGIN:DAYLIGHT
TZOFFSETFROM:-0800
TZOFFSETTO:-0700
TZNAME:PDT
DTSTART:20250309T100000
END:DAYLIGHT
BEGIN:STANDARD
TZOFFSETFROM:-0700
TZOFFSETTO:-0800
TZNAME:PST
DTSTART:20251102T090000
END:STANDARD
END:VTIMEZONE
BEGIN:VEVENT
DTSTART;VALUE=DATE:20240401
DTEND;VALUE=DATE:20240402
DTSTAMP:20260423T211353
CREATED:20240321T224631Z
LAST-MODIFIED:20240321T230049Z
UID:3809-1711929600-1712015999@roslyndowntown.org
SUMMARY:Movies at the Roslyn Theatre - April
DESCRIPTION:We all love the Roslyn Theatre  and you will too!   Scan the QR code or visit roslyntheatre.com for current showings and events!
URL:https://roslyndowntown.org/event/roslyn-theatre-april2024/
LOCATION:Roslyn Theatre\, 101 W Dakota Avenue\, Roslyn\, WA\, 98941\, United States
CATEGORIES:Entertainment
ATTACH;FMTTYPE=image/jpeg:https://roslyndowntown.org/wp-content/uploads/2024/03/Roslyn-Theatre-2024-Poster.jpg
ORGANIZER;CN="Roslyn Theatre":MAILTO:roslyntheatre@gmail.com
END:VEVENT
BEGIN:VEVENT
DTSTART;VALUE=DATE:20240330
DTEND;VALUE=DATE:20240331
DTSTAMP:20260423T211353
CREATED:20240112T032658Z
LAST-MODIFIED:20240116T043756Z
UID:2854-1711756800-1711843199@roslyndowntown.org
SUMMARY:RDA Hoppity Hop Easter Basket Drawing
DESCRIPTION:March 30 – RDA Hoppity Hop Easter Basket Drawing
URL:https://roslyndowntown.org/event/rda-hoppity-hop-easter-basket-drawing/
LOCATION:Downtown Roslyn\, WA\, 98941
CATEGORIES:Downtown Events,Festivals and Holiday Celebrations
ATTACH;FMTTYPE=image/png:https://roslyndowntown.org/wp-content/uploads/2024/01/easter-basket-drawing.png
ORGANIZER;CN="Roslyn Downtown Association":MAILTO:info@roslyndowntown.org
END:VEVENT
BEGIN:VEVENT
DTSTART;TZID=America/Los_Angeles:20240323T130000
DTEND;TZID=America/Los_Angeles:20240323T140000
DTSTAMP:20260423T211353
CREATED:20240108T172104Z
LAST-MODIFIED:20240309T203229Z
UID:2758-1711198800-1711202400@roslyndowntown.org
SUMMARY:Roslyn ARRF Animal Rescue Easter Egg Hunt
DESCRIPTION:March 23 –  ARRF Animal Rescue Easter Egg Hunt\, and Pet pictures with the Easter Bunny\,  Roslyn\, WA
URL:https://roslyndowntown.org/event/roslyn-arrf-animal-rescue-easter-egg-hunt/
LOCATION:ARRF Animal Foster Care\, 107 E. Dakota Ave.\, Roslyn\, WA\, 98941
CATEGORIES:Community Events
ATTACH;FMTTYPE=image/jpeg:https://roslyndowntown.org/wp-content/uploads/2024/01/431314314_798928342263897_355353297182376357_n.jpg
END:VEVENT
BEGIN:VEVENT
DTSTART;VALUE=DATE:20240322
DTEND;VALUE=DATE:20240330
DTSTAMP:20260423T211353
CREATED:20240108T174053Z
LAST-MODIFIED:20240117T043904Z
UID:2763-1711065600-1711756799@roslyndowntown.org
SUMMARY:RDA Hoppity Hop Easter
DESCRIPTION:March 22 -29 RDA Hoppity Hop Easter Basket Drawing
URL:https://roslyndowntown.org/event/rda-hoppity-hop-easter/
LOCATION:Downtown Roslyn\, WA\, 98941
CATEGORIES:Downtown Events
ATTACH;FMTTYPE=image/png:https://roslyndowntown.org/wp-content/uploads/2024/01/Easter-2024-.png
ORGANIZER;CN="Roslyn Downtown Association":MAILTO:info@roslyndowntown.org
END:VEVENT
BEGIN:VEVENT
DTSTART;TZID=America/Los_Angeles:20240309T170000
DTEND;TZID=America/Los_Angeles:20240309T200000
DTSTAMP:20260423T211353
CREATED:20240306T141934Z
LAST-MODIFIED:20240306T141934Z
UID:3658-1710003600-1710014400@roslyndowntown.org
SUMMARY:SEUSSAPALOOZA - Roslyn Library
DESCRIPTION:Come out and join the fun to support the Roslyn Library!
URL:https://roslyndowntown.org/event/seussapalooza-roslyn-library/
ATTACH;FMTTYPE=image/jpeg:https://roslyndowntown.org/wp-content/uploads/2024/03/Seussapalooza-2024-poster-jpg-scaled.jpg
END:VEVENT
BEGIN:VEVENT
DTSTART;TZID=America/Los_Angeles:20240309T100000
DTEND;TZID=America/Los_Angeles:20240309T170000
DTSTAMP:20260423T211353
CREATED:20240108T171620Z
LAST-MODIFIED:20240306T143351Z
UID:2754-1709978400-1710003600@roslyndowntown.org
SUMMARY:Brick Saloon Spittoon Races
DESCRIPTION:March 9—Brick Saloon Spittoon Races $5 entry fee. Registration and weigh-in begin at 10:00 a.m.\, and boat races begin at 12:00 p.m.
URL:https://roslyndowntown.org/event/brick-saloon-spittoon-races/
LOCATION:The Brick Saloon\, 100 W Pennsylvania Ave\, Roslyn\, WA\, 98941
CATEGORIES:Community Events
ATTACH;FMTTYPE=image/jpeg:https://roslyndowntown.org/wp-content/uploads/2024/01/429657899_18282321820167485_4962403022338277211_n.jpg
END:VEVENT
BEGIN:VEVENT
DTSTART;TZID=America/Los_Angeles:20240306T183000
DTEND;TZID=America/Los_Angeles:20240306T203000
DTSTAMP:20260423T211353
CREATED:20240108T170645Z
LAST-MODIFIED:20240711T192012Z
UID:2750-1709749800-1709757000@roslyndowntown.org
SUMMARY:RDA Roslyn Music Jam
DESCRIPTION:March 6 – RDA Roslyn Music Jam 6:30 – 8:30 PM \n(1st Wednesday of every month March thru November 2024 @ the RDA Creative Center) \nMarch to November \nBring an instrument and a tune (or two) to share and make some music with your community! \nALL LEVELS WELCOME! \n6:30 – 8:30 PM\nRoslyn Creative Center\n103 W Idaho – Roslyn\, WA \nHosted by Jake Weber\, Rob Witte & Bob Van Lone
URL:https://roslyndowntown.org/event/rda-roslyn-music-jam-march24/
LOCATION:RDA Creative Center\, 103 W. Idaho Ave.\, Roslyn\, WA\, 98941\, United States
CATEGORIES:Music,RDA Creative Center Events,Show on Creative Center Page
ATTACH;FMTTYPE=image/jpeg:https://roslyndowntown.org/wp-content/uploads/2024/01/RDA-Acoustic-Music-Jam_Flyer-2024.jpg
ORGANIZER;CN="Roslyn Downtown Association":MAILTO:info@roslyndowntown.org
END:VEVENT
BEGIN:VEVENT
DTSTART;TZID=America/Los_Angeles:20240217T080000
DTEND;TZID=America/Los_Angeles:20240217T170000
DTSTAMP:20260423T211353
CREATED:20240128T084940Z
LAST-MODIFIED:20240128T084940Z
UID:3423-1708156800-1708189200@roslyndowntown.org
SUMMARY:
DESCRIPTION:Support local trails and have a blast at the  2nd Annual Roslyn Fatbike Rambler on February 17th with @rideroslyn! \nAll proceeds from the event will go towards supporting local volunteer trail grooming. \n 
URL:https://roslyndowntown.org/event/3423/
CATEGORIES:Community Events
ATTACH;FMTTYPE=image/jpeg:https://roslyndowntown.org/wp-content/uploads/2024/01/420160718_760991399383455_5292286994453605133_n.jpg
END:VEVENT
BEGIN:VEVENT
DTSTART;VALUE=DATE:20240213
DTEND;VALUE=DATE:20240214
DTSTAMP:20260423T211353
CREATED:20240108T165605Z
LAST-MODIFIED:20240124T063557Z
UID:2748-1707782400-1707868799@roslyndowntown.org
SUMMARY:RDA Valentine Basket Drawing
DESCRIPTION:February 13 – RDA Valentine Basket Drawing
URL:https://roslyndowntown.org/event/rda-valentine-basket-drawing/
LOCATION:Downtown Roslyn\, WA\, 98941
CATEGORIES:Downtown Events
ATTACH;FMTTYPE=image/png:https://roslyndowntown.org/wp-content/uploads/2024/01/valentines-basket-drawing.png
ORGANIZER;CN="Roslyn Downtown Association":MAILTO:info@roslyndowntown.org
END:VEVENT
BEGIN:VEVENT
DTSTART;VALUE=DATE:20240205
DTEND;VALUE=DATE:20240213
DTSTAMP:20260423T211353
CREATED:20240108T165201Z
LAST-MODIFIED:20240124T063233Z
UID:2746-1707091200-1707782399@roslyndowntown.org
SUMMARY:RDA Downtown Valentine Hearts
DESCRIPTION:February 5 – 12 RDA Valentine’s Day  “Shop from your  Heart” support local businesses and enter to win a Valentine Roslyn Gift Basket!
URL:https://roslyndowntown.org/event/rda-downtown-valentine-hearts/
LOCATION:Downtown Roslyn\, WA\, 98941
CATEGORIES:Downtown Events
ATTACH;FMTTYPE=image/jpeg:https://roslyndowntown.org/wp-content/uploads/2024/01/From-Your-Heart-2024-VDay-Shop-Local.jpg
ORGANIZER;CN="Roslyn Downtown Association":MAILTO:info@roslyndowntown.org
END:VEVENT
BEGIN:VEVENT
DTSTART;TZID=America/Los_Angeles:20240129T180000
DTEND;TZID=America/Los_Angeles:20240129T193000
DTSTAMP:20260423T211353
CREATED:20240108T164358Z
LAST-MODIFIED:20240116T043757Z
UID:2742-1706551200-1706556600@roslyndowntown.org
SUMMARY:RDA "Coming Together" - Annual Ideas for Roslyn
DESCRIPTION:January 29 – RDA “Coming Together” annual ideas for Roslyn @ the Roslyn Creative Center 6:00 – 7:30 PM.
URL:https://roslyndowntown.org/event/rda-coming-together-annual-ideas-for-roslyn/
LOCATION:RDA Creative Center\, 103 W. Idaho Ave.\, Roslyn\, WA\, 98941\, United States
ATTACH;FMTTYPE=image/png:https://roslyndowntown.org/wp-content/uploads/2024/01/RDA-logo_event.png
ORGANIZER;CN="Roslyn Downtown Association":MAILTO:info@roslyndowntown.org
END:VEVENT
END:VCALENDAR