BEGIN:VCALENDAR
VERSION:2.0
PRODID:-//Roslyn Downtown Association - ECPv6.15.20//NONSGML v1.0//EN
CALSCALE:GREGORIAN
METHOD:PUBLISH
X-WR-CALNAME:Roslyn Downtown Association
X-ORIGINAL-URL:https://roslyndowntown.org
X-WR-CALDESC:Events for Roslyn Downtown Association
REFRESH-INTERVAL;VALUE=DURATION:PT1H
X-Robots-Tag:noindex
X-PUBLISHED-TTL:PT1H
BEGIN:VTIMEZONE
TZID:America/Los_Angeles
BEGIN:DAYLIGHT
TZOFFSETFROM:-0800
TZOFFSETTO:-0700
TZNAME:PDT
DTSTART:20230312T100000
END:DAYLIGHT
BEGIN:STANDARD
TZOFFSETFROM:-0700
TZOFFSETTO:-0800
TZNAME:PST
DTSTART:20231105T090000
END:STANDARD
BEGIN:DAYLIGHT
TZOFFSETFROM:-0800
TZOFFSETTO:-0700
TZNAME:PDT
DTSTART:20240310T100000
END:DAYLIGHT
BEGIN:STANDARD
TZOFFSETFROM:-0700
TZOFFSETTO:-0800
TZNAME:PST
DTSTART:20241103T090000
END:STANDARD
BEGIN:DAYLIGHT
TZOFFSETFROM:-0800
TZOFFSETTO:-0700
TZNAME:PDT
DTSTART:20250309T100000
END:DAYLIGHT
BEGIN:STANDARD
TZOFFSETFROM:-0700
TZOFFSETTO:-0800
TZNAME:PST
DTSTART:20251102T090000
END:STANDARD
END:VTIMEZONE
BEGIN:VEVENT
DTSTART;VALUE=DATE:20240705
DTEND;VALUE=DATE:20240707
DTSTAMP:20260424T041831
CREATED:20240112T071058Z
LAST-MODIFIED:20240116T043756Z
UID:2917-1720198800-1720285199@roslyndowntown.org
SUMMARY:Roslyn Riders Play Day
DESCRIPTION:July 6 – Roslyn Riders Play Day
URL:https://roslyndowntown.org/event/roslyn-riders-play-day/
LOCATION:Roslyn Riders\, 70 Martin Rd\, Roslyn\, WA\, 98941
CATEGORIES:Community Events
ATTACH;FMTTYPE=image/png:https://roslyndowntown.org/wp-content/uploads/2024/01/Roslyn-riders-sign.png
END:VEVENT
BEGIN:VEVENT
DTSTART;VALUE=DATE:20240705
DTEND;VALUE=DATE:20240707
DTSTAMP:20260424T041831
CREATED:20240112T070750Z
LAST-MODIFIED:20240116T043756Z
UID:2913-1720198800-1720285199@roslyndowntown.org
SUMMARY:Ronald Community Club Heritage Festival
DESCRIPTION:July 6 – Ronald Community Club Heritage Festival
URL:https://roslyndowntown.org/event/ronald-community-club-heritage-festival/
LOCATION:Hawthorne Hall\, 77 W Atlantic Ave\, Ronald\, WA\, 98940
CATEGORIES:Community Events,Festivals and Holiday Celebrations
ATTACH;FMTTYPE=image/png:https://roslyndowntown.org/wp-content/uploads/2024/01/Ronald-community-club-festival.png
END:VEVENT
BEGIN:VEVENT
DTSTART;VALUE=DATE:20240703
DTEND;VALUE=DATE:20240705
DTSTAMP:20260424T041831
CREATED:20240112T043349Z
LAST-MODIFIED:20240116T043756Z
UID:2890-1720026000-1720112399@roslyndowntown.org
SUMMARY:RDA American Flags Flown Downtown
DESCRIPTION:July 4- RDA American Flags Flown Downtown
URL:https://roslyndowntown.org/event/rda-american-flags-flown-downtown-july24/
LOCATION:Downtown Roslyn\, WA\, 98941
CATEGORIES:Downtown Events,Festivals and Holiday Celebrations
ATTACH;FMTTYPE=image/jpeg:https://roslyndowntown.org/wp-content/uploads/2024/01/american-flag.jpg
ORGANIZER;CN="Roslyn Downtown Association":MAILTO:info@roslyndowntown.org
END:VEVENT
BEGIN:VEVENT
DTSTART;TZID=America/Los_Angeles:20240703T113000
DTEND;TZID=America/Los_Angeles:20240703T133000
DTSTAMP:20260424T041831
CREATED:20240112T033317Z
LAST-MODIFIED:20240711T192011Z
UID:2862-1720006200-1720013400@roslyndowntown.org
SUMMARY:RDA Roslyn Music Jam
DESCRIPTION:July 3 – RDA Roslyn Music Jam 6:30 – 8:30 PM \n(1st Wednesday of every month March thru November 2024 @ the RDA Creative Center) \nMarch to November \nBring an instrument and a tune (or two) to share and make some music with your community! \nALL LEVELS WELCOME! \n6:30 – 8:30 PM\nRoslyn Creative Center\n103 W Idaho – Roslyn\, WA \nHosted by Jake Weber\, Rob Witte & Bob Van Lone
URL:https://roslyndowntown.org/event/rda-roslyn-music-jam-july24/
LOCATION:RDA Creative Center\, 103 W. Idaho Ave.\, Roslyn\, WA\, 98941\, United States
CATEGORIES:Music,RDA Creative Center Events,Show on Creative Center Page
ATTACH;FMTTYPE=image/jpeg:https://roslyndowntown.org/wp-content/uploads/2024/01/RDA-Acoustic-Music-Jam_Flyer-2024.jpg
ORGANIZER;CN="Roslyn Downtown Association":MAILTO:info@roslyndowntown.org
END:VEVENT
BEGIN:VEVENT
DTSTART;VALUE=DATE:20240701
DTEND;VALUE=DATE:20240702
DTSTAMP:20260424T041831
CREATED:20240321T230148Z
LAST-MODIFIED:20240703T200038Z
UID:3819-1719792000-1719878399@roslyndowntown.org
SUMMARY:Movies at the Roslyn Theatre - July
DESCRIPTION:We all love the Roslyn Theatre and you will too!   Scan the QR code or visit roslyntheatre.com for current showings and events!
URL:https://roslyndowntown.org/event/roslyn-theatre-july2024/
LOCATION:Roslyn Theatre\, 101 W Dakota Avenue\, Roslyn\, WA\, 98941\, United States
CATEGORIES:Entertainment
ATTACH;FMTTYPE=image/jpeg:https://roslyndowntown.org/wp-content/uploads/2024/03/Roslyn-Theatre-2024-Poster.jpg
ORGANIZER;CN="Roslyn Theatre":MAILTO:roslyntheatre@gmail.com
END:VEVENT
BEGIN:VEVENT
DTSTART;TZID=America/Los_Angeles:20240630T100000
DTEND;TZID=America/Los_Angeles:20240630T140000
DTSTAMP:20260424T041831
CREATED:20240112T065801Z
LAST-MODIFIED:20240520T020420Z
UID:2909-1719741600-1719756000@roslyndowntown.org
SUMMARY:Roslyn Farmers Market - (Sundays\, June 9-Sept. 8)
DESCRIPTION:June 30 – Roslyn Farmers Market (every Sunday thru Sept. 8th)
URL:https://roslyndowntown.org/event/roslyn-farmers-market-063024/
LOCATION:Downtown Roslyn\, WA\, 98941
CATEGORIES:Community Events,Downtown Events
ATTACH;FMTTYPE=image/jpeg:https://roslyndowntown.org/wp-content/uploads/2024/01/2024-Roslyn-Market.jpg
END:VEVENT
BEGIN:VEVENT
DTSTART;TZID=America/Los_Angeles:20240627T180000
DTEND;TZID=America/Los_Angeles:20240627T200000
DTSTAMP:20260424T041831
CREATED:20240610T041049Z
LAST-MODIFIED:20240711T194630Z
UID:4259-1719511200-1719518400@roslyndowntown.org
SUMMARY:Mastering the Art of Flavor - "Welcome Summer Dinner"
DESCRIPTION:“Mastering the Art of Flavor: 35 Years of Culinary Brilliance\, Every Dish Tells a Story!”\nJune 27\, 2024 Class: “Welcome Summer Dinner” taught by Certified Executive Chef Chris Plemmons \n(Please note: classes with less than 6 registered students will be cancelled and registration fees refunded.) \n\nCulinary Creations 2024 Cooking Class Schedule (all classes are held on Thursdays from 6:00 p.m. – 8:00 p.m.):\n\n\n\n  \nDate\n  \nClass Topic\n\n\nJune 27\, 2024 \n6 – 8 pm\nWelcome Summer Dinner \n$125\n\n\nJuly 11\, 2024 \n6 – 8 pm\nSalmon Three Ways with  \nWine Pairings \n$125\n\n\nJuly 25\, 2024 \n6 – 8 pm\nGnocchi Three Ways \n$125\n\n\nAugust 8\, 2024 \n6 – 8 pm\nPaella \n$125\n\n\nAugust 22\, 2024 \n6 – 8 pm\nDesserts to Die For \n$125\n\n\nSeptember 5\, 2024 \n6 – 8 pm\nKnife Skills \n$125\n\n\nSeptember 19\, 2024 \n6 – 8 pm\n  \n$125\n\n\nOctober 3\, 2024 \n6 – 8 pm\n  \n$125\n\n\nOctober 17\, 2024 \n6 – 8 pm\nHalloween Theme \n$125\n\n\nNovember 7\, 2024 \n6 – 8 pm\nThanksgiving Theme \n$125\n\n\nNovember 14\, 2024 \n6 – 8 pm\nThanksgiving Theme \n$125\n\n\nDecember 5\, 2024 \n6 – 8 pm\nHoliday High Tea \n$125\n\n\nDecember 12\, 2024 \n6 – 8 pm\nHoliday Soup Supper \n$125\n\n\n\nAbout the Instructor:\nRoslyn Downtown Association Culinary Ambassador  \nChef Chris Plemmons “Legacy of Excellence and Education” \nWith over 35 years of dedicated experience in the culinary arts and food service industry\, Chef Christopher H Plemmons\, a Certified Executive Chef (CEC) and esteemed member of the American Academy of Chefs (AAC) brings a wealth of expertise\, passion\, and leadership to the table. Committed to staying at the forefront of culinary innovation\, Chef Plemmons actively engages in ongoing education programs provided by the American Culinary Federation (ACF) while tirelessly contributing to various community food events and initiatives. \nHaving retired from his teaching position at Olympic College in June 2023\, Chef Plemmons eagerly anticipates the launch of his culinary class business\, Culinary Creations\, located in Cle Elum\, WA. Chris works with the Roslyn Downtown Association\, is passionate about education\, and is committed to culinary excellence. Chef Plemmons looks forward to continuing his legacy of inspiring and empowering future generations of chefs. \n\nCertified Executive Chef (CEC)\, American Academy of Chefs (AAC)\nMember\, American Culinary Federation (ACF)\nParticipant\, Michelle Obama’s “Chefs Move to Schools” Program (2010)\nPresident\, Vice President\, Chair of the Board\, Board Member\, and Chair of Chef and Child and Horizon 2000\, Washington State Chefs Association\nTrustee\, Washington State Chefs Association\nMember\, ACFEF Accrediting Commission Secondary Committee (2011 – 2017)\nCo-author\, “Washington State Association Foodbank Challenge” Cookbook\nCo-author\, “Cooking with Two Snooty Chefs”\nRecipient\, Chapter Chef of the Year (1993)\nRecipient\, Lawrence M Noonan Award\, Olympic College (2008)\nRecipient\, President’s Award\, Olympic College (2011)\n\nRecipient\, American Culinary Federation Western Region “Educator of the Year” Award (2020)
URL:https://roslyndowntown.org/event/mastering-the-art-of-flavor-welcome-summer-dinner/
LOCATION:RDA Creative Center\, 103 W. Idaho Ave.\, Roslyn\, WA\, 98941\, United States
CATEGORIES:Classes,Food Classes,RDA Creative Center Events
END:VEVENT
BEGIN:VEVENT
DTSTART;TZID=America/Los_Angeles:20240623T100000
DTEND;TZID=America/Los_Angeles:20240623T140000
DTSTAMP:20260424T041831
CREATED:20240112T065727Z
LAST-MODIFIED:20240520T020448Z
UID:2908-1719136800-1719151200@roslyndowntown.org
SUMMARY:Roslyn Farmers Market - (Sundays\, June 9-Sept. 8)
DESCRIPTION:June 23 – Roslyn Farmers Market (every Sunday thru Sept. 8th)
URL:https://roslyndowntown.org/event/roslyn-farmers-market-062324/
LOCATION:Downtown Roslyn\, WA\, 98941
CATEGORIES:Community Events,Downtown Events
ATTACH;FMTTYPE=image/jpeg:https://roslyndowntown.org/wp-content/uploads/2024/01/2024-Roslyn-Market.jpg
END:VEVENT
BEGIN:VEVENT
DTSTART;TZID=America/Los_Angeles:20240620T170000
DTEND;TZID=America/Los_Angeles:20240620T200000
DTSTAMP:20260424T041831
CREATED:20240520T022919Z
LAST-MODIFIED:20240520T023013Z
UID:4235-1718902800-1718913600@roslyndowntown.org
SUMMARY:Ladies Night Out - Here Comes the Sun
DESCRIPTION:Roslyn Ladies Night Out – Here Comes the Sun. Thursday\, June 20th\, 5:00 pm – 8:00 pm.  Unplug and join the fun! Amy and Angel have put together a wonderful evening for all to enjoy!  Celebrate the first day of summer Roslyn style. The businesses look forward to seeing you!
URL:https://roslyndowntown.org/event/ladies-night-out-here-comes-the-sun/
LOCATION:Downtown Roslyn\, WA\, 98941
ATTACH;FMTTYPE=image/jpeg:https://roslyndowntown.org/wp-content/uploads/2024/05/Girls-Night-Out-Poster.jpg
END:VEVENT
BEGIN:VEVENT
DTSTART;TZID=America/Los_Angeles:20240616T100000
DTEND;TZID=America/Los_Angeles:20240616T140000
DTSTAMP:20260424T041831
CREATED:20240112T065629Z
LAST-MODIFIED:20240520T020518Z
UID:2907-1718532000-1718546400@roslyndowntown.org
SUMMARY:Roslyn Farmers Market - (Sundays\, June 9-Sept. 8)
DESCRIPTION:June 16 – Roslyn Farmers Market (every Sunday thru Sept. 8th)
URL:https://roslyndowntown.org/event/roslyn-farmers-market-061624/
LOCATION:Downtown Roslyn\, WA\, 98941
CATEGORIES:Community Events,Downtown Events
ATTACH;FMTTYPE=image/jpeg:https://roslyndowntown.org/wp-content/uploads/2024/01/2024-Roslyn-Market.jpg
END:VEVENT
BEGIN:VEVENT
DTSTART;TZID=America/Los_Angeles:20240615T110000
DTEND;TZID=America/Los_Angeles:20240615T130000
DTSTAMP:20260424T041831
CREATED:20240112T035203Z
LAST-MODIFIED:20240711T192012Z
UID:2873-1718449200-1718456400@roslyndowntown.org
SUMMARY:RDA Free Parrot Show
DESCRIPTION:June 15 – RDA Free Parrot Show @ the Roslyn Creative Center 11:00 AM – 1:00 PM \n103 E Idaho Street\,  Roslyn \, WA 98941
URL:https://roslyndowntown.org/event/rda-free-parrot-show-june24/
LOCATION:RDA Creative Center\, 103 W. Idaho Ave.\, Roslyn\, WA\, 98941\, United States
CATEGORIES:Community Events,RDA Creative Center Events,Show on Creative Center Page
ATTACH;FMTTYPE=image/png:https://roslyndowntown.org/wp-content/uploads/2024/01/Saturday-June-15th-Parrot-Show-.png
ORGANIZER;CN="Roslyn Downtown Association":MAILTO:info@roslyndowntown.org
END:VEVENT
BEGIN:VEVENT
DTSTART;VALUE=DATE:20240614
DTEND;VALUE=DATE:20240615
DTSTAMP:20260424T041831
CREATED:20240112T064100Z
LAST-MODIFIED:20240116T043756Z
UID:2900-1718323200-1718409599@roslyndowntown.org
SUMMARY:RDA American Flags Flown Downtown
DESCRIPTION:June 14 – RDA American Flags Flown Downtown
URL:https://roslyndowntown.org/event/rda-american-flags-flown-downtown-june2024/
LOCATION:Downtown Roslyn\, WA\, 98941
CATEGORIES:Downtown Events,Festivals and Holiday Celebrations
ATTACH;FMTTYPE=image/jpeg:https://roslyndowntown.org/wp-content/uploads/2024/01/american-flag.jpg
ORGANIZER;CN="Roslyn Downtown Association":MAILTO:info@roslyndowntown.org
END:VEVENT
BEGIN:VEVENT
DTSTART;TZID=America/Los_Angeles:20240609T100000
DTEND;TZID=America/Los_Angeles:20240609T140000
DTSTAMP:20260424T041831
CREATED:20240112T065240Z
LAST-MODIFIED:20240520T015703Z
UID:2902-1717927200-1717941600@roslyndowntown.org
SUMMARY:Roslyn Farmers Market - (Sundays\, June 9-Sept. 8)
DESCRIPTION:June 9 – Roslyn Farmers Market (every Sunday thru Sept. 8th)
URL:https://roslyndowntown.org/event/roslyn-farmers-market-060924/
LOCATION:Downtown Roslyn\, WA\, 98941
CATEGORIES:Community Events,Downtown Events
ATTACH;FMTTYPE=image/jpeg:https://roslyndowntown.org/wp-content/uploads/2024/01/2024-Roslyn-Market.jpg
END:VEVENT
BEGIN:VEVENT
DTSTART;TZID=America/Los_Angeles:20240605T183000
DTEND;TZID=America/Los_Angeles:20240605T203000
DTSTAMP:20260424T041831
CREATED:20240112T033110Z
LAST-MODIFIED:20240711T192011Z
UID:2860-1717612200-1717619400@roslyndowntown.org
SUMMARY:RDA Roslyn Music Jam
DESCRIPTION:June 5 – RDA Roslyn Music Jam 6:30 – 8:30 PM \n(1st Wednesday of every month March thru November 2024 @ the RDA Creative Center) \nMarch to November \nBring an instrument and a tune (or two) to share and make some music with your community! \nALL LEVELS WELCOME! \n6:30 – 8:30 PM\nRoslyn Creative Center\n103 W Idaho – Roslyn\, WA \nHosted by Jake Weber\, Rob Witte & Bob Van Lone
URL:https://roslyndowntown.org/event/rda-roslyn-music-jam-june24/
LOCATION:RDA Creative Center\, 103 W. Idaho Ave.\, Roslyn\, WA\, 98941\, United States
CATEGORIES:Music,RDA Creative Center Events,Show on Creative Center Page
ATTACH;FMTTYPE=image/jpeg:https://roslyndowntown.org/wp-content/uploads/2024/01/RDA-Acoustic-Music-Jam_Flyer-2024.jpg
ORGANIZER;CN="Roslyn Downtown Association":MAILTO:info@roslyndowntown.org
END:VEVENT
BEGIN:VEVENT
DTSTART;VALUE=DATE:20240601
DTEND;VALUE=DATE:20240602
DTSTAMP:20260424T041831
CREATED:20240321T230138Z
LAST-MODIFIED:20240321T230138Z
UID:3817-1717200000-1717286399@roslyndowntown.org
SUMMARY:Movies at the Roslyn Theatre - June
DESCRIPTION:We all love the Roslyn Theatre  and you will too!   Scan the QR code or visit roslyntheatre.com for current showings and events!
URL:https://roslyndowntown.org/event/roslyn-theatre-june2024/
LOCATION:Roslyn Theatre\, 101 W Dakota Avenue\, Roslyn\, WA\, 98941\, United States
CATEGORIES:Entertainment
ATTACH;FMTTYPE=image/jpeg:https://roslyndowntown.org/wp-content/uploads/2024/03/Roslyn-Theatre-2024-Poster.jpg
ORGANIZER;CN="Roslyn Theatre":MAILTO:roslyntheatre@gmail.com
END:VEVENT
BEGIN:VEVENT
DTSTART;VALUE=DATE:20240529
DTEND;VALUE=DATE:20240530
DTSTAMP:20260424T041831
CREATED:20240112T063930Z
LAST-MODIFIED:20240503T143958Z
UID:2896-1716940800-1717027199@roslyndowntown.org
SUMMARY:Roslyn Riders Poker Run
DESCRIPTION:May 26—Roslyn Riders Poker Run 9:00 AM—Saddle up and enjoy the fun celebrating the Roslyn Riders’ 70th Anniversary!
URL:https://roslyndowntown.org/event/roslyn-riders-poker-run/
LOCATION:Roslyn Riders\, 70 Martin Rd\, Roslyn\, WA\, 98941
CATEGORIES:Community Events
ATTACH;FMTTYPE=image/jpeg:https://roslyndowntown.org/wp-content/uploads/2024/01/Roslyn-RIders--scaled.jpg
END:VEVENT
BEGIN:VEVENT
DTSTART;VALUE=DATE:20240527
DTEND;VALUE=DATE:20240528
DTSTAMP:20260424T041831
CREATED:20240112T043156Z
LAST-MODIFIED:20240116T043756Z
UID:2887-1716768000-1716854399@roslyndowntown.org
SUMMARY:RDA American Flags Flown Downtown
DESCRIPTION:May 27- RDA American Flags Flown Downtown
URL:https://roslyndowntown.org/event/rda-american-flags-flown-downtown-may24/
LOCATION:Downtown Roslyn\, WA\, 98941
CATEGORIES:Downtown Events,Festivals and Holiday Celebrations
ATTACH;FMTTYPE=image/jpeg:https://roslyndowntown.org/wp-content/uploads/2024/01/american-flag.jpg
ORGANIZER;CN="Roslyn Downtown Association":MAILTO:info@roslyndowntown.org
END:VEVENT
BEGIN:VEVENT
DTSTART;VALUE=DATE:20240527
DTEND;VALUE=DATE:20240528
DTSTAMP:20260424T041831
CREATED:20240112T042724Z
LAST-MODIFIED:20240517T164522Z
UID:2885-1716768000-1716854399@roslyndowntown.org
SUMMARY:Roslyn Memorial Day Services
DESCRIPTION:Monday\, May 27 at 11:00 AM  – Roslyn Memorial Day Services at the Roslyn Historic Cemetery. \n“Veterans are a symbol of what makes our nation great\, and we must never forget all they have done to ensure our freedom.” —Rodney Frelinghuysen
URL:https://roslyndowntown.org/event/roslyn-memorial-day-services/
LOCATION:Downtown Roslyn\, WA\, 98941
CATEGORIES:Festivals and Holiday Celebrations
ATTACH;FMTTYPE=image/png:https://roslyndowntown.org/wp-content/uploads/2024/01/Roslyn-memorial-day-services.png
END:VEVENT
BEGIN:VEVENT
DTSTART;TZID=America/Los_Angeles:20240519T080000
DTEND;TZID=America/Los_Angeles:20240519T170000
DTSTAMP:20260424T041831
CREATED:20240520T022149Z
LAST-MODIFIED:20240520T022450Z
UID:4227-1716105600-1716138000@roslyndowntown.org
SUMMARY:
DESCRIPTION:Roslyn Ladies Night Out—Here Comes The Sun. Thursday. June 20th\, 5:00 pm – 8:00 pm… Unplug and join the fun! Amy and Angel have put together a fun evening for all to enjoy! Let’s celebrate the first day of summer Roslyn style.    The business looks forward to seeing you soon!
URL:https://roslyndowntown.org/event/4227/
ATTACH;FMTTYPE=image/jpeg:https://roslyndowntown.org/wp-content/uploads/2024/05/Girls-Night-Out-Poster.jpg
END:VEVENT
BEGIN:VEVENT
DTSTART;TZID=America/Los_Angeles:20240518T100000
DTEND;TZID=America/Los_Angeles:20240518T130000
DTSTAMP:20260424T041831
CREATED:20240208T170505Z
LAST-MODIFIED:20240321T234956Z
UID:3543-1716026400-1716037200@roslyndowntown.org
SUMMARY:ARRF Vaccination and Microchip Clinic
DESCRIPTION:Saturday\, May 18th\,  ARRF (Animal Shelter) Microchip and Vaccination Clinic 107 W Dakota\, Roslyn\, WA
URL:https://roslyndowntown.org/event/3543/
CATEGORIES:Community Events
ATTACH;FMTTYPE=image/jpeg:https://roslyndowntown.org/wp-content/uploads/2024/02/ARRF-Vaccine-and-microchip-clinic-2024-2.jpg
END:VEVENT
BEGIN:VEVENT
DTSTART;TZID=America/Los_Angeles:20240511T110000
DTEND;TZID=America/Los_Angeles:20240511T130000
DTSTAMP:20260424T041831
CREATED:20240112T034843Z
LAST-MODIFIED:20240711T192012Z
UID:2856-1715425200-1715432400@roslyndowntown.org
SUMMARY:RDA Free Parrot Show
DESCRIPTION:May 11 – RDA Free Parrot Show @ the Roslyn Creative Center 11:00 AM – 1:00 PM
URL:https://roslyndowntown.org/event/rda-free-parrot-show/
LOCATION:RDA Creative Center\, 103 W. Idaho Ave.\, Roslyn\, WA\, 98941\, United States
CATEGORIES:Community Events,RDA Creative Center Events,Show on Creative Center Page
ATTACH;FMTTYPE=image/png:https://roslyndowntown.org/wp-content/uploads/2024/01/Saturday-May-11th-Parrot-Show.png
ORGANIZER;CN="Roslyn Downtown Association":MAILTO:info@roslyndowntown.org
END:VEVENT
BEGIN:VEVENT
DTSTART;TZID=America/Los_Angeles:20240505T110000
DTEND;TZID=America/Los_Angeles:20240505T130000
DTSTAMP:20260424T041831
CREATED:20240411T200535Z
LAST-MODIFIED:20260408T133744Z
UID:3933-1714906800-1714914000@roslyndowntown.org
SUMMARY:Scholarship Tea & Brunch 2024
DESCRIPTION:This is a wonderful tea and brunch for all to enjoy\, featuring guest speaker Maria Adams\, President of the  Roslyn Ronald Cle Elum Heritage Club. \nAdults and teens are $25 each\, and youth 12 and under are free. \nProceeds to benefit the Cle Elum – Roslyn High School\, Scholarship Fund. 
URL:https://roslyndowntown.org/event/3933/
LOCATION:Roslyn Eagles #696\, 107 N 2nd St\, Roslyn\, WA\, 98941
ATTACH;FMTTYPE=image/jpeg:https://roslyndowntown.org/wp-content/uploads/2024/04/2024Tea_8x11-002.jpg
END:VEVENT
BEGIN:VEVENT
DTSTART;VALUE=DATE:20240505
DTEND;VALUE=DATE:20240506
DTSTAMP:20260424T041831
CREATED:20240108T174911Z
LAST-MODIFIED:20240116T043756Z
UID:2766-1714867200-1714953599@roslyndowntown.org
SUMMARY:RDA Roslyn Cinco de Mayo Mariachi Band @ the Roslyn Yard
DESCRIPTION:May 5 – RDA Roslyn Cinco de Mayo Mariachi Band @ the Roslyn Yard
URL:https://roslyndowntown.org/event/rda-roslyn-cinco-de-mayo-mariachi-band-the-roslyn-yard/
LOCATION:The Roslyn Yard\, 104 W Pennsylvania Ave\, Roslyn\, WA\, 98941
CATEGORIES:Community Events,Music
ATTACH;FMTTYPE=image/png:https://roslyndowntown.org/wp-content/uploads/2024/01/Cinco-De-Mayo-flyer-fv-2024.png
END:VEVENT
BEGIN:VEVENT
DTSTART;VALUE=DATE:20240503
DTEND;VALUE=DATE:20240506
DTSTAMP:20260424T041831
CREATED:20240502T011050Z
LAST-MODIFIED:20240502T011116Z
UID:4063-1714694400-1714953599@roslyndowntown.org
SUMMARY:Mountain Wellness Adventure
DESCRIPTION:NW Mind Body Spirit Connection ( Facebook Page)\n\n\n\n\n\n\n\n\n\n\n\n\nWe have an exciting weekend planned for May 3rd—5th in Cle Elum & Roslyn\, in the heart of the Cascades!Make plans to “Find Yourself in the Mountains” and join the wellness community for the 2nd Annual Mountain Wellness Adventure.More info: https://nwmindbodyspirit.com/cle-elum/
URL:https://roslyndowntown.org/event/4063/
ATTACH;FMTTYPE=image/jpeg:https://roslyndowntown.org/wp-content/uploads/2024/05/Wellness-event-2024.jpg
END:VEVENT
BEGIN:VEVENT
DTSTART;TZID=America/Los_Angeles:20240501T183000
DTEND;TZID=America/Los_Angeles:20240501T203000
DTSTAMP:20260424T041831
CREATED:20240502T022759Z
LAST-MODIFIED:20240711T192011Z
UID:2857-1714588200-1714595400@roslyndowntown.org
SUMMARY:RDA Roslyn Music Jam
DESCRIPTION:May 1 – RDA Roslyn Music Jam 6:30 – 8:30 PM \n(1st Wednesday of every month March thru November 2024 @ the RDA Creative Center) \nMarch to November \nBring an instrument and a tune (or two) to share and make some music with your community! \nALL LEVELS WELCOME! \n6:30 – 8:30 PM\nRoslyn Creative Center\n103 W Idaho – Roslyn\, WA \nHosted by Jake Weber\, Rob Witte & Bob Van Lone
URL:https://roslyndowntown.org/event/rda-roslyn-music-jam-may24/
LOCATION:RDA Creative Center\, 103 W. Idaho Ave.\, Roslyn\, WA\, 98941\, United States
CATEGORIES:Music,RDA Creative Center Events,Show on Creative Center Page
ATTACH;FMTTYPE=image/jpeg:https://roslyndowntown.org/wp-content/uploads/2024/01/RDA-Acoustic-Music-Jam_Flyer-2024.jpg
ORGANIZER;CN="Roslyn Downtown Association":MAILTO:info@roslyndowntown.org
END:VEVENT
BEGIN:VEVENT
DTSTART;VALUE=DATE:20240501
DTEND;VALUE=DATE:20240502
DTSTAMP:20260424T041831
CREATED:20240321T225403Z
LAST-MODIFIED:20240321T230042Z
UID:3815-1714521600-1714607999@roslyndowntown.org
SUMMARY:Movies at the Roslyn Theatre - May
DESCRIPTION:We all love the Roslyn Theatre  and you will too!   Scan the QR code or visit roslyntheatre.com for current showings and events!
URL:https://roslyndowntown.org/event/roslyn-theatre-may2024/
LOCATION:Roslyn Theatre\, 101 W Dakota Avenue\, Roslyn\, WA\, 98941\, United States
CATEGORIES:Entertainment
ATTACH;FMTTYPE=image/jpeg:https://roslyndowntown.org/wp-content/uploads/2024/03/Roslyn-Theatre-2024-Poster.jpg
ORGANIZER;CN="Roslyn Theatre":MAILTO:roslyntheatre@gmail.com
END:VEVENT
BEGIN:VEVENT
DTSTART;TZID=America/Los_Angeles:20240427T190000
DTEND;TZID=America/Los_Angeles:20240427T203000
DTSTAMP:20260424T041831
CREATED:20240302T015023Z
LAST-MODIFIED:20240409T030637Z
UID:3639-1714244400-1714249800@roslyndowntown.org
SUMMARY:Pianist Eric Genius Concert
DESCRIPTION:Admission is free but space is limited\, so please RSVP to secure your spot. \n\n		\n\n\n		\n\n				\n\n		\nQuestions? Contact the Roslyn Downtown Association here. \nEric Genius … World-Class Pianist and Composer is an artist accompanied by musicians and a vocalist whose music translates beyond its genre to lift the audience to belief and hope in the power of the human spirit. \nFree Concert\, Saturday\, April 27\, 2024.\n7:00 PM – 8:30 PM\nDoors Open 6:15 PM \nSwiftwater Cellars Winery\n301 Rope Rider Drive\nCle Elum\, WA 98922 \nMake reservations and enjoy dinner before the concert at the Winery. \nEnter to win a fabulous “All About Roslyn Gift Basket” and door prizes! \nEnjoy the show!
URL:https://roslyndowntown.org/event/pianist-eric-genius-concert/
LOCATION:Swiftwater Cellars
CATEGORIES:Music
ATTACH;FMTTYPE=image/png:https://roslyndowntown.org/wp-content/uploads/2024/03/Eric_Genius_Concert-Winery-_2024.png
ORGANIZER;CN="Roslyn Downtown Association":MAILTO:info@roslyndowntown.org
END:VEVENT
BEGIN:VEVENT
DTSTART;TZID=America/Los_Angeles:20240427T083000
DTEND;TZID=America/Los_Angeles:20240427T120000
DTSTAMP:20260424T041831
CREATED:20240427T013943Z
LAST-MODIFIED:20240427T013943Z
UID:4039-1714206600-1714219200@roslyndowntown.org
SUMMARY:Roslyn Cemetery Clean- Up Day
DESCRIPTION:Volunteers are needed…  enjoy a thank you-free lunch afterward hosted by the Roslyn Eagles!
URL:https://roslyndowntown.org/event/roslyn-cemetery-clean-up-day/
ATTACH;FMTTYPE=image/jpeg:https://roslyndowntown.org/wp-content/uploads/2024/04/Cemetery-Clean-_-Up-.jpg
END:VEVENT
BEGIN:VEVENT
DTSTART;TZID=America/Los_Angeles:20240403T183000
DTEND;TZID=America/Los_Angeles:20240403T203000
DTSTAMP:20260424T041831
CREATED:20240108T170831Z
LAST-MODIFIED:20240711T192012Z
UID:2752-1712169000-1712176200@roslyndowntown.org
SUMMARY:RDA Roslyn Music Jam
DESCRIPTION:April 3 – RDA Roslyn Music Jam 6:30 – 8:30 PM \n(1st Wednesday of every month March thru November 2024 @ the RDA Creative Center) \nMarch to November \nBring an instrument and a tune (or two) to share and make some music with your community! \nALL LEVELS WELCOME! \n6:30 – 8:30 PM\nRoslyn Creative Center\n103 W Idaho – Roslyn\, WA \nHosted by Jake Weber\, Rob Witte & Bob Van Lone
URL:https://roslyndowntown.org/event/rda-roslyn-music-jam-april24/
LOCATION:RDA Creative Center\, 103 W. Idaho Ave.\, Roslyn\, WA\, 98941\, United States
CATEGORIES:Music,RDA Creative Center Events,Show on Creative Center Page
ATTACH;FMTTYPE=image/jpeg:https://roslyndowntown.org/wp-content/uploads/2024/01/RDA-Acoustic-Music-Jam_Flyer-2024.jpg
ORGANIZER;CN="Roslyn Downtown Association":MAILTO:info@roslyndowntown.org
END:VEVENT
BEGIN:VEVENT
DTSTART;VALUE=DATE:20240401
DTEND;VALUE=DATE:20240402
DTSTAMP:20260424T041831
CREATED:20240321T224631Z
LAST-MODIFIED:20240321T230049Z
UID:3809-1711929600-1712015999@roslyndowntown.org
SUMMARY:Movies at the Roslyn Theatre - April
DESCRIPTION:We all love the Roslyn Theatre  and you will too!   Scan the QR code or visit roslyntheatre.com for current showings and events!
URL:https://roslyndowntown.org/event/roslyn-theatre-april2024/
LOCATION:Roslyn Theatre\, 101 W Dakota Avenue\, Roslyn\, WA\, 98941\, United States
CATEGORIES:Entertainment
ATTACH;FMTTYPE=image/jpeg:https://roslyndowntown.org/wp-content/uploads/2024/03/Roslyn-Theatre-2024-Poster.jpg
ORGANIZER;CN="Roslyn Theatre":MAILTO:roslyntheatre@gmail.com
END:VEVENT
END:VCALENDAR