BEGIN:VCALENDAR
VERSION:2.0
PRODID:-//Roslyn Downtown Association - ECPv6.15.20//NONSGML v1.0//EN
CALSCALE:GREGORIAN
METHOD:PUBLISH
X-WR-CALNAME:Roslyn Downtown Association
X-ORIGINAL-URL:https://roslyndowntown.org
X-WR-CALDESC:Events for Roslyn Downtown Association
REFRESH-INTERVAL;VALUE=DURATION:PT1H
X-Robots-Tag:noindex
X-PUBLISHED-TTL:PT1H
BEGIN:VTIMEZONE
TZID:America/Los_Angeles
BEGIN:DAYLIGHT
TZOFFSETFROM:-0800
TZOFFSETTO:-0700
TZNAME:PDT
DTSTART:20230312T100000
END:DAYLIGHT
BEGIN:STANDARD
TZOFFSETFROM:-0700
TZOFFSETTO:-0800
TZNAME:PST
DTSTART:20231105T090000
END:STANDARD
BEGIN:DAYLIGHT
TZOFFSETFROM:-0800
TZOFFSETTO:-0700
TZNAME:PDT
DTSTART:20240310T100000
END:DAYLIGHT
BEGIN:STANDARD
TZOFFSETFROM:-0700
TZOFFSETTO:-0800
TZNAME:PST
DTSTART:20241103T090000
END:STANDARD
BEGIN:DAYLIGHT
TZOFFSETFROM:-0800
TZOFFSETTO:-0700
TZNAME:PDT
DTSTART:20250309T100000
END:DAYLIGHT
BEGIN:STANDARD
TZOFFSETFROM:-0700
TZOFFSETTO:-0800
TZNAME:PST
DTSTART:20251102T090000
END:STANDARD
END:VTIMEZONE
BEGIN:VEVENT
DTSTART;VALUE=DATE:20241001
DTEND;VALUE=DATE:20241002
DTSTAMP:20260424T142611
CREATED:20240321T230246Z
LAST-MODIFIED:20240321T230246Z
UID:3826-1727740800-1727827199@roslyndowntown.org
SUMMARY:Movies at the Roslyn Theatre - October
DESCRIPTION:We all love the Roslyn Theatre  and you will too!   Scan the QR code or visit roslyntheatre.com for current showings and events!
URL:https://roslyndowntown.org/event/roslyn-theatre-october2024/
LOCATION:Roslyn Theatre\, 101 W Dakota Avenue\, Roslyn\, WA\, 98941\, United States
CATEGORIES:Entertainment
ATTACH;FMTTYPE=image/jpeg:https://roslyndowntown.org/wp-content/uploads/2024/03/Roslyn-Theatre-2024-Poster.jpg
ORGANIZER;CN="Roslyn Theatre":MAILTO:roslyntheatre@gmail.com
END:VEVENT
BEGIN:VEVENT
DTSTART;TZID=America/Los_Angeles:20241002T183000
DTEND;TZID=America/Los_Angeles:20241002T203000
DTSTAMP:20260424T142611
CREATED:20240112T033706Z
LAST-MODIFIED:20240823T222612Z
UID:2868-1727893800-1727901000@roslyndowntown.org
SUMMARY:RDA Roslyn Music Jam
DESCRIPTION:October 2 – RDA Roslyn Music Jam 6:30 – 8:30 PM \n(1st Wednesday of every month March thru November 2024 @ the RDA Creative Center) \nMarch to November \nBring an instrument and a tune (or two) to share and make some music with your community! \nALL LEVELS WELCOME! \n6:30 – 8:30 PM\nRoslyn Creative Center\n103 W Idaho – Roslyn\, WA \nHosted by Jake Weber\, Rob Witte & Bob Van Lone
URL:https://roslyndowntown.org/event/rda-roslyn-music-jam-oct24/
LOCATION:RDA Creative Center\, 103 W. Idaho Ave.\, Roslyn\, WA\, 98941\, United States
CATEGORIES:Music,RDA Creative Center Events,Show on Creative Center Page
ATTACH;FMTTYPE=image/jpeg:https://roslyndowntown.org/wp-content/uploads/2024/01/RDA-Acoustic-Music-Jam_Flyer-2024.jpg
ORGANIZER;CN="Roslyn Downtown Association":MAILTO:info@roslyndowntown.org
END:VEVENT
BEGIN:VEVENT
DTSTART;TZID=America/Los_Angeles:20241003T170000
DTEND;TZID=America/Los_Angeles:20241003T190000
DTSTAMP:20260424T142611
CREATED:20240823T221449Z
LAST-MODIFIED:20240827T034032Z
UID:4874-1727974800-1727982000@roslyndowntown.org
SUMMARY:"Quintiessential Hors D'Oeurve" Cooking Class
DESCRIPTION:Mastering Classic Sauces – Demonstration Cooking Class  \nRegister here \nThursday\, October 3\, 2024  \nQuintessential Hors d’ Oeuvre Cooking Class  \nElevate your entertainment skills with this exclusive cooking class! Perfect for hosting elegant gatherings or simply impressing your guests. \n\n\n\n\nWhat You’ll Get:  \n• Hands-On Experience: Cook alongside Chef Chris.  \n• Live Demonstrations: Watch step-by-step techniques and tips.  \n• Tasting & Sampling: Enjoy your creations and receive detailed recipes.  \n• Cooking Tips & Tricks: Learn pro techniques to make your hors d’ oeuvres stand out.  \n• To Go Box: Take home samples to share.  \n\n\nWhat You’ll Create:  \n• Elegant Gougères: A delightful French treat made from pâte à choux.  \n• Caramelized Onion Strudel: A delicious\, flaky pastry filled with sweet\, caramelized onions.  \n• Smoked Salmon Chemisé Cream Cheese Spread: A delectable blend of cream cheese\, smoked salmon\, and spices.  \n• Cranberry Crostini: Tart\, colorful cranberries with whipped ricotta.  \n• Spicy Meatballs: A crowd-pleasing favorite with a twist.  \n\n\n\n\nwww.yourculinarycreations.com  \nJoin the fun on Thursday\, October 3rd\, from 5:00 PM – 7:00 PM for a cooking class with Chef Chris! Register here. \n Cost: $95  \nRoslyn Creative Center | 103 W Idaho Ave | Roslyn\, WA 98941 \n(See all upcoming Food Related Classes) \n2024 Fall Cooking Classes Schedule: \nAbout the Instructor:\nRoslyn Downtown Association Culinary Ambassador  \nChef Chris Plemmons “Legacy of Excellence and Education” \n \nWith over 35 years of dedicated experience in the culinary arts and food service industry\, Chef Christopher H Plemmons\, a Certified Executive Chef (CEC) and esteemed member of the American Academy of Chefs (AAC) brings a wealth of expertise\, passion\, and leadership to the table. Committed to staying at the forefront of culinary innovation\, Chef Plemmons actively engages in ongoing education programs provided by the American Culinary Federation (ACF) while tirelessly contributing to various community food events and initiatives. \nChef Chris works with the Roslyn Downtown Association\, is passionate about education\, and is committed to culinary excellence. Chef Plemmons looks forward to continuing his legacy of inspiring and empowering future generations of chefs. \n  \n\nCertified Executive Chef (CEC)\, American Academy of Chefs (AAC)\nMember\, American Culinary Federation (ACF)\nParticipant\, Michelle Obama’s “Chefs Move to Schools” Program (2010)\nPresident\, Vice President\, Chair of the Board\, Board Member\, and Chair of Chef and Child and Horizon 2000\, Washington State Chefs Association\nTrustee\, Washington State Chefs Association\nMember\, ACFEF Accrediting Commission Secondary Committee (2011 – 2017)\nCo-author\, “Washington State Association Foodbank Challenge” Cookbook\nCo-author\, “Cooking with Two Snooty Chefs”\nRecipient\, Chapter Chef of the Year (1993)\nRecipient\, Lawrence M Noonan Award\, Olympic College (2008)\nRecipient\, President’s Award\, Olympic College (2011)\n\nRecipient\, American Culinary Federation Western Region “Educator of the Year” Award (2020)
URL:https://roslyndowntown.org/event/quintiessential-hors-doeurve-cooking-class/
LOCATION:RDA Creative Center\, 103 W. Idaho Ave.\, Roslyn\, WA\, 98941\, United States
CATEGORIES:Classes,Food Classes,RDA Creative Center Events,Show on Creative Center Page
ATTACH;FMTTYPE=image/png:https://roslyndowntown.org/wp-content/uploads/2024/08/Quintessential-Hors-d-Oeuvre-10-3-2024-CC-scaled.png
END:VEVENT
BEGIN:VEVENT
DTSTART;TZID=America/Los_Angeles:20241012T130000
DTEND;TZID=America/Los_Angeles:20241012T170000
DTSTAMP:20260424T142611
CREATED:20240112T052822Z
LAST-MODIFIED:20241009T201758Z
UID:3064-1728738000-1728752400@roslyndowntown.org
SUMMARY:Roslyn Mountain Ale Festival
DESCRIPTION:Saturday\, October 12 – Roslyn Mountain Ale Festival @ Roslyn Yard
URL:https://roslyndowntown.org/event/roslyn-mountain-ale-festival/
LOCATION:The Roslyn Yard\, 104 W Pennsylvania Ave\, Roslyn\, WA\, 98941
ATTACH;FMTTYPE=image/png:https://roslyndowntown.org/wp-content/uploads/2024/01/mountain-ale-festival-logo.png
ORGANIZER;CN="Kittitas County Chamber of Commerce":MAILTO:info@kittitascountychamber.com
END:VEVENT
BEGIN:VEVENT
DTSTART;TZID=America/Los_Angeles:20241017T170000
DTEND;TZID=America/Los_Angeles:20241017T190000
DTSTAMP:20260424T142611
CREATED:20240827T024544Z
LAST-MODIFIED:20240827T030619Z
UID:4883-1729184400-1729191600@roslyndowntown.org
SUMMARY:"Day of the Dead Dinner" Cooking Class - A Mexican Tradition
DESCRIPTION:Day of the Dead Dinner Cooking Class\, A Mexican Tradition \nDishes to honor the memories of friends and family who are no longer with us. The Day of the Dead\, or “Día de los Muertos” in Spanish\, is a Mexican holiday celebrated on November 1st and 2nd. The holiday is characterized by a joyful and respectful remembrance\, celebrating the lives of those who have passed away rather than mourning their loss. Tamales\, mole\, and elote are some of the foods eaten in honor of those who have passed. \nRegister here \nwww.yourculinarycreations.com  \nJoin the fun on Thursday\, October 17th\, from 5:00 PM – 7:00 PM for a cooking class with Chef Chris! Register here. \n Cost: $125  \nRoslyn Creative Center | 103 W Idaho Ave | Roslyn\, WA 98941 \n(See all upcoming Food Related Classes) \n2024 Fall Cooking Classes Schedule: \nAbout the Instructor:\nRoslyn Downtown Association Culinary Ambassador  \nChef Chris Plemmons “Legacy of Excellence and Education” \n \nWith over 35 years of dedicated experience in the culinary arts and food service industry\, Chef Christopher H Plemmons\, a Certified Executive Chef (CEC) and esteemed member of the American Academy of Chefs (AAC) brings a wealth of expertise\, passion\, and leadership to the table. Committed to staying at the forefront of culinary innovation\, Chef Plemmons actively engages in ongoing education programs provided by the American Culinary Federation (ACF) while tirelessly contributing to various community food events and initiatives. \nChef Chris works with the Roslyn Downtown Association\, is passionate about education\, and is committed to culinary excellence. Chef Plemmons looks forward to continuing his legacy of inspiring and empowering future generations of chefs. \n  \n\nCertified Executive Chef (CEC)\, American Academy of Chefs (AAC)\nMember\, American Culinary Federation (ACF)\nParticipant\, Michelle Obama’s “Chefs Move to Schools” Program (2010)\nPresident\, Vice President\, Chair of the Board\, Board Member\, and Chair of Chef and Child and Horizon 2000\, Washington State Chefs Association\nTrustee\, Washington State Chefs Association\nMember\, ACFEF Accrediting Commission Secondary Committee (2011 – 2017)\nCo-author\, “Washington State Association Foodbank Challenge” Cookbook\nCo-author\, “Cooking with Two Snooty Chefs”\nRecipient\, Chapter Chef of the Year (1993)\nRecipient\, Lawrence M Noonan Award\, Olympic College (2008)\nRecipient\, President’s Award\, Olympic College (2011)\n\nRecipient\, American Culinary Federation Western Region “Educator of the Year” Award (2020)
URL:https://roslyndowntown.org/event/day-of-the-dead-cooking-class/
LOCATION:RDA Creative Center\, 103 W. Idaho Ave.\, Roslyn\, WA\, 98941\, United States
CATEGORIES:Classes,Food Classes,RDA Creative Center Events,Show on Creative Center Page
ATTACH;FMTTYPE=image/jpeg:https://roslyndowntown.org/wp-content/uploads/2024/08/day-of-the-dead-food_large.jpg
END:VEVENT
BEGIN:VEVENT
DTSTART;VALUE=DATE:20241026
DTEND;VALUE=DATE:20241027
DTSTAMP:20260424T142611
CREATED:20240112T053034Z
LAST-MODIFIED:20241006T095129Z
UID:3068-1729900800-1729987199@roslyndowntown.org
SUMMARY:Roslyn AARF Animal Rescue Halloween Paws on Parade
DESCRIPTION:Saturday\, October 26 – Roslyn AARF Animal Rescue Halloween Paws on Parade
URL:https://roslyndowntown.org/event/roslyn-aarf-animal-rescue-halloween-paws-on-parade/
LOCATION:ARRF Animal Foster Care\, 107 E. Dakota Ave.\, Roslyn\, WA\, 98941
CATEGORIES:Community Events
ATTACH;FMTTYPE=image/jpeg:https://roslyndowntown.org/wp-content/uploads/2024/01/460858429_928304945992902_1410014058127466518_n.jpg
END:VEVENT
BEGIN:VEVENT
DTSTART;VALUE=DATE:20241031
DTEND;VALUE=DATE:20241101
DTSTAMP:20260424T142611
CREATED:20240112T053252Z
LAST-MODIFIED:20241006T095424Z
UID:3070-1730332800-1730419199@roslyndowntown.org
SUMMARY:Boo-tiful Roslyn Trick or Treat Downtown Businesses
DESCRIPTION:Thursday\, October 31 – Boo-tiful  Roslyn  Treats –  hosted by all the business downtown\, 3:00 pm – 5:00 pm.
URL:https://roslyndowntown.org/event/rda-boo-tiful-roslyn-trick-or-treat-downtown/
LOCATION:Downtown Roslyn\, WA\, 98941
CATEGORIES:Downtown Events,Festivals and Holiday Celebrations,RDA Creative Center Events
ATTACH;FMTTYPE=image/jpeg:https://roslyndowntown.org/wp-content/uploads/2024/01/2024-Halloween-Invitation-8-×-11-in.jpg
ORGANIZER;CN="Roslyn Downtown Association":MAILTO:info@roslyndowntown.org
END:VEVENT
END:VCALENDAR