BEGIN:VCALENDAR
VERSION:2.0
PRODID:-//Roslyn Downtown Association - ECPv6.15.20//NONSGML v1.0//EN
CALSCALE:GREGORIAN
METHOD:PUBLISH
X-WR-CALNAME:Roslyn Downtown Association
X-ORIGINAL-URL:https://roslyndowntown.org
X-WR-CALDESC:Events for Roslyn Downtown Association
REFRESH-INTERVAL;VALUE=DURATION:PT1H
X-Robots-Tag:noindex
X-PUBLISHED-TTL:PT1H
BEGIN:VTIMEZONE
TZID:America/Los_Angeles
BEGIN:DAYLIGHT
TZOFFSETFROM:-0800
TZOFFSETTO:-0700
TZNAME:PDT
DTSTART:20230312T100000
END:DAYLIGHT
BEGIN:STANDARD
TZOFFSETFROM:-0700
TZOFFSETTO:-0800
TZNAME:PST
DTSTART:20231105T090000
END:STANDARD
BEGIN:DAYLIGHT
TZOFFSETFROM:-0800
TZOFFSETTO:-0700
TZNAME:PDT
DTSTART:20240310T100000
END:DAYLIGHT
BEGIN:STANDARD
TZOFFSETFROM:-0700
TZOFFSETTO:-0800
TZNAME:PST
DTSTART:20241103T090000
END:STANDARD
BEGIN:DAYLIGHT
TZOFFSETFROM:-0800
TZOFFSETTO:-0700
TZNAME:PDT
DTSTART:20250309T100000
END:DAYLIGHT
BEGIN:STANDARD
TZOFFSETFROM:-0700
TZOFFSETTO:-0800
TZNAME:PST
DTSTART:20251102T090000
END:STANDARD
END:VTIMEZONE
BEGIN:VEVENT
DTSTART;VALUE=DATE:20241201
DTEND;VALUE=DATE:20241202
DTSTAMP:20260424T112006
CREATED:20240321T230318Z
LAST-MODIFIED:20240702T142817Z
UID:3830-1733011200-1733097599@roslyndowntown.org
SUMMARY:Movies at the Roslyn Theatre - December
DESCRIPTION:We all love the Roslyn Theatre\, and you will too!   Scan the QR code or visit roslyntheatre.com for current showings and events!
URL:https://roslyndowntown.org/event/roslyn-theatre-december2024/
LOCATION:Roslyn Theatre\, 101 W Dakota Avenue\, Roslyn\, WA\, 98941\, United States
CATEGORIES:Entertainment
ATTACH;FMTTYPE=image/jpeg:https://roslyndowntown.org/wp-content/uploads/2024/03/Roslyn-Theatre-2024-Poster.jpg
ORGANIZER;CN="Roslyn Theatre":MAILTO:roslyntheatre@gmail.com
END:VEVENT
BEGIN:VEVENT
DTSTART;TZID=America/Los_Angeles:20241205T170000
DTEND;TZID=America/Los_Angeles:20241205T190000
DTSTAMP:20260424T112006
CREATED:20240827T025859Z
LAST-MODIFIED:20240827T025938Z
UID:4893-1733418000-1733425200@roslyndowntown.org
SUMMARY:"Holiday High Tea" - Demonstration / Hands-On Cooking Class
DESCRIPTION:Enjoy the magic of an elegant English tea with delightful finger foods and sweet treats! \nHoliday high tea is a festive gathering that combines the elegance of traditional high tea with the joyful spirit of the holiday season. Chef Chris will demonstrate and guide you in creating delightful finger foods and sweet treats as you enjoy the magic of an elegant English tea. \nRegister here \nwww.yourculinarycreations.com  \nJoin the fun on Thursday\, December 5th\, from 5:00 PM – 7:00 PM for a cooking class with Chef Chris! Register here. \n Cost: $125  \nRoslyn Creative Center | 103 W Idaho Ave | Roslyn\, WA 98941 \n(See all upcoming Food Related Classes) \n2024 Fall Cooking Classes Schedule: \nAbout the Instructor:\nRoslyn Downtown Association Culinary Ambassador  \nChef Chris Plemmons “Legacy of Excellence and Education” \n \nWith over 35 years of dedicated experience in the culinary arts and food service industry\, Chef Christopher H Plemmons\, a Certified Executive Chef (CEC) and esteemed member of the American Academy of Chefs (AAC) brings a wealth of expertise\, passion\, and leadership to the table. Committed to staying at the forefront of culinary innovation\, Chef Plemmons actively engages in ongoing education programs provided by the American Culinary Federation (ACF) while tirelessly contributing to various community food events and initiatives. \nChef Chris works with the Roslyn Downtown Association\, is passionate about education\, and is committed to culinary excellence. Chef Plemmons looks forward to continuing his legacy of inspiring and empowering future generations of chefs. \n  \n\nCertified Executive Chef (CEC)\, American Academy of Chefs (AAC)\nMember\, American Culinary Federation (ACF)\nParticipant\, Michelle Obama’s “Chefs Move to Schools” Program (2010)\nPresident\, Vice President\, Chair of the Board\, Board Member\, and Chair of Chef and Child and Horizon 2000\, Washington State Chefs Association\nTrustee\, Washington State Chefs Association\nMember\, ACFEF Accrediting Commission Secondary Committee (2011 – 2017)\nCo-author\, “Washington State Association Foodbank Challenge” Cookbook\nCo-author\, “Cooking with Two Snooty Chefs”\nRecipient\, Chapter Chef of the Year (1993)\nRecipient\, Lawrence M Noonan Award\, Olympic College (2008)\nRecipient\, President’s Award\, Olympic College (2011)\n\nRecipient\, American Culinary Federation Western Region “Educator of the Year” Award (2020)
URL:https://roslyndowntown.org/event/holiday-high-tea-cooking-class/
LOCATION:RDA Creative Center\, 103 W. Idaho Ave.\, Roslyn\, WA\, 98941\, United States
CATEGORIES:Classes,Food Classes,RDA Creative Center Events,Show on Creative Center Page
ATTACH;FMTTYPE=image/jpeg:https://roslyndowntown.org/wp-content/uploads/2024/08/Holiday-High-Tea.jpg
END:VEVENT
BEGIN:VEVENT
DTSTART;TZID=America/Los_Angeles:20241207T110000
DTEND;TZID=America/Los_Angeles:20241207T150000
DTSTAMP:20260424T112006
CREATED:20240112T070242Z
LAST-MODIFIED:20240208T171152Z
UID:3086-1733569200-1733583600@roslyndowntown.org
SUMMARY:Roslyn AARF Animal Rescue Pets Pictures with Santa
DESCRIPTION:Saturday\, December 7 – AARF Animal Rescue Pets Pictures with Santa – Animal Shelter – 107 S Dakota\, Roslyn\, WA
URL:https://roslyndowntown.org/event/roslyn-aarf-animal-rescue-pets-pictures-with-santa/
LOCATION:ARRF Animal Foster Care\, 107 E. Dakota Ave.\, Roslyn\, WA\, 98941
CATEGORIES:Community Events
ATTACH;FMTTYPE=image/jpeg:https://roslyndowntown.org/wp-content/uploads/2024/01/424763891_777561814400550_2612499313627489653_n.jpg
END:VEVENT
BEGIN:VEVENT
DTSTART;TZID=America/Los_Angeles:20241212T170000
DTEND;TZID=America/Los_Angeles:20241212T190000
DTSTAMP:20260424T112006
CREATED:20240827T030257Z
LAST-MODIFIED:20240827T030534Z
UID:4897-1734022800-1734030000@roslyndowntown.org
SUMMARY:"Scrumptious Holiday Soups" Cooking Class
DESCRIPTION:Create two delicious and comforting soups to take home and share! \nWarm up your holiday season with delightful soups that will make your celebrations even more special! You’ll learn to create delicious and comforting soups perfect for the holiday season. This class is designed to bring the warmth of homemade soups to your table\, creating a memorable meal that’s both satisfying and festive. You will take home two delicious soups to share! \nRegister here \nwww.yourculinarycreations.com  \nJoin the fun on Thursday\, December 12th\, from 5:00 PM – 7:00 PM for a cooking class with Chef Chris! Register here. \n Cost: $75  \nRoslyn Creative Center | 103 W Idaho Ave | Roslyn\, WA 98941 \n(See all upcoming Food Related Classes) \n2024 Fall Cooking Classes Schedule: \nAbout the Instructor:\nRoslyn Downtown Association Culinary Ambassador  \nChef Chris Plemmons “Legacy of Excellence and Education” \n \nWith over 35 years of dedicated experience in the culinary arts and food service industry\, Chef Christopher H Plemmons\, a Certified Executive Chef (CEC) and esteemed member of the American Academy of Chefs (AAC) brings a wealth of expertise\, passion\, and leadership to the table. Committed to staying at the forefront of culinary innovation\, Chef Plemmons actively engages in ongoing education programs provided by the American Culinary Federation (ACF) while tirelessly contributing to various community food events and initiatives. \nChef Chris works with the Roslyn Downtown Association\, is passionate about education\, and is committed to culinary excellence. Chef Plemmons looks forward to continuing his legacy of inspiring and empowering future generations of chefs. \n  \n\nCertified Executive Chef (CEC)\, American Academy of Chefs (AAC)\nMember\, American Culinary Federation (ACF)\nParticipant\, Michelle Obama’s “Chefs Move to Schools” Program (2010)\nPresident\, Vice President\, Chair of the Board\, Board Member\, and Chair of Chef and Child and Horizon 2000\, Washington State Chefs Association\nTrustee\, Washington State Chefs Association\nMember\, ACFEF Accrediting Commission Secondary Committee (2011 – 2017)\nCo-author\, “Washington State Association Foodbank Challenge” Cookbook\nCo-author\, “Cooking with Two Snooty Chefs”\nRecipient\, Chapter Chef of the Year (1993)\nRecipient\, Lawrence M Noonan Award\, Olympic College (2008)\nRecipient\, President’s Award\, Olympic College (2011)\n\nRecipient\, American Culinary Federation Western Region “Educator of the Year” Award (2020)
URL:https://roslyndowntown.org/event/scrumptious-holiday-soups-cooking-class/
LOCATION:RDA Creative Center\, 103 W. Idaho Ave.\, Roslyn\, WA\, 98941\, United States
CATEGORIES:Classes,Food Classes,RDA Creative Center Events,Show on Creative Center Page
ATTACH;FMTTYPE=image/jpeg:https://roslyndowntown.org/wp-content/uploads/2024/08/Holiday-soups.jpg
END:VEVENT
BEGIN:VEVENT
DTSTART;VALUE=DATE:20241221
DTEND;VALUE=DATE:20241222
DTSTAMP:20260424T112006
CREATED:20240112T070742Z
LAST-MODIFIED:20240124T065959Z
UID:3088-1734739200-1734825599@roslyndowntown.org
SUMMARY:Winter Solstice
DESCRIPTION:Saturday\, December 21 – Winter Solstice Roslyn Outdoor School… more information forthcoming
URL:https://roslyndowntown.org/event/winter-solstice/
LOCATION:Downtown Roslyn\, WA\, 98941
CATEGORIES:Festivals and Holiday Celebrations
ATTACH;FMTTYPE=image/png:https://roslyndowntown.org/wp-content/uploads/2024/01/winter-solstice-graphic.png
END:VEVENT
BEGIN:VEVENT
DTSTART;VALUE=DATE:20241224
DTEND;VALUE=DATE:20241225
DTSTAMP:20260424T112006
CREATED:20240112T072222Z
LAST-MODIFIED:20240117T044005Z
UID:3091-1734998400-1735084799@roslyndowntown.org
SUMMARY:Christmas Eve with Santa Roslyn Fire Department Magical Tradition 
DESCRIPTION:Tuesday\, December 24 – Christmas Eve with Santa Roslyn Fire Department Magical Tradition \n7:00 PM in front of the NWIC Bldg.
URL:https://roslyndowntown.org/event/christmas-eve-with-santa-roslyn-fire-department-magical-tradition/
LOCATION:Roslyn Fire Department\, 203 S 1st St\, Roslyn\, WA\, 98941
CATEGORIES:Downtown Events
ATTACH;FMTTYPE=image/png:https://roslyndowntown.org/wp-content/uploads/2024/01/Christmas-Eve-with-Santa-2024-graphic.png
END:VEVENT
END:VCALENDAR