BEGIN:VCALENDAR
VERSION:2.0
PRODID:-//Roslyn Downtown Association - ECPv6.15.20//NONSGML v1.0//EN
CALSCALE:GREGORIAN
METHOD:PUBLISH
X-WR-CALNAME:Roslyn Downtown Association
X-ORIGINAL-URL:https://roslyndowntown.org
X-WR-CALDESC:Events for Roslyn Downtown Association
REFRESH-INTERVAL;VALUE=DURATION:PT1H
X-Robots-Tag:noindex
X-PUBLISHED-TTL:PT1H
BEGIN:VTIMEZONE
TZID:America/Los_Angeles
BEGIN:DAYLIGHT
TZOFFSETFROM:-0800
TZOFFSETTO:-0700
TZNAME:PDT
DTSTART:20240310T100000
END:DAYLIGHT
BEGIN:STANDARD
TZOFFSETFROM:-0700
TZOFFSETTO:-0800
TZNAME:PST
DTSTART:20241103T090000
END:STANDARD
BEGIN:DAYLIGHT
TZOFFSETFROM:-0800
TZOFFSETTO:-0700
TZNAME:PDT
DTSTART:20250309T100000
END:DAYLIGHT
BEGIN:STANDARD
TZOFFSETFROM:-0700
TZOFFSETTO:-0800
TZNAME:PST
DTSTART:20251102T090000
END:STANDARD
BEGIN:DAYLIGHT
TZOFFSETFROM:-0800
TZOFFSETTO:-0700
TZNAME:PDT
DTSTART:20260308T100000
END:DAYLIGHT
BEGIN:STANDARD
TZOFFSETFROM:-0700
TZOFFSETTO:-0800
TZNAME:PST
DTSTART:20261101T090000
END:STANDARD
END:VTIMEZONE
BEGIN:VEVENT
DTSTART;TZID=America/Los_Angeles:20250305T183000
DTEND;TZID=America/Los_Angeles:20250305T203000
DTSTAMP:20260424T061815
CREATED:20250130T013649Z
LAST-MODIFIED:20250130T013649Z
UID:5204-1741199400-1741206600@roslyndowntown.org
SUMMARY:RDA Roslyn Music Jam - March 2025
DESCRIPTION:March 5 – RDA Roslyn Music Jam 6:30 – 8:30 PM \n(1st Wednesday of every month March thru November 2025 @ the RDA Creative Center) \nMarch 5 to November 5 \nBring an instrument and a tune (or two) to share and make some music with your community! \nALL LEVELS WELCOME! \n6:30 – 8:30 PM\nRoslyn Creative Center\n103 W Idaho – Roslyn\, WA \nHosted by Jake Weber\, Rob Witte & Bob Van Lone
URL:https://roslyndowntown.org/event/rda-roslyn-music-jam-march-2025/
LOCATION:RDA Creative Center\, 103 W. Idaho Ave.\, Roslyn\, WA\, 98941\, United States
CATEGORIES:Music,RDA Creative Center Events,Show on Creative Center Page
ATTACH;FMTTYPE=image/png:https://roslyndowntown.org/wp-content/uploads/2025/01/RDA-Acoustic-Music-Jam_Flyer-2025-scaled.png
ORGANIZER;CN="Roslyn Downtown Association":MAILTO:info@roslyndowntown.org
END:VEVENT
BEGIN:VEVENT
DTSTART;TZID=America/Los_Angeles:20250308T100000
DTEND;TZID=America/Los_Angeles:20250308T170000
DTSTAMP:20260424T061815
CREATED:20250203T054214Z
LAST-MODIFIED:20250203T054405Z
UID:5233-1741428000-1741453200@roslyndowntown.org
SUMMARY:35th Annual Spittoon Boat Races at The Brick
DESCRIPTION:Come to Roslyn for an unforgettable fun day at the 35th Annual Spittoon Boat Races on Saturday\, March 8th! The adrenaline begins to flow as the races kick off at Noon\, and you won’t want to miss a second of the action! \nWhether you’re a seasoned spectator or a first-time visitor\, this beloved local event promises excitement for everyone. Witness brave racers and their quirky\, creatively designed boats compete for the  Spittoon win! Cheer on your favorites\, and indulge in delicious food and drinks. \nFor all the details\, visit the website at bricksaloon.com \n 
URL:https://roslyndowntown.org/event/35th-annual-spittoon-boat-races-at-the-brick/
LOCATION:WA
ATTACH;FMTTYPE=image/jpeg:https://roslyndowntown.org/wp-content/uploads/2025/02/476122198_18320019127167485_7865159774695459031_n.jpg
END:VEVENT
END:VCALENDAR