BEGIN:VCALENDAR
VERSION:2.0
PRODID:-//Roslyn Downtown Association - ECPv6.15.20//NONSGML v1.0//EN
CALSCALE:GREGORIAN
METHOD:PUBLISH
X-WR-CALNAME:Roslyn Downtown Association
X-ORIGINAL-URL:https://roslyndowntown.org
X-WR-CALDESC:Events for Roslyn Downtown Association
REFRESH-INTERVAL;VALUE=DURATION:PT1H
X-Robots-Tag:noindex
X-PUBLISHED-TTL:PT1H
BEGIN:VTIMEZONE
TZID:America/Los_Angeles
BEGIN:DAYLIGHT
TZOFFSETFROM:-0800
TZOFFSETTO:-0700
TZNAME:PDT
DTSTART:20240310T100000
END:DAYLIGHT
BEGIN:STANDARD
TZOFFSETFROM:-0700
TZOFFSETTO:-0800
TZNAME:PST
DTSTART:20241103T090000
END:STANDARD
BEGIN:DAYLIGHT
TZOFFSETFROM:-0800
TZOFFSETTO:-0700
TZNAME:PDT
DTSTART:20250309T100000
END:DAYLIGHT
BEGIN:STANDARD
TZOFFSETFROM:-0700
TZOFFSETTO:-0800
TZNAME:PST
DTSTART:20251102T090000
END:STANDARD
BEGIN:DAYLIGHT
TZOFFSETFROM:-0800
TZOFFSETTO:-0700
TZNAME:PDT
DTSTART:20260308T100000
END:DAYLIGHT
BEGIN:STANDARD
TZOFFSETFROM:-0700
TZOFFSETTO:-0800
TZNAME:PST
DTSTART:20261101T090000
END:STANDARD
END:VTIMEZONE
BEGIN:VEVENT
DTSTART;TZID=America/Los_Angeles:20250401T080000
DTEND;TZID=America/Los_Angeles:20250417T150000
DTSTAMP:20260424T043843
CREATED:20250114T124814Z
LAST-MODIFIED:20250401T060808Z
UID:5159-1743494400-1744902000@roslyndowntown.org
SUMMARY:Hippity Hoppity Easter Basket Drawing
DESCRIPTION:Hippity Hoppity\, Easter is hopping into Roslyn! \nEnter a chance to win an Easter gift basket brimming with delightful goodies. \nHop into Roslyn\, support local businesses\, and have fun!
URL:https://roslyndowntown.org/event/5159/
LOCATION:WA
ATTACH;FMTTYPE=image/png:https://roslyndowntown.org/wp-content/uploads/2025/01/Easter-2025.png
END:VEVENT
BEGIN:VEVENT
DTSTART;TZID=America/Los_Angeles:20250402T183000
DTEND;TZID=America/Los_Angeles:20250402T203000
DTSTAMP:20260424T043843
CREATED:20250130T013849Z
LAST-MODIFIED:20250130T013849Z
UID:5207-1743618600-1743625800@roslyndowntown.org
SUMMARY:RDA Roslyn Music Jam - April 2025
DESCRIPTION:April 2 – RDA Roslyn Music Jam 6:30 – 8:30 PM \n(1st Wednesday of every month March thru November 2025 @ the RDA Creative Center) \nMarch 5 to November 5 \nBring an instrument and a tune (or two) to share and make some music with your community! \nALL LEVELS WELCOME! \n6:30 – 8:30 PM\nRoslyn Creative Center\n103 W Idaho – Roslyn\, WA \nHosted by Jake Weber\, Rob Witte & Bob Van Lone
URL:https://roslyndowntown.org/event/rda-roslyn-music-jam-april-2025/
LOCATION:RDA Creative Center\, 103 W. Idaho Ave.\, Roslyn\, WA\, 98941\, United States
CATEGORIES:Music,RDA Creative Center Events,Show on Creative Center Page
ATTACH;FMTTYPE=image/png:https://roslyndowntown.org/wp-content/uploads/2025/01/RDA-Acoustic-Music-Jam_Flyer-2025-scaled.png
ORGANIZER;CN="Roslyn Downtown Association":MAILTO:info@roslyndowntown.org
END:VEVENT
BEGIN:VEVENT
DTSTART;TZID=America/Los_Angeles:20250412T124500
DTEND;TZID=America/Los_Angeles:20250412T143000
DTSTAMP:20260424T043843
CREATED:20250401T061429Z
LAST-MODIFIED:20250401T062156Z
UID:5247-1744461900-1744468200@roslyndowntown.org
SUMMARY:ARRF Doggie Easter Egg Hunt
DESCRIPTION:From ARRF:  The highly anticipated Doggy Easter Egg Hunt is just around the corner—happening in less than two weeks! This exciting event is a fantastic opportunity for dogs and their families to enjoy a day filled with fun\, laughter\, and festive activities.\n\n\n\nBring your furry companions for an unforgettable experience as they search for treat-filled Easter eggs\, socialize with other pups\, and soak in the joyful atmosphere. Families can also capture special memories with photos alongside the Easter Bunny\, creating a cherished keepsake of the day.\n\n\n\nWhether you’re a longtime participant or joining us for the first time\, we can’t wait to celebrate with you and your beloved pets. Stay tuned for more details\, and mark your calendars—we look forward to seeing you there!
URL:https://roslyndowntown.org/event/arrf-doggie-easter-egg-hunt/
LOCATION:WA
ATTACH;FMTTYPE=image/jpeg:https://roslyndowntown.org/wp-content/uploads/2025/03/487799468_1064062279083834_7357212940265172703_n.jpg
END:VEVENT
END:VCALENDAR