BEGIN:VCALENDAR
VERSION:2.0
PRODID:-//Roslyn Downtown Association - ECPv6.15.20//NONSGML v1.0//EN
CALSCALE:GREGORIAN
METHOD:PUBLISH
X-ORIGINAL-URL:https://roslyndowntown.org
X-WR-CALDESC:Events for Roslyn Downtown Association
REFRESH-INTERVAL;VALUE=DURATION:PT1H
X-Robots-Tag:noindex
X-PUBLISHED-TTL:PT1H
BEGIN:VTIMEZONE
TZID:America/Los_Angeles
BEGIN:DAYLIGHT
TZOFFSETFROM:-0800
TZOFFSETTO:-0700
TZNAME:PDT
DTSTART:20240310T100000
END:DAYLIGHT
BEGIN:STANDARD
TZOFFSETFROM:-0700
TZOFFSETTO:-0800
TZNAME:PST
DTSTART:20241103T090000
END:STANDARD
BEGIN:DAYLIGHT
TZOFFSETFROM:-0800
TZOFFSETTO:-0700
TZNAME:PDT
DTSTART:20250309T100000
END:DAYLIGHT
BEGIN:STANDARD
TZOFFSETFROM:-0700
TZOFFSETTO:-0800
TZNAME:PST
DTSTART:20251102T090000
END:STANDARD
BEGIN:DAYLIGHT
TZOFFSETFROM:-0800
TZOFFSETTO:-0700
TZNAME:PDT
DTSTART:20260308T100000
END:DAYLIGHT
BEGIN:STANDARD
TZOFFSETFROM:-0700
TZOFFSETTO:-0800
TZNAME:PST
DTSTART:20261101T090000
END:STANDARD
END:VTIMEZONE
BEGIN:VEVENT
DTSTART;TZID=America/Los_Angeles:20250503T180000
DTEND;TZID=America/Los_Angeles:20250503T203000
DTSTAMP:20260424T025348
CREATED:20250425T101040Z
LAST-MODIFIED:20250425T101146Z
UID:5365-1746295200-1746304200@roslyndowntown.org
SUMMARY:Tour of Croatia Dinner
DESCRIPTION:Join us for a unique dining experience on Saturday\, May 3rd at 6:00 p.m. as the Fat Pastor Chef takes you on a delightful tour of Croatia! Expect an entertaining evening filled with laughter\, storytelling\, and an unforgettable\, over-the-top dinner. Reserve your spot soon!
URL:https://roslyndowntown.org/event/tour-of-croatia-dinner/
LOCATION:RDA Creative Center\, 103 W. Idaho Ave.\, Roslyn\, WA\, 98941\, United States
CATEGORIES:Show on Creative Center Page
ATTACH;FMTTYPE=image/jpeg:https://roslyndowntown.org/wp-content/uploads/2025/04/May-3-Tour-of-Croatia_FV-1.jpeg
END:VEVENT
BEGIN:VEVENT
DTSTART;VALUE=DATE:20250504
DTEND;VALUE=DATE:20250505
DTSTAMP:20260424T025348
CREATED:20250114T025038Z
LAST-MODIFIED:20250413T214405Z
UID:5144-1746316800-1746403199@roslyndowntown.org
SUMMARY:Roslyn Eagles Mother's Day Tea and Brunch
DESCRIPTION:Mother’s Day Tea | 11:00 AM | Sunday\, May 4\, 2025. Tickets are $25 for adults and teens\, while youth 12 and under can attend for free.| \n\n\n\n\n\n\n\n\n\n\n\nEnjoy a delightful Mother’s Day Tea and Brunch\, featuring traditional teas and a savory selection of bites and treats\, including cocktail specials.  The special guest speaker\, Annie Pressler\, will share her insights on backyard foraging. \nAnd don’t miss the chance to enter our raffle for a gift basket from the Roslyn Downtown Association! \nProceeds from this event will support the high school scholarship fund. We hope to see you there!
URL:https://roslyndowntown.org/event/roslyn-eagles-mothers-day-tea-2025/
LOCATION:Roslyn Eagles #696\, 107 N 2nd St\, Roslyn\, WA\, 98941
CATEGORIES:Community Events
ATTACH;FMTTYPE=image/jpeg:https://roslyndowntown.org/wp-content/uploads/2025/01/2025Tea_8x11-scaled.jpg
END:VEVENT
BEGIN:VEVENT
DTSTART;TZID=America/Los_Angeles:20250505T150000
DTEND;TZID=America/Los_Angeles:20250505T180000
DTSTAMP:20260424T025348
CREATED:20250130T001208Z
LAST-MODIFIED:20250430T214333Z
UID:5200-1746457200-1746468000@roslyndowntown.org
SUMMARY:RDA Roslyn Cinco de Mayo Mariachi Band @ the Roslyn Yard - 2025
DESCRIPTION:May 5 – RDA Roslyn Cinco de Mayo Mariachi Band @ the Roslyn Yard\,  3:00 – 6:00 PM\, performing at the Roslyn Yard and around the downtown. \nCome to Roslyn to dine and have fun! \n 
URL:https://roslyndowntown.org/event/rda-roslyn-cinco-de-mayo-mariachi-band-the-roslyn-yard-2025/
LOCATION:The Roslyn Yard\, 104 W Pennsylvania Ave\, Roslyn\, WA\, 98941
CATEGORIES:Community Events,Festivals and Holiday Celebrations,Music
ATTACH;FMTTYPE=image/png:https://roslyndowntown.org/wp-content/uploads/2025/01/Cinco-De-Mayo-flyer-2025-2.png
ORGANIZER;CN="Roslyn Downtown Association":MAILTO:info@roslyndowntown.org
END:VEVENT
BEGIN:VEVENT
DTSTART;TZID=America/Los_Angeles:20250507T183000
DTEND;TZID=America/Los_Angeles:20250507T203000
DTSTAMP:20260424T025348
CREATED:20250130T013951Z
LAST-MODIFIED:20250130T013951Z
UID:5209-1746642600-1746649800@roslyndowntown.org
SUMMARY:RDA Roslyn Music Jam - May 2025
DESCRIPTION:May 7 – RDA Roslyn Music Jam 6:30 – 8:30 PM \n(1st Wednesday of every month March thru November 2025 @ the RDA Creative Center) \nMarch 5 to November 5 \nBring an instrument and a tune (or two) to share and make some music with your community! \nALL LEVELS WELCOME! \n6:30 – 8:30 PM\nRoslyn Creative Center\n103 W Idaho – Roslyn\, WA \nHosted by Jake Weber\, Rob Witte & Bob Van Lone
URL:https://roslyndowntown.org/event/rda-roslyn-music-jam-may-2025/
LOCATION:RDA Creative Center\, 103 W. Idaho Ave.\, Roslyn\, WA\, 98941\, United States
CATEGORIES:Music,RDA Creative Center Events,Show on Creative Center Page
ATTACH;FMTTYPE=image/png:https://roslyndowntown.org/wp-content/uploads/2025/01/RDA-Acoustic-Music-Jam_Flyer-2025-scaled.png
ORGANIZER;CN="Roslyn Downtown Association":MAILTO:info@roslyndowntown.org
END:VEVENT
BEGIN:VEVENT
DTSTART;TZID=America/Los_Angeles:20250510T113000
DTEND;TZID=America/Los_Angeles:20250510T140000
DTSTAMP:20260424T025348
CREATED:20250425T102914Z
LAST-MODIFIED:20250425T130309Z
UID:5369-1746876600-1746885600@roslyndowntown.org
SUMMARY:Mothers Day Brunch
DESCRIPTION:Treat that special someone to a unique Mother’s Day brunch crafted just for you by the Fat Pastor Chef! Combine a memorable moment with a delightful experience on Saturday\, May 3rd\, from 11:30 a.m. to 2:00 p.m. Each attendee will also receive a special gift to make the day memorable!
URL:https://roslyndowntown.org/event/mothers-day-brunch/
LOCATION:RDA Creative Center\, 103 W. Idaho Ave.\, Roslyn\, WA\, 98941\, United States
CATEGORIES:Show on Creative Center Page
ATTACH;FMTTYPE=image/jpeg:https://roslyndowntown.org/wp-content/uploads/2025/04/May-10th-Mothers-Day-Brunch_1744948542532-1.jpeg
END:VEVENT
END:VCALENDAR