BEGIN:VCALENDAR
VERSION:2.0
PRODID:-//Roslyn Downtown Association - ECPv6.15.20//NONSGML v1.0//EN
CALSCALE:GREGORIAN
METHOD:PUBLISH
X-ORIGINAL-URL:https://roslyndowntown.org
X-WR-CALDESC:Events for Roslyn Downtown Association
REFRESH-INTERVAL;VALUE=DURATION:PT1H
X-Robots-Tag:noindex
X-PUBLISHED-TTL:PT1H
BEGIN:VTIMEZONE
TZID:America/Los_Angeles
BEGIN:DAYLIGHT
TZOFFSETFROM:-0800
TZOFFSETTO:-0700
TZNAME:PDT
DTSTART:20240310T100000
END:DAYLIGHT
BEGIN:STANDARD
TZOFFSETFROM:-0700
TZOFFSETTO:-0800
TZNAME:PST
DTSTART:20241103T090000
END:STANDARD
BEGIN:DAYLIGHT
TZOFFSETFROM:-0800
TZOFFSETTO:-0700
TZNAME:PDT
DTSTART:20250309T100000
END:DAYLIGHT
BEGIN:STANDARD
TZOFFSETFROM:-0700
TZOFFSETTO:-0800
TZNAME:PST
DTSTART:20251102T090000
END:STANDARD
BEGIN:DAYLIGHT
TZOFFSETFROM:-0800
TZOFFSETTO:-0700
TZNAME:PDT
DTSTART:20260308T100000
END:DAYLIGHT
BEGIN:STANDARD
TZOFFSETFROM:-0700
TZOFFSETTO:-0800
TZNAME:PST
DTSTART:20261101T090000
END:STANDARD
END:VTIMEZONE
BEGIN:VEVENT
DTSTART;TZID=America/Los_Angeles:20251001T183000
DTEND;TZID=America/Los_Angeles:20251001T203000
DTSTAMP:20260423T175755
CREATED:20250130T014344Z
LAST-MODIFIED:20250130T014344Z
UID:5219-1759343400-1759350600@roslyndowntown.org
SUMMARY:RDA Roslyn Music Jam - October 2025
DESCRIPTION:October 1 – RDA Roslyn Music Jam 6:30 – 8:30 PM \n(1st Wednesday of every month March thru November 2025 @ the RDA Creative Center) \nMarch 5 to November 5 \nBring an instrument and a tune (or two) to share and make some music with your community! \nALL LEVELS WELCOME! \n6:30 – 8:30 PM\nRoslyn Creative Center\n103 W Idaho – Roslyn\, WA \nHosted by Jake Weber\, Rob Witte & Bob Van Lone
URL:https://roslyndowntown.org/event/rda-roslyn-music-jam-october-2025/
LOCATION:RDA Creative Center\, 103 W. Idaho Ave.\, Roslyn\, WA\, 98941\, United States
CATEGORIES:Music,RDA Creative Center Events,Show on Creative Center Page
ATTACH;FMTTYPE=image/png:https://roslyndowntown.org/wp-content/uploads/2025/01/RDA-Acoustic-Music-Jam_Flyer-2025-scaled.png
ORGANIZER;CN="Roslyn Downtown Association":MAILTO:info@roslyndowntown.org
END:VEVENT
BEGIN:VEVENT
DTSTART;TZID=America/Los_Angeles:20251004T130000
DTEND;TZID=America/Los_Angeles:20251004T141500
DTSTAMP:20260423T175755
CREATED:20250129T235659Z
LAST-MODIFIED:20251003T080844Z
UID:5195-1759582800-1759587300@roslyndowntown.org
SUMMARY:Yakama Nation Creators Law Ceremony 2025
DESCRIPTION:Families and friends – please join The Roslyn Downtown Association at the  Yakama Nation Creators Law Ceremony – \nSaturday\, Oct. 4\, 1:00-2:15 p.m. \nJoin us for a Yakama Nation Wild Rose Dance Group and Drummer Performance and a Narrative of the Creators Law \nat the City of Roslyn Pioneer Park (aka Runje Field) centered around the Creators Law Sculpture (feel free to bring lawn chairs or blankets to sit on the lawn) \nLearn more background at roslyndowntown.org/yakama-nation
URL:https://roslyndowntown.org/event/yakama-nation-creators-law-ceremony-2025/
LOCATION:Roslyn Pioneer Park\, N. 3rd Street\, Roslyn\, WA\, 98941
CATEGORIES:Community Events,Festivals and Holiday Celebrations
ATTACH;FMTTYPE=image/jpeg:https://roslyndowntown.org/wp-content/uploads/2025/01/RDA-Creators-Law-ceremony-flyer-2025REV-scaled.jpg
ORGANIZER;CN="Roslyn Downtown Association":MAILTO:info@roslyndowntown.org
END:VEVENT
BEGIN:VEVENT
DTSTART;TZID=America/Los_Angeles:20251031T150000
DTEND;TZID=America/Los_Angeles:20251031T170000
DTSTAMP:20260423T175755
CREATED:20250130T021631Z
LAST-MODIFIED:20251009T225926Z
UID:5223-1761922800-1761930000@roslyndowntown.org
SUMMARY:Boo-tiful Trick or Treat Downtown Businesses - informal and fun...
DESCRIPTION:Friday\, October 31 – Boo-tiful  Roslyn Treats –  hosted by all the businesses downtown\, 3:00 pm – 5:00 pm. \n\nAbourezk & Co.\nAll Seasons Vacation Rentals\nAPS Survey & Mapping\nBasecamp Books & Bites\nBasecamp Outfitters\nBlanford Law\nCarek’s Meat Market\nCicely’s Gift Shop\nCoal Chute Café\nCorks Wine Shop\nCrow Creek Fly Fishing\nDina Yarbrough Photography\nFeather + Larch\nFused\nHeritage Distilling Co.\nHotel Roslyn\nHuckleberry House\nInland Networks\nLevel Up\nLittle Pangea Kitchen\nMarko’s Place\nMountain Joy\nRebels Relics Trading\nRide Roslyn\nRoslyn Brewing CO.\nRoslyn Candy Co.\nRoslyn Downtown Assoc.\nRoslyn Eagles\nRoslyn Grocery\nRoslyn Library\nRoslyn Mexican Grill\nRoslyn Movie Theatre\nRoslyn Old CO. Mercantile\nRoslyn Red House:\n\n• Simple Indulgence\n• Simple Wellness Co.\n\n\nRoslyn Soap Company\nRoslyn Style Gifts\nShanndee’s Boutique\nThe Brick\nThe Original Hot Dog Stand\n  The Wine Collaboration\nVillage Pizza\n Whole Pet Shop
URL:https://roslyndowntown.org/event/boo-tiful-roslyn-trick-or-treat-downtown-businesses-2025/
LOCATION:Downtown Roslyn\, WA\, 98941
CATEGORIES:Downtown Events
ATTACH;FMTTYPE=image/png:https://roslyndowntown.org/wp-content/uploads/2025/10/Boo-tiful-Halloween-2025-flyer-1-scaled.png
END:VEVENT
END:VCALENDAR