BEGIN:VCALENDAR
VERSION:2.0
PRODID:-//Roslyn Downtown Association - ECPv6.15.20//NONSGML v1.0//EN
CALSCALE:GREGORIAN
METHOD:PUBLISH
X-ORIGINAL-URL:https://roslyndowntown.org
X-WR-CALDESC:Events for Roslyn Downtown Association
REFRESH-INTERVAL;VALUE=DURATION:PT1H
X-Robots-Tag:noindex
X-PUBLISHED-TTL:PT1H
BEGIN:VTIMEZONE
TZID:America/Los_Angeles
BEGIN:DAYLIGHT
TZOFFSETFROM:-0800
TZOFFSETTO:-0700
TZNAME:PDT
DTSTART:20240310T100000
END:DAYLIGHT
BEGIN:STANDARD
TZOFFSETFROM:-0700
TZOFFSETTO:-0800
TZNAME:PST
DTSTART:20241103T090000
END:STANDARD
BEGIN:DAYLIGHT
TZOFFSETFROM:-0800
TZOFFSETTO:-0700
TZNAME:PDT
DTSTART:20250309T100000
END:DAYLIGHT
BEGIN:STANDARD
TZOFFSETFROM:-0700
TZOFFSETTO:-0800
TZNAME:PST
DTSTART:20251102T090000
END:STANDARD
BEGIN:DAYLIGHT
TZOFFSETFROM:-0800
TZOFFSETTO:-0700
TZNAME:PDT
DTSTART:20260308T100000
END:DAYLIGHT
BEGIN:STANDARD
TZOFFSETFROM:-0700
TZOFFSETTO:-0800
TZNAME:PST
DTSTART:20261101T090000
END:STANDARD
END:VTIMEZONE
BEGIN:VEVENT
DTSTART;TZID=America/Los_Angeles:20251105T183000
DTEND;TZID=America/Los_Angeles:20251105T203000
DTSTAMP:20260423T160956
CREATED:20250130T014446Z
LAST-MODIFIED:20250130T014446Z
UID:5221-1762367400-1762374600@roslyndowntown.org
SUMMARY:RDA Roslyn Music Jam - November 2025 - LAST SESSION FOR SEASON
DESCRIPTION:November 5 – LAST SESSION FOR 2025 – RDA Roslyn Music Jam 6:30 – 8:30 PM \n(1st Wednesday of every month March thru November 2025 @ the RDA Creative Center) \nMarch 5 to November 5 \nBring an instrument and a tune (or two) to share and make some music with your community! \nALL LEVELS WELCOME! \n6:30 – 8:30 PM\nRoslyn Creative Center\n103 W Idaho – Roslyn\, WA \nHosted by Jake Weber\, Rob Witte & Bob Van Lone
URL:https://roslyndowntown.org/event/rda-roslyn-music-jam-november-2025-last-session-for-season/
LOCATION:RDA Creative Center\, 103 W. Idaho Ave.\, Roslyn\, WA\, 98941\, United States
CATEGORIES:Music,RDA Creative Center Events,Show on Creative Center Page
ATTACH;FMTTYPE=image/png:https://roslyndowntown.org/wp-content/uploads/2025/01/RDA-Acoustic-Music-Jam_Flyer-2025-scaled.png
ORGANIZER;CN="Roslyn Downtown Association":MAILTO:info@roslyndowntown.org
END:VEVENT
BEGIN:VEVENT
DTSTART;TZID=America/Los_Angeles:20251128T100000
DTEND;TZID=America/Los_Angeles:20251128T193000
DTSTAMP:20260423T160956
CREATED:20250921T032341Z
LAST-MODIFIED:20251112T150329Z
UID:5593-1764324000-1764358200@roslyndowntown.org
SUMMARY:Roslyn Old Town Christmas
DESCRIPTION:Roslyn Old Town Christmas 2025!\n \nEvent Overview:\n🎄✨ It’s the countdown to the most wonderful time of the year! Join us for our Annual  Old Town Christmas Roslyn Style. You will be thrilled with a festive experience to cheer in the Christmas season. From two free movie showings of Elf at Roslyn Theatre\, designing your own Charm Bracelet\, crafts and face painting for the kids\, live entertainment around town\, and more! \nStarting at 10:00 a.m.\, enjoy activities downtown throughout the day. At 5:15 p.m.\, the Christmas program begins with The Mountain Voices Children’s Choir\, special entertainment by Mel Peterson\, and the exciting countdown to lighting the Christmas tree at 6:00 pm\, followed by the Yakima Christmas Trucks parade. \nSave the date and come one\, come all\, to kick off a Merry Christmas season! 🎅🎁 \n \nThe parade starts at 6:05 p.m. at the corner of HWY 903 (1st Street) and Pennsylvania Ave.\, then turns left onto Washington Ave.\, followed by a left onto Second Street. It then turns left onto Pennsylvania Ave. The Yakima Christmas Trucks will be staged and parked downtown on Pennsylvania Ave. for all to enjoy\, allowing families and friends to take photos until 7:20 p.m. \nPre-Buy Bracelets!\n \nVisit these Roslyn Businesses for SPECIAL OFFERS during Roslyn Old Town Christmas!\n\n\n\nAbourezk and Co.\nFree handmade ornament with a $50 purchase (while supplies last) Cheese spread pop-up\n\n\nBasecamp Books and Bites\nFree ornament with a $50 purchase\n\n\nBasecamp Outfitters\nSpend $100 or more and receive a pair of hiking socks (while supplies last)\n\n\nCicely’s Gift Shop\nRed Tag Sale – 50% off\n\n\nCORKS \nCharm for the “Charming Christmas” bracelet\n\n\nCrow Creek Fly Shop\n10% off storewide\, along with various in-house specials\n\n\nDina Yarbrough Photography\n(BOGO – Buy One Get One Free) Buy one 8×10 or 18×24 matted print & receive a second one free\n\n\nFeather and Larch\nFace painting pop-up\n\n\nFused\nFree gift for every $50 and above purchase (while supplies last)\n\n\nHeritage Distilling Co.\nSpecial Christmas – themed cocktail\n\n\nHoney’s Kitchen\nFood Specials & Enter to win a custom Honey’s gift basket\n\n\nHotel Roslyn\nFree gift with $50 purchase (while supplies last)\n\n\nLevel Up Arcade\, Skate Shop & Snowboards\nBuy $100 worth of play\, receive $25 in bonus play\n\n\nLittle Pangea Kitchen\nServing breakfast\, lunch and a special menu from 4 p.m. on – signature Lamb-Beef Gyro\, Cheesesteak\, “Walking Ramen” (loaded cup o’ noodles) and Yellow Thai Chicken Curry\n\n\nMarkos Place & The Hideaway\nFour $25 gift cards. Enter to win 2 at Markos & 2 at The Hideaway\n\n\nMountain Joy Boutique\nIn-store specials and enter to win drawing with purchase\n\n\nRide Roslyn Bike and Board (Northwest Bicycle Improvement Co.)\nSpend $50 to enter to win an e-bike rental for 2\n\n\nRebels Reclics Trading\n20% off storewide\n\n\nRobinson Plant Co.\n10% off Christmas tress – November 28th only\n\n\nRoslyn Brewing\n$1 off pints\n\n\nRoslyn Candy Co.\nSpend $50 and receive a 4 piece assorted chocolate\n\n\nRoslyn Coffee Company\nBuy $75 in gift cards\, receive a $25 gift certificate\n\n\nRoslyn Downtown Association\nEnter to win a gift basket valued at $400\n\n\nRoslyn Fitness\nFor every embroidered Christmas tie-dye purchased\, a $5 donation will be made to Habitat for Humanity\n\n\nRoslyn Grocery\nCharm for “Charming Christmas” bracelet and enter to win a drawing for a Roslyn Grocery inspired gift basket\n\n\nRoslyn Mexican Grill\n2 Chances – Enter to win a $50 gift certificate\n\n\nRoslyn Old Company Mercantile\nEnter to win a $50 gift card\n\n\nRoslyn Soap Company\nFree bar of soap with a purchase of $20 or more ( while supplies last)\n\n\nRoslyn Style Gifts\nPurchase an ornament\, receive another ornament free\n\n\nRoslyn Theatre\nBuy 2 Movie Tickets and enter to win a $100 gift certificate\n\n\nSimple Wellness and Simple Indulgence Wellness\n Kids craft activitiy to make something special\n\n\nThe Boutique at Hotel Roslyn\nFree gift with $50 purchase (while supplies last)\n\n\nThe Brick Saloon\nHoliday drink options\n\n\nThe Original Hot Dog Stand\nHot dog\, chips and a drink special – $10\n\n\nVillage Pizza\n2 Chances – Enter to win a $50 gift card\n\n\nWhole Pet Shop\n20% off all toys & treats. For every $10 spent\, enters you for a chance to win a gift basket
URL:https://roslyndowntown.org/event/old-town-christmas-2025/
LOCATION:Downtown Roslyn\, WA\, 98941
CATEGORIES:Community Events,Downtown Events,Entertainment,Festivals and Holiday Celebrations
ATTACH;FMTTYPE=image/png:https://roslyndowntown.org/wp-content/uploads/2025/09/RDA-Flyer-Old-Town-Christmas-2025.png
END:VEVENT
BEGIN:VEVENT
DTSTART;TZID=America/Los_Angeles:20251128T110000
DTEND;TZID=America/Los_Angeles:20251128T170000
DTSTAMP:20260423T160956
CREATED:20251023T164318Z
LAST-MODIFIED:20251027T162336Z
UID:5844-1764327600-1764349200@roslyndowntown.org
SUMMARY:RDA "A Charming Christmas" - Collect Charms to Make Your Own Souvenir Bracelet!
DESCRIPTION:Roslyn Downtown Association presents: “A Charming Christmas” \nPre-Order for $15 each now! Then\, on November 28\, 2025\, come to the Masonic Hall at 122 W. Pennsylvania Ave. (next to the Roslyn Post Office) to receive your bracelet\, charms bag and charms map. Check-in between at 11AM-4PM. Then stroll the businesses of Roslyn to collect all your charms by 5PM.
URL:https://roslyndowntown.org/event/rda-a-charming-christmas-collect-charms-to-make-your-own-souvenir-bracelet/
LOCATION:Downtown Roslyn\, WA\, 98941
CATEGORIES:Downtown Events,Festivals and Holiday Celebrations
ATTACH;FMTTYPE=image/png:https://roslyndowntown.org/wp-content/uploads/2025/10/A-Charming-Christmas-2025-3.png
ORGANIZER;CN="Roslyn Downtown Association":MAILTO:info@roslyndowntown.org
END:VEVENT
BEGIN:VEVENT
DTSTART;TZID=America/Los_Angeles:20251129T110000
DTEND;TZID=America/Los_Angeles:20251129T160000
DTSTAMP:20260423T160956
CREATED:20250130T030158Z
LAST-MODIFIED:20250130T030301Z
UID:5226-1764414000-1764432000@roslyndowntown.org
SUMMARY:Roslyn Eagles Christmas Bazaar - 2025
DESCRIPTION:Vendors are bursting with excitement to invite you to Roslyn’s Holiday Bazaar! 🎄✨ at the Roslyn Eagles on Saturday\, November 29th for a day filled with holiday cheer\, creativity\, and shopping galore!  It’s the perfect chance to support our amazing local talents and discover one-of-a-kind gifts that will make your loved ones smile. From handmade crafts to delightful treats\, there’s something special waiting for everyone! \nEvent Details: \n\nDate: November 29th\nTime: 11:00 am – 4:00 pm\nLocation: Roslyn Eagles\, 107 N. 2nd St.\, Roslyn\, WA\n\n 
URL:https://roslyndowntown.org/event/roslyn-eagles-christmas-bazaar-2025/
LOCATION:Roslyn Eagles #696\, 107 N 2nd St\, Roslyn\, WA\, 98941
CATEGORIES:Community Events,Festivals and Holiday Celebrations
ATTACH;FMTTYPE=image/png:https://roslyndowntown.org/wp-content/uploads/2025/01/Roslyn-Eagles-Holiday-Bazaar-2025-scaled.png
END:VEVENT
END:VCALENDAR