BEGIN:VCALENDAR
VERSION:2.0
PRODID:-//Roslyn Downtown Association - ECPv6.15.20//NONSGML v1.0//EN
CALSCALE:GREGORIAN
METHOD:PUBLISH
X-WR-CALNAME:Roslyn Downtown Association
X-ORIGINAL-URL:https://roslyndowntown.org
X-WR-CALDESC:Events for Roslyn Downtown Association
REFRESH-INTERVAL;VALUE=DURATION:PT1H
X-Robots-Tag:noindex
X-PUBLISHED-TTL:PT1H
BEGIN:VTIMEZONE
TZID:America/Los_Angeles
BEGIN:DAYLIGHT
TZOFFSETFROM:-0800
TZOFFSETTO:-0700
TZNAME:PDT
DTSTART:20250309T100000
END:DAYLIGHT
BEGIN:STANDARD
TZOFFSETFROM:-0700
TZOFFSETTO:-0800
TZNAME:PST
DTSTART:20251102T090000
END:STANDARD
BEGIN:DAYLIGHT
TZOFFSETFROM:-0800
TZOFFSETTO:-0700
TZNAME:PDT
DTSTART:20260308T100000
END:DAYLIGHT
BEGIN:STANDARD
TZOFFSETFROM:-0700
TZOFFSETTO:-0800
TZNAME:PST
DTSTART:20261101T090000
END:STANDARD
BEGIN:DAYLIGHT
TZOFFSETFROM:-0800
TZOFFSETTO:-0700
TZNAME:PDT
DTSTART:20270314T100000
END:DAYLIGHT
BEGIN:STANDARD
TZOFFSETFROM:-0700
TZOFFSETTO:-0800
TZNAME:PST
DTSTART:20271107T090000
END:STANDARD
END:VTIMEZONE
BEGIN:VEVENT
DTSTART;TZID=America/Los_Angeles:20260304T183000
DTEND;TZID=America/Los_Angeles:20260304T203000
DTSTAMP:20260423T093903
CREATED:20260125T011649Z
LAST-MODIFIED:20260125T012118Z
UID:6723-1772649000-1772656200@roslyndowntown.org
SUMMARY:RDA Roslyn Music Jam - March 2026
DESCRIPTION:March 4\, 2026 – RDA Roslyn Music Jam 6:30 – 8:30 PM \n(1st Wednesday of every month March thru November 2026 @ the RDA Creative Center) \nMarch 4 to November 4 \nBring an instrument and a tune (or two) to share and make some music with your community! \nALL LEVELS WELCOME! \n6:30 – 8:30 PM\nRoslyn Creative Center\n103 W Idaho – Roslyn\, WA \nHosted by Jake Weber\, Rob Witte & Bob Van Lone
URL:https://roslyndowntown.org/event/music-jam-march-2026/
LOCATION:RDA Creative Center\, 103 W. Idaho Ave.\, Roslyn\, WA\, 98941\, United States
CATEGORIES:Music,RDA Creative Center Events,Show on Creative Center Page
ATTACH;FMTTYPE=image/png:https://roslyndowntown.org/wp-content/uploads/2026/01/2026-Jam-Night.png
ORGANIZER;CN="Roslyn Downtown Association":MAILTO:info@roslyndowntown.org
END:VEVENT
BEGIN:VEVENT
DTSTART;TZID=America/Los_Angeles:20260314T100000
DTEND;TZID=America/Los_Angeles:20260314T170000
DTSTAMP:20260423T093903
CREATED:20260220T043603Z
LAST-MODIFIED:20260220T053800Z
UID:6880-1773482400-1773507600@roslyndowntown.org
SUMMARY:36th Annual Spittoon Boat Races at The Brick
DESCRIPTION:Come to Roslyn for an unforgettable fun day at the 36th Annual Spittoon Boat Races on Saturday\, March 14th! The adrenaline begins to flow as the races kick off at Noon\, and you won’t want to miss a second of the action! \nWhether you’re a seasoned spectator or a first-time visitor\, this beloved local event promises excitement for everyone. Witness brave racers and their quirky\, creatively designed boats compete for the  Spittoon win! Cheer on your favorites\, and indulge in delicious food and drinks. \nAhoy Mates! \nWe invite you\, your teammates\, friends\, and fellow race fans to participate in the THIRTY-SIXTH Annual Indoor Running Water Spittoon Boat Races & Regatta – THE ONLY RACE OF ITS KIND IN THE WORLD! \nThis high-class nautical spectacle takes place at the historic 137-year-old Brick Saloon in Roslyn\, WA on Saturday March 14th\, featuring our legendary 23-foot running-water spittoon racecourse. \nSchedule \n\nThe Brick opens: 10am\nWeigh-in & registration: 10am – 11:45\nRacing begins promptly at 12pm (Noon)\n\nAfter the races\, dust off your dancing shoes and join us for The Brick Nautical Ball at 9pm\, featuring live music by The Hipsters. You won’t want to miss this one!! \nClasses and Specifications \n\nSoap/Wax  –  boats cannot weigh more than 1 oz\nWood  – boats cannot weigh more than 1 oz\nPaper/Plastic – boats cannot weigh more than 1 oz\nMotor & Experimental (Open Class) – boats cannot weigh more than 1 1/2 oz\n\nBoat Rules: \n\nBoats may be waterproof\nMaximum dimensions 3” long\, 1 1/2” wide\, and 3” tall.\nNo mechanical or other means or propulsion allowed\, except in the Experimental (Open) class\n\nAdditional Rules \n\nThere is a $5 entry fee per boat\nThere is a Maximum of 3 boats allowed per person\, per class\nAll classes run single elimination until the final 4\nFinal 4 boats compete in double elimination\nYOU MUST BE PRESENT TO WIN\n\nCome on down\, race fans\, and enjoy some good old-fashioned fun at The Brick in beautiful downtown Roslyn\, Washington \nFor all the details\, visit the website at bricksaloon.com
URL:https://roslyndowntown.org/event/36th-annual-spittoon-boat-races/
LOCATION:The Brick Saloon\, 100 W Pennsylvania Ave\, Roslyn\, WA\, 98941
CATEGORIES:Community Events
ATTACH;FMTTYPE=image/jpeg:https://roslyndowntown.org/wp-content/uploads/2026/02/2026-Brick-Spittoon-Races-poster.jpg
END:VEVENT
BEGIN:VEVENT
DTSTART;TZID=America/Los_Angeles:20260321T100000
DTEND;TZID=America/Los_Angeles:20260321T140000
DTSTAMP:20260423T093903
CREATED:20260312T231123Z
LAST-MODIFIED:20260312T231431Z
UID:6998-1774087200-1774101600@roslyndowntown.org
SUMMARY:Do you need a few items repaired?
DESCRIPTION:Awesome opportunity\, ready\, set\, refresh! This is the ideal moment to fix what needs fixing\, time to repair. \nSmall fixes\, big impact!
URL:https://roslyndowntown.org/event/doyou-need-a-few-items-repaired/
LOCATION:WA
ATTACH;FMTTYPE=image/jpeg:https://roslyndowntown.org/wp-content/uploads/2026/03/650291047_1370217585147770_8087621621131478326_n.jpg
END:VEVENT
BEGIN:VEVENT
DTSTART;TZID=America/Los_Angeles:20260324T180000
DTEND;TZID=America/Los_Angeles:20260324T203000
DTSTAMP:20260423T093903
CREATED:20260324T063946Z
LAST-MODIFIED:20260324T064212Z
UID:7152-1774375200-1774384200@roslyndowntown.org
SUMMARY:M Factor 2 Movie Screening
DESCRIPTION:
URL:https://roslyndowntown.org/event/m-factor-2-movie-screening/
LOCATION:Roslyn Theatre\, 101 W Dakota Avenue\, Roslyn\, WA\, 98941\, United States
CATEGORIES:Miscellaneous
ATTACH;FMTTYPE=image/png:https://roslyndowntown.org/wp-content/uploads/2026/03/M-factor-2-poster.png
END:VEVENT
BEGIN:VEVENT
DTSTART;VALUE=DATE:20260326
DTEND;VALUE=DATE:20260329
DTSTAMP:20260423T093903
CREATED:20260319T010935Z
LAST-MODIFIED:20260319T010935Z
UID:7110-1774483200-1774742399@roslyndowntown.org
SUMMARY:Kittitas County Pac Rats MTB Team Race
DESCRIPTION:Come cheer on local youth at the Cle Elum race April 26-28\, 2026 at the Cle Elum Roslyn High School. Watch for updates on the team Facebook page.
URL:https://roslyndowntown.org/event/kittitas-county-pac-rats-mtb-team-race/
LOCATION:Cle Elum Roslyn High School
CATEGORIES:Youth Events
ATTACH;FMTTYPE=image/png:https://roslyndowntown.org/wp-content/uploads/2026/03/Pac-Rats-logo.png
END:VEVENT
BEGIN:VEVENT
DTSTART;TZID=America/Los_Angeles:20260328T124500
DTEND;TZID=America/Los_Angeles:20260328T143000
DTSTAMP:20260423T093903
CREATED:20260125T031706Z
LAST-MODIFIED:20260221T005538Z
UID:6754-1774701900-1774708200@roslyndowntown.org
SUMMARY:ARRF Doggie Easter Egg Hunt 2026
DESCRIPTION:From ARRF Animal Rescue:  The highly anticipated Doggy Easter Egg Hunt is an exciting event that is a fantastic opportunity for dogs and their families to enjoy a day filled with fun\, laughter\, and festive activities. FREE Admission! (Includes basket and treats!)\n\n\nThe 2026 event will be held on Saturday\, March\, 28\, 2026\, registration starts at 12:45 p.m. It is held outside the ARRF Animal Foster Care facility at 107 E. Dakota Ave. in Roslyn.\n\n\n\n\nBring your furry companions for an unforgettable experience as they search for treat-filled Easter eggs\, socialize with other pups\, and soak in the joyful atmosphere. Families can also capture special memories with photos alongside the Easter Bunny\, creating a cherished keepsake of the day.\n\n\nRoslyn Downtown Association is a proud sponsor of this Roslyn event!\n\n\n\n\nWhether you’re a longtime participant or joining for the first time\, ARRF can’t wait to celebrate with you and your beloved pets. Stay tuned for more details\, and mark your calendars—they look forward to seeing you there!\n\n\nARRF offers a variety of fun and helpful annual events throughout the year. Mark your calendars for these great events too! Visit their website\, Facebook and Instagram pages for more information.
URL:https://roslyndowntown.org/event/arrf-doggie-easter-egg-hunt-2026/
LOCATION:ARRF Animal Foster Care\, 107 E. Dakota Ave.\, Roslyn\, WA\, 98941
CATEGORIES:Community Events
ATTACH;FMTTYPE=image/png:https://roslyndowntown.org/wp-content/uploads/2026/01/2026-ARRF-Doggie-Egg-Hunt-FLYER.png
END:VEVENT
END:VCALENDAR