BEGIN:VCALENDAR
VERSION:2.0
PRODID:-//Roslyn Downtown Association - ECPv6.15.20//NONSGML v1.0//EN
CALSCALE:GREGORIAN
METHOD:PUBLISH
X-ORIGINAL-URL:https://roslyndowntown.org
X-WR-CALDESC:Events for Roslyn Downtown Association
REFRESH-INTERVAL;VALUE=DURATION:PT1H
X-Robots-Tag:noindex
X-PUBLISHED-TTL:PT1H
BEGIN:VTIMEZONE
TZID:America/Los_Angeles
BEGIN:DAYLIGHT
TZOFFSETFROM:-0800
TZOFFSETTO:-0700
TZNAME:PDT
DTSTART:20250309T100000
END:DAYLIGHT
BEGIN:STANDARD
TZOFFSETFROM:-0700
TZOFFSETTO:-0800
TZNAME:PST
DTSTART:20251102T090000
END:STANDARD
BEGIN:DAYLIGHT
TZOFFSETFROM:-0800
TZOFFSETTO:-0700
TZNAME:PDT
DTSTART:20260308T100000
END:DAYLIGHT
BEGIN:STANDARD
TZOFFSETFROM:-0700
TZOFFSETTO:-0800
TZNAME:PST
DTSTART:20261101T090000
END:STANDARD
BEGIN:DAYLIGHT
TZOFFSETFROM:-0800
TZOFFSETTO:-0700
TZNAME:PDT
DTSTART:20270314T100000
END:DAYLIGHT
BEGIN:STANDARD
TZOFFSETFROM:-0700
TZOFFSETTO:-0800
TZNAME:PST
DTSTART:20271107T090000
END:STANDARD
END:VTIMEZONE
BEGIN:VEVENT
DTSTART;TZID=America/Los_Angeles:20260701T183000
DTEND;TZID=America/Los_Angeles:20260701T203000
DTSTAMP:20260423T123741
CREATED:20260125T012447Z
LAST-MODIFIED:20260125T012447Z
UID:6739-1782930600-1782937800@roslyndowntown.org
SUMMARY:RDA Roslyn Music Jam - July 2026
DESCRIPTION:July 1\, 2026 – RDA Roslyn Music Jam 6:30 – 8:30 PM \n(1st Wednesday of every month March thru November 2026 @ the RDA Creative Center) \nMarch 4 to November 4 \nBring an instrument and a tune (or two) to share and make some music with your community! \nALL LEVELS WELCOME! \n6:30 – 8:30 PM\nRoslyn Creative Center\n103 W Idaho – Roslyn\, WA \nHosted by Jake Weber\, Rob Witte & Bob Van Lone
URL:https://roslyndowntown.org/event/rda-roslyn-music-jam-july-2026/
LOCATION:RDA Creative Center\, 103 W. Idaho Ave.\, Roslyn\, WA\, 98941\, United States
CATEGORIES:Music,RDA Creative Center Events,Show on Creative Center Page
ATTACH;FMTTYPE=image/png:https://roslyndowntown.org/wp-content/uploads/2026/01/2026-Jam-Night.png
ORGANIZER;CN="Roslyn Downtown Association":MAILTO:info@roslyndowntown.org
END:VEVENT
BEGIN:VEVENT
DTSTART;TZID=America/Los_Angeles:20260703T093000
DTEND;TZID=America/Los_Angeles:20260705T153000
DTSTAMP:20260423T123741
CREATED:20260220T074132Z
LAST-MODIFIED:20260220T074132Z
UID:6898-1783071000-1783265400@roslyndowntown.org
SUMMARY:Roslyn Library Book Sale 2026
DESCRIPTION:The Roslyn Public Library’s Annual Summer Book SaleJuly 3\, 4 & 5. \nThe sale takes place in the parking area between the Old City Hall & Library Building and the Roslyn Fire Hall
URL:https://roslyndowntown.org/event/roslyn-library-book-sale-2026/
LOCATION:WA
CATEGORIES:Community Events
ATTACH;FMTTYPE=image/png:https://roslyndowntown.org/wp-content/uploads/2026/02/Roslyn-Library-Book-Sale.png
END:VEVENT
BEGIN:VEVENT
DTSTART;VALUE=DATE:20260703
DTEND;VALUE=DATE:20260705
DTSTAMP:20260423T123741
CREATED:20260220T074941Z
LAST-MODIFIED:20260220T074941Z
UID:6890-1783098000-1783184399@roslyndowntown.org
SUMMARY:Roslyn Riders Play Day 2026
DESCRIPTION:Saturday\, July 4\, 2026 – Roslyn Riders Play Day \nFamily Fun\, all ages & experience levels welcome. Registration is in the clubhouse 11:15-12:45\, grand March is 1 pm sharp! Cost depending on age & includes all events. Barrels\, Flags\, Stake Pole Key\, & Poles. Team events for ages 18+. Questions can be asked at their Facebook page or email Darcy at bators@msn.com.
URL:https://roslyndowntown.org/event/roslyn-riders-play-day-2026/
LOCATION:Roslyn Riders\, 70 Martin Rd\, Roslyn\, WA\, 98941
CATEGORIES:Community Events
ATTACH;FMTTYPE=image/png:https://roslyndowntown.org/wp-content/uploads/2024/01/Roslyn-riders-sign.png
END:VEVENT
BEGIN:VEVENT
DTSTART;VALUE=DATE:20260704
DTEND;VALUE=DATE:20260705
DTSTAMP:20260423T123741
CREATED:20260220T074636Z
LAST-MODIFIED:20260220T074636Z
UID:6902-1783123200-1783209599@roslyndowntown.org
SUMMARY:Ronald Community Club Heritage Festival
DESCRIPTION:July 4\, 2026 – Ronald Community Club Heritage Festival
URL:https://roslyndowntown.org/event/ronald-community-club-heritage-festival-2/
LOCATION:Hawthorne Hall\, 77 W Atlantic Ave\, Ronald\, WA\, 98940
CATEGORIES:Community Events,Festivals and Holiday Celebrations
ATTACH;FMTTYPE=image/png:https://roslyndowntown.org/wp-content/uploads/2024/01/Ronald-community-club-festival.png
END:VEVENT
BEGIN:VEVENT
DTSTART;TZID=America/Los_Angeles:20260705T090000
DTEND;TZID=America/Los_Angeles:20260705T130000
DTSTAMP:20260423T123741
CREATED:20260220T105556Z
LAST-MODIFIED:20260220T105556Z
UID:6955-1783242000-1783256400@roslyndowntown.org
SUMMARY:Roslyn Farmers Market - (Sundays\, June 14-Sept. 13\, 2026)
DESCRIPTION:July 5\, 2026 – Roslyn Farmers Market (every Sunday thru Sept. 13th) – 9am-1pm \nPennsylvania Avenue\, Downtown Roslyn \nroslynfarmersmarket.org \nRoslyn Farmers Market Facebook Page \nShort video Reel highlighting the market (Central Washington Outdoor) \nThe Roslyn Farmers Market is a market place for farmers\, specialty food producers\, artisan/crafters\, food preparers and entertainers.
URL:https://roslyndowntown.org/event/roslyn-farmers-market-070526/
LOCATION:Downtown Roslyn\, WA\, 98941
CATEGORIES:Community Events,Downtown Events
ATTACH;FMTTYPE=image/jpeg:https://roslyndowntown.org/wp-content/uploads/2026/02/Roslyn-Farmers-Market-2026.jpg
END:VEVENT
BEGIN:VEVENT
DTSTART;TZID=America/Los_Angeles:20260711T100000
DTEND;TZID=America/Los_Angeles:20260711T140000
DTSTAMP:20260423T123741
CREATED:20260125T033317Z
LAST-MODIFIED:20260125T033317Z
UID:6766-1783764000-1783778400@roslyndowntown.org
SUMMARY:ARRF Doggie Olympics 2026
DESCRIPTION:Saturday\, July 11\, 2026 –  ARRF Doggie Olympics\, 10AM Pioneer Park ( Runje Field) Roslyn\, WA \nMark your calendars for a tail-wagging good time at the Roslyn Doggie Olympics coming up Saturday\, July 11. This lively event is packed with silly\, fun games that are just as entertaining to watch as they are to play. Bring the whole family (and your pup!) for a morning of laughter\, friendly competition\, and unforgettable moments.\n\nRegistration is at 9:30 a.m. with events starting at 10:00 a.m. at Pioneer Park in Roslyn. Awards for Most Unusual Trick\, Peanut Butter Lick\, Frisbee Throw\, Dunking for Dogs\, Musical Hoops\, Humphrey Doggie Dash. Pay per event or purchase an all access pass. All proceeds to benefit ARRF Animal Rescue. If you have questions\, email: arrfanimalrescue@gmail.com
URL:https://roslyndowntown.org/event/arrf-doggie-olympics-2026/
LOCATION:Roslyn Pioneer Park\, N. 3rd Street\, Roslyn\, WA\, 98941
CATEGORIES:Community Events
ATTACH;FMTTYPE=image/png:https://roslyndowntown.org/wp-content/uploads/2026/01/2026-ARRF-Events-Calendar.png
END:VEVENT
BEGIN:VEVENT
DTSTART;TZID=America/Los_Angeles:20260712T090000
DTEND;TZID=America/Los_Angeles:20260712T130000
DTSTAMP:20260423T123741
CREATED:20260220T105637Z
LAST-MODIFIED:20260220T105637Z
UID:6957-1783846800-1783861200@roslyndowntown.org
SUMMARY:Roslyn Farmers Market - (Sundays\, June 14-Sept. 13\, 2026)
DESCRIPTION:July 12\, 2026 – Roslyn Farmers Market (every Sunday thru Sept. 13th) – 9am-1pm \nPennsylvania Avenue\, Downtown Roslyn \nroslynfarmersmarket.org \nRoslyn Farmers Market Facebook Page \nShort video Reel highlighting the market (Central Washington Outdoor) \nThe Roslyn Farmers Market is a market place for farmers\, specialty food producers\, artisan/crafters\, food preparers and entertainers.
URL:https://roslyndowntown.org/event/roslyn-farmers-market-071226/
LOCATION:Downtown Roslyn\, WA\, 98941
CATEGORIES:Community Events,Downtown Events
ATTACH;FMTTYPE=image/jpeg:https://roslyndowntown.org/wp-content/uploads/2026/02/Roslyn-Farmers-Market-2026.jpg
END:VEVENT
BEGIN:VEVENT
DTSTART;TZID=America/Los_Angeles:20260718T120000
DTEND;TZID=America/Los_Angeles:20260718T170000
DTSTAMP:20260423T123741
CREATED:20260220T082846Z
LAST-MODIFIED:20260220T082908Z
UID:6911-1784376000-1784394000@roslyndowntown.org
SUMMARY:Croatian Picnic 2026
DESCRIPTION:Saturday\, July 18\, 2026 -Roslyn\, Ronald\, Cle Elum Heritage Club Annual Croatian Picnic Pioneer Park (Runje Field) Roslyn\, WA.  The air will be filled with laughter and the scent of delicious food as folks gather for a day of festivities starting at noon. \n \n 
URL:https://roslyndowntown.org/event/croatian-picnic-2026/
LOCATION:Roslyn Pioneer Park\, N. 3rd Street\, Roslyn\, WA\, 98941
CATEGORIES:Community Events
ATTACH;FMTTYPE=image/png:https://roslyndowntown.org/wp-content/uploads/2026/02/Croatian-Picnic-2026.png
END:VEVENT
BEGIN:VEVENT
DTSTART;TZID=America/Los_Angeles:20260719T090000
DTEND;TZID=America/Los_Angeles:20260719T130000
DTSTAMP:20260423T123741
CREATED:20260220T105713Z
LAST-MODIFIED:20260220T105713Z
UID:6959-1784451600-1784466000@roslyndowntown.org
SUMMARY:Roslyn Farmers Market - (Sundays\, June 14-Sept. 13\, 2026)
DESCRIPTION:July 19\, 2026 – Roslyn Farmers Market (every Sunday thru Sept. 13th) – 9am-1pm \nPennsylvania Avenue\, Downtown Roslyn \nroslynfarmersmarket.org \nRoslyn Farmers Market Facebook Page \nShort video Reel highlighting the market (Central Washington Outdoor) \nThe Roslyn Farmers Market is a market place for farmers\, specialty food producers\, artisan/crafters\, food preparers and entertainers.
URL:https://roslyndowntown.org/event/roslyn-farmers-market-071926/
LOCATION:Downtown Roslyn\, WA\, 98941
CATEGORIES:Community Events,Downtown Events
ATTACH;FMTTYPE=image/jpeg:https://roslyndowntown.org/wp-content/uploads/2026/02/Roslyn-Farmers-Market-2026.jpg
END:VEVENT
BEGIN:VEVENT
DTSTART;TZID=America/Los_Angeles:20260726T090000
DTEND;TZID=America/Los_Angeles:20260726T130000
DTSTAMP:20260423T123741
CREATED:20260220T105743Z
LAST-MODIFIED:20260220T105743Z
UID:6961-1785056400-1785070800@roslyndowntown.org
SUMMARY:Roslyn Farmers Market - (Sundays\, June 14-Sept. 13\, 2026)
DESCRIPTION:July 26\, 2026 – Roslyn Farmers Market (every Sunday thru Sept. 13th) – 9am-1pm \nPennsylvania Avenue\, Downtown Roslyn \nroslynfarmersmarket.org \nRoslyn Farmers Market Facebook Page \nShort video Reel highlighting the market (Central Washington Outdoor) \nThe Roslyn Farmers Market is a market place for farmers\, specialty food producers\, artisan/crafters\, food preparers and entertainers.
URL:https://roslyndowntown.org/event/roslyn-farmroslyn-farmers-market-072626ers-market-sundays-june-14-sept-13-2026/
LOCATION:Downtown Roslyn\, WA\, 98941
CATEGORIES:Community Events,Downtown Events
ATTACH;FMTTYPE=image/jpeg:https://roslyndowntown.org/wp-content/uploads/2026/02/Roslyn-Farmers-Market-2026.jpg
END:VEVENT
END:VCALENDAR