BEGIN:VCALENDAR
VERSION:2.0
PRODID:-//Roslyn Downtown Association - ECPv6.15.20//NONSGML v1.0//EN
CALSCALE:GREGORIAN
METHOD:PUBLISH
X-WR-CALNAME:Roslyn Downtown Association
X-ORIGINAL-URL:https://roslyndowntown.org
X-WR-CALDESC:Events for Roslyn Downtown Association
REFRESH-INTERVAL;VALUE=DURATION:PT1H
X-Robots-Tag:noindex
X-PUBLISHED-TTL:PT1H
BEGIN:VTIMEZONE
TZID:America/Los_Angeles
BEGIN:DAYLIGHT
TZOFFSETFROM:-0800
TZOFFSETTO:-0700
TZNAME:PDT
DTSTART:20250309T100000
END:DAYLIGHT
BEGIN:STANDARD
TZOFFSETFROM:-0700
TZOFFSETTO:-0800
TZNAME:PST
DTSTART:20251102T090000
END:STANDARD
BEGIN:DAYLIGHT
TZOFFSETFROM:-0800
TZOFFSETTO:-0700
TZNAME:PDT
DTSTART:20260308T100000
END:DAYLIGHT
BEGIN:STANDARD
TZOFFSETFROM:-0700
TZOFFSETTO:-0800
TZNAME:PST
DTSTART:20261101T090000
END:STANDARD
BEGIN:DAYLIGHT
TZOFFSETFROM:-0800
TZOFFSETTO:-0700
TZNAME:PDT
DTSTART:20270314T100000
END:DAYLIGHT
BEGIN:STANDARD
TZOFFSETFROM:-0700
TZOFFSETTO:-0800
TZNAME:PST
DTSTART:20271107T090000
END:STANDARD
END:VTIMEZONE
BEGIN:VEVENT
DTSTART;TZID=America/Los_Angeles:20260801T100000
DTEND;TZID=America/Los_Angeles:20260801T141500
DTSTAMP:20260423T141445
CREATED:20260220T083611Z
LAST-MODIFIED:20260319T003915Z
UID:6916-1785578400-1785593700@roslyndowntown.org
SUMMARY:RDA Two Free Parrot Shows - August 1\, 2026
DESCRIPTION:Saturday\, August 1\, 2026 – RDA Two Free Parrot Show @ Masonic Hall\, downtown Roslyn\, next to the Post Office: \n1st Show: \n10:00 – 11:15 AM \n2nd Show: \n1:00 – 2:15 PM \nFREE ADMISSION – all are welcome! \nShop\, Dine and Play in Roslyn before and after each show.
URL:https://roslyndowntown.org/event/rda-two-free-parrot-shows-august-1-2026/
LOCATION:Roslyn Masonic Hall\, 122 W Pennsylvania Ave\, Roslyn\, WA\, 98941\, United States
CATEGORIES:Community Events
ATTACH;FMTTYPE=image/png:https://roslyndowntown.org/wp-content/uploads/2026/02/Parrot-Experience-flyer-AUGUST-2026-scaled.png
ORGANIZER;CN="Roslyn Downtown Association":MAILTO:info@roslyndowntown.org
END:VEVENT
BEGIN:VEVENT
DTSTART;TZID=America/Los_Angeles:20260802T090000
DTEND;TZID=America/Los_Angeles:20260802T130000
DTSTAMP:20260423T141445
CREATED:20260220T105828Z
LAST-MODIFIED:20260220T105828Z
UID:6963-1785661200-1785675600@roslyndowntown.org
SUMMARY:Roslyn Farmers Market - (Sundays\, June 14-Sept. 13\, 2026)
DESCRIPTION:August 2\, 2026 – Roslyn Farmers Market (every Sunday thru Sept. 13th) – 9am-1pm \nPennsylvania Avenue\, Downtown Roslyn \nroslynfarmersmarket.org \nRoslyn Farmers Market Facebook Page \nShort video Reel highlighting the market (Central Washington Outdoor) \nThe Roslyn Farmers Market is a market place for farmers\, specialty food producers\, artisan/crafters\, food preparers and entertainers.
URL:https://roslyndowntown.org/event/roslyn-farmers-market-080226/
LOCATION:Downtown Roslyn\, WA\, 98941
CATEGORIES:Community Events,Downtown Events
ATTACH;FMTTYPE=image/jpeg:https://roslyndowntown.org/wp-content/uploads/2026/02/Roslyn-Farmers-Market-2026.jpg
END:VEVENT
BEGIN:VEVENT
DTSTART;TZID=America/Los_Angeles:20260805T183000
DTEND;TZID=America/Los_Angeles:20260805T203000
DTSTAMP:20260423T141445
CREATED:20260125T012542Z
LAST-MODIFIED:20260125T012542Z
UID:6741-1785954600-1785961800@roslyndowntown.org
SUMMARY:RDA Roslyn Music Jam - August 2026
DESCRIPTION:August 5\, 2026 – RDA Roslyn Music Jam 6:30 – 8:30 PM \n(1st Wednesday of every month March thru November 2026 @ the RDA Creative Center) \nMarch 4 to November 4 \nBring an instrument and a tune (or two) to share and make some music with your community! \nALL LEVELS WELCOME! \n6:30 – 8:30 PM\nRoslyn Creative Center\n103 W Idaho – Roslyn\, WA \nHosted by Jake Weber\, Rob Witte & Bob Van Lone
URL:https://roslyndowntown.org/event/rda-roslyn-music-jam-august-2026/
LOCATION:RDA Creative Center\, 103 W. Idaho Ave.\, Roslyn\, WA\, 98941\, United States
CATEGORIES:Music,RDA Creative Center Events,Show on Creative Center Page
ATTACH;FMTTYPE=image/png:https://roslyndowntown.org/wp-content/uploads/2026/01/2026-Jam-Night.png
ORGANIZER;CN="Roslyn Downtown Association":MAILTO:info@roslyndowntown.org
END:VEVENT
BEGIN:VEVENT
DTSTART;TZID=America/Los_Angeles:20260809T090000
DTEND;TZID=America/Los_Angeles:20260809T130000
DTSTAMP:20260423T141445
CREATED:20260220T105902Z
LAST-MODIFIED:20260220T105902Z
UID:6965-1786266000-1786280400@roslyndowntown.org
SUMMARY:Roslyn Farmers Market - (Sundays\, June 14-Sept. 13\, 2026)
DESCRIPTION:August 9\, 2026 – Roslyn Farmers Market (every Sunday thru Sept. 13th) – 9am-1pm \nPennsylvania Avenue\, Downtown Roslyn \nroslynfarmersmarket.org \nRoslyn Farmers Market Facebook Page \nShort video Reel highlighting the market (Central Washington Outdoor) \nThe Roslyn Farmers Market is a market place for farmers\, specialty food producers\, artisan/crafters\, food preparers and entertainers.
URL:https://roslyndowntown.org/event/roslyn-farmers-market-080926/
LOCATION:Downtown Roslyn\, WA\, 98941
CATEGORIES:Community Events,Downtown Events
ATTACH;FMTTYPE=image/jpeg:https://roslyndowntown.org/wp-content/uploads/2026/02/Roslyn-Farmers-Market-2026.jpg
END:VEVENT
BEGIN:VEVENT
DTSTART;TZID=America/Los_Angeles:20260815T173000
DTEND;TZID=America/Los_Angeles:20260815T203000
DTSTAMP:20260423T141445
CREATED:20260125T034102Z
LAST-MODIFIED:20260125T034102Z
UID:6768-1786815000-1786825800@roslyndowntown.org
SUMMARY:ARRF Animal Rescue Nibbles N' Sips Fundraiser 2026
DESCRIPTION:There’s no better time to come together and fundraise to give some extra love to pets who need a little extra care. Join us for a fun-filled evening at Ritter’s Farm\, where our community can make a difference and share in the joy of helping our furry friends. Wine\, chocolate\, fresh appetizers\, amazing live & silent auction items. Saturday\, August 15th\,  6:00 pm ( doors open at 5:30 pm)
URL:https://roslyndowntown.org/event/arrf-animal-rescue-nibbles-n-sips-fundraiser-2026/
LOCATION:Ritter Farms Bistro & Blooms\, 24 Lund Lane\, Cle Elum\, WA\, 98922\, United States
CATEGORIES:Community Events
ATTACH;FMTTYPE=image/png:https://roslyndowntown.org/wp-content/uploads/2026/01/2026-ARRF-Events-Calendar.png
END:VEVENT
BEGIN:VEVENT
DTSTART;TZID=America/Los_Angeles:20260815T200000
DTEND;TZID=America/Los_Angeles:20260815T213700
DTSTAMP:20260423T141445
CREATED:20260318T165326Z
LAST-MODIFIED:20260318T221607Z
UID:6942-1786824000-1786829820@roslyndowntown.org
SUMMARY:"SCHOOL OF ROCK" - The Roslyn Yard Summer Nights - Outdoor Movie - 2026
DESCRIPTION:Outdoor movies at the Roslyn Yard\n \nFREE ADMISSION!\nSaturday\, August 15\, 2026 – Outdoor Movie SCHOOL OF ROCK @ The Roslyn Yard – at Sunset (8:00 p.m.) \n97 minutes \nSchool of Rock (2003) – PG-13\nAfter being kicked out of his rock band\, guitarist slacker Dewey Finn faces a mountain of debts and depression. He shares an apartment with his best friend\, Ned Schneebly\, an old band member who is now a substitute teacher. Dewey pretends to be his roommate Ned and accepts a job as a substitute teacher at a snobbish private elementary school where his attitude and hijinks have a powerful result on his students. He learns they are talented young musicians\, and he decides to form a rock band with them to win the $20\,000 prize money in a local band contest. Once Dewey wins a competition called “Battle of the Bands”\, the prize money would solve his financial problems and put him back in the rock music spotlight. \nBrought to you by Basecamp Books and the Roslyn Downtown Association.
URL:https://roslyndowntown.org/event/roslyn-yard-summer-nights-outdoor-movie-1-2026/
LOCATION:The Roslyn Yard\, 104 W Pennsylvania Ave\, Roslyn\, WA\, 98941
CATEGORIES:Community Events,Entertainment
ATTACH;FMTTYPE=image/png:https://roslyndowntown.org/wp-content/uploads/2026/03/Roslyn-Summer-Movie-Nights-2026-flyer-1.png
END:VEVENT
BEGIN:VEVENT
DTSTART;TZID=America/Los_Angeles:20260816T090000
DTEND;TZID=America/Los_Angeles:20260816T130000
DTSTAMP:20260423T141445
CREATED:20260220T105935Z
LAST-MODIFIED:20260220T105935Z
UID:6967-1786870800-1786885200@roslyndowntown.org
SUMMARY:Roslyn Farmers Market - (Sundays\, June 14-Sept. 13\, 2026)
DESCRIPTION:August 16\, 2026 – Roslyn Farmers Market (every Sunday thru Sept. 13th) – 9am-1pm \nPennsylvania Avenue\, Downtown Roslyn \nroslynfarmersmarket.org \nRoslyn Farmers Market Facebook Page \nShort video Reel highlighting the market (Central Washington Outdoor) \nThe Roslyn Farmers Market is a market place for farmers\, specialty food producers\, artisan/crafters\, food preparers and entertainers.
URL:https://roslyndowntown.org/event/roslyn-farmers-market-081626/
LOCATION:Downtown Roslyn\, WA\, 98941
CATEGORIES:Community Events,Downtown Events
ATTACH;FMTTYPE=image/jpeg:https://roslyndowntown.org/wp-content/uploads/2026/02/Roslyn-Farmers-Market-2026.jpg
END:VEVENT
BEGIN:VEVENT
DTSTART;TZID=America/Los_Angeles:20260822T200000
DTEND;TZID=America/Los_Angeles:20260822T213800
DTSTAMP:20260423T141445
CREATED:20260318T171456Z
LAST-MODIFIED:20260318T221745Z
UID:7068-1787428800-1787434680@roslyndowntown.org
SUMMARY:"THE SUPER MARIO GALAXY MOVIE (2026)" - The Roslyn Yard Summer Nights - Outdoor Movie - 2026
DESCRIPTION:Outdoor movies at the Roslyn Yard\n \nFREE ADMISSION!\nSaturday\, August 22\, 2026 – Outdoor Movie THE SUPER MARIO GALAXY MOVIE (2026) @ The Roslyn Yard – at Sunset (8:00 p.m.) \n98 minutes \nThe Super Mario Galaxy Movie (2026) – PG-13\nMario ventures into space\, exploring cosmic worlds and tackling galactic challenges far from the familiar Mushroom Kingdom. \n\nCast: \n\n\nChris Pratt\nAnya Taylor-Joy\nCharlie Day\nJack Black\nKeegan-Michael Key\nBenny Safdie\nDonald Glover\nIssa Rae\nLuis Guzmán\nKevin Michael Richardson\nBrie Larson \n\nBrought to you by Basecamp Books and the Roslyn Downtown Association.
URL:https://roslyndowntown.org/event/the-super-mario-galaxy-movie-2026-the-roslyn-yard-summer-nights-outdoor-movie-2026/
LOCATION:The Roslyn Yard\, 104 W Pennsylvania Ave\, Roslyn\, WA\, 98941
CATEGORIES:Community Events,Entertainment
ATTACH;FMTTYPE=image/png:https://roslyndowntown.org/wp-content/uploads/2026/03/Roslyn-Summer-Movie-Nights-2026-flyer-1.png
END:VEVENT
BEGIN:VEVENT
DTSTART;TZID=America/Los_Angeles:20260823T090000
DTEND;TZID=America/Los_Angeles:20260823T130000
DTSTAMP:20260423T141445
CREATED:20260220T110018Z
LAST-MODIFIED:20260220T110018Z
UID:6969-1787475600-1787490000@roslyndowntown.org
SUMMARY:Roslyn Farmers Market - (Sundays\, June 14-Sept. 13\, 2026)
DESCRIPTION:August 23\, 2026 – Roslyn Farmers Market (every Sunday thru Sept. 13th) – 9am-1pm \nPennsylvania Avenue\, Downtown Roslyn \nroslynfarmersmarket.org \nRoslyn Farmers Market Facebook Page \nShort video Reel highlighting the market (Central Washington Outdoor) \nThe Roslyn Farmers Market is a market place for farmers\, specialty food producers\, artisan/crafters\, food preparers and entertainers.
URL:https://roslyndowntown.org/event/roslyn-farmers-market-082326/
LOCATION:Downtown Roslyn\, WA\, 98941
CATEGORIES:Community Events,Downtown Events
ATTACH;FMTTYPE=image/jpeg:https://roslyndowntown.org/wp-content/uploads/2026/02/Roslyn-Farmers-Market-2026.jpg
END:VEVENT
BEGIN:VEVENT
DTSTART;TZID=America/Los_Angeles:20260829T195000
DTEND;TZID=America/Los_Angeles:20260829T214200
DTSTAMP:20260423T141445
CREATED:20260318T172353Z
LAST-MODIFIED:20260318T221827Z
UID:7071-1788033000-1788039720@roslyndowntown.org
SUMMARY:"ENCANTO" - The Roslyn Yard Summer Nights - Outdoor Movie - 2026
DESCRIPTION:Outdoor movies at the Roslyn Yard\n \nFREE ADMISSION!\nSaturday\, August 29\, 2026 – Outdoor Movie ENCANTO (2021) @ The Roslyn Yard – at Sunset (7:50 p.m.) \n112 minutes \nEncanto (2021) – PG\nEncanto tells the tale of an extraordinary family\, the Madrigals\, who live hidden in the mountains of Colombia\, in a magical house\, in a vibrant town\, in a wondrous\, charmed place called an Encanto. The magic of the Encanto has blessed every child in the family with a unique gift from super strength to the power to heal-every child except one\, Mirabel. But when she discovers that the magic surrounding the Encanto is in danger\, Mirabel decides that she\, the only ordinary Madrigal\, might just be her exceptional family’s last hope. \nBrought to you by Basecamp Books and the Roslyn Downtown Association.
URL:https://roslyndowntown.org/event/encanto-the-roslyn-yard-summer-nights-outdoor-movie-2026-2/
LOCATION:The Roslyn Yard\, 104 W Pennsylvania Ave\, Roslyn\, WA\, 98941
CATEGORIES:Community Events,Entertainment
ATTACH;FMTTYPE=image/png:https://roslyndowntown.org/wp-content/uploads/2026/03/Roslyn-Summer-Movie-Nights-2026-flyer-1.png
END:VEVENT
BEGIN:VEVENT
DTSTART;TZID=America/Los_Angeles:20260830T090000
DTEND;TZID=America/Los_Angeles:20260830T130000
DTSTAMP:20260423T141445
CREATED:20260220T110104Z
LAST-MODIFIED:20260220T110104Z
UID:6971-1788080400-1788094800@roslyndowntown.org
SUMMARY:Roslyn Farmers Market - (Sundays\, June 14-Sept. 13\, 2026)
DESCRIPTION:August 30\, 2026 – Roslyn Farmers Market (every Sunday thru Sept. 13th) – 9am-1pm \nPennsylvania Avenue\, Downtown Roslyn \nroslynfarmersmarket.org \nRoslyn Farmers Market Facebook Page \nShort video Reel highlighting the market (Central Washington Outdoor) \nThe Roslyn Farmers Market is a market place for farmers\, specialty food producers\, artisan/crafters\, food preparers and entertainers.
URL:https://roslyndowntown.org/event/roslyn-farmers-market-083026/
LOCATION:Downtown Roslyn\, WA\, 98941
CATEGORIES:Community Events,Downtown Events
ATTACH;FMTTYPE=image/jpeg:https://roslyndowntown.org/wp-content/uploads/2026/02/Roslyn-Farmers-Market-2026.jpg
END:VEVENT
END:VCALENDAR