BEGIN:VCALENDAR
VERSION:2.0
PRODID:-//Roslyn Downtown Association - ECPv6.15.20//NONSGML v1.0//EN
CALSCALE:GREGORIAN
METHOD:PUBLISH
X-WR-CALNAME:Roslyn Downtown Association
X-ORIGINAL-URL:https://roslyndowntown.org
X-WR-CALDESC:Events for Roslyn Downtown Association
REFRESH-INTERVAL;VALUE=DURATION:PT1H
X-Robots-Tag:noindex
X-PUBLISHED-TTL:PT1H
BEGIN:VTIMEZONE
TZID:America/Los_Angeles
BEGIN:DAYLIGHT
TZOFFSETFROM:-0800
TZOFFSETTO:-0700
TZNAME:PDT
DTSTART:20250309T100000
END:DAYLIGHT
BEGIN:STANDARD
TZOFFSETFROM:-0700
TZOFFSETTO:-0800
TZNAME:PST
DTSTART:20251102T090000
END:STANDARD
BEGIN:DAYLIGHT
TZOFFSETFROM:-0800
TZOFFSETTO:-0700
TZNAME:PDT
DTSTART:20260308T100000
END:DAYLIGHT
BEGIN:STANDARD
TZOFFSETFROM:-0700
TZOFFSETTO:-0800
TZNAME:PST
DTSTART:20261101T090000
END:STANDARD
BEGIN:DAYLIGHT
TZOFFSETFROM:-0800
TZOFFSETTO:-0700
TZNAME:PDT
DTSTART:20270314T100000
END:DAYLIGHT
BEGIN:STANDARD
TZOFFSETFROM:-0700
TZOFFSETTO:-0800
TZNAME:PST
DTSTART:20271107T090000
END:STANDARD
END:VTIMEZONE
BEGIN:VEVENT
DTSTART;TZID=America/Los_Angeles:20260902T183000
DTEND;TZID=America/Los_Angeles:20260902T203000
DTSTAMP:20260423T155715
CREATED:20260125T014334Z
LAST-MODIFIED:20260125T014334Z
UID:6743-1788373800-1788381000@roslyndowntown.org
SUMMARY:RDA Roslyn Music Jam - September 2026
DESCRIPTION:September 2\, 2026 – RDA Roslyn Music Jam 6:30 – 8:30 PM \n(1st Wednesday of every month March thru November 2026 @ the RDA Creative Center) \nMarch 4 to November 4 \nBring an instrument and a tune (or two) to share and make some music with your community! \nALL LEVELS WELCOME! \n6:30 – 8:30 PM\nRoslyn Creative Center\n103 W Idaho – Roslyn\, WA \nHosted by Jake Weber\, Rob Witte & Bob Van Lone
URL:https://roslyndowntown.org/event/rda-roslyn-music-jam-september-2026/
LOCATION:RDA Creative Center\, 103 W. Idaho Ave.\, Roslyn\, WA\, 98941\, United States
CATEGORIES:Music,RDA Creative Center Events,Show on Creative Center Page
ATTACH;FMTTYPE=image/png:https://roslyndowntown.org/wp-content/uploads/2026/01/2026-Jam-Night.png
ORGANIZER;CN="Roslyn Downtown Association":MAILTO:info@roslyndowntown.org
END:VEVENT
BEGIN:VEVENT
DTSTART;TZID=America/Los_Angeles:20260905T193000
DTEND;TZID=America/Los_Angeles:20260905T212800
DTSTAMP:20260423T155715
CREATED:20260318T173544Z
LAST-MODIFIED:20260318T221838Z
UID:7074-1788636600-1788643680@roslyndowntown.org
SUMMARY:"ZOOTOPIA 2" - The Roslyn Yard Summer Nights - Outdoor Movie - 2026
DESCRIPTION:Outdoor movies at the Roslyn Yard\n \nFREE ADMISSION!\nSaturday\, September 5\, 2026 – Outdoor Movie ZOOTOPIA 2 (2021) @ The Roslyn Yard – at Sunset (7:30 p.m.) \n118 minutes \nZootopia 2 (2021) – PG\nOfficers Judy Hopps and Nick Wilde are still fighting to be taken seriously as detectives – a struggle that gets worse when their off-the-books smuggling probe turns into a public disaster. With Chief Bogo threatening to split them up\, the pair chase one last lead: a mysterious snake seen near the crime scene. That trail leads them to Gary DeSnake\, a pit viper fugitive obsessed with exposing a secret behind the city’s climate-controlling weather walls. When Judy and Nick realize he’s telling the truth\, they’re suddenly framed by the powerful Lynxley family\, whose buried crimes drove Zootopia’s reptiles underground – and whose new plans are far more sinister. Branded fugitives\, Judy and Nick join forces with eccentric beaver conspiracy buff Nibbles Maplestick to track down Gary and uncover the city’s founding injustice – a case that will test their partnership\, upend everything they thought they knew about Zootopia\, and turn friends and enemies upside-down. \nBrought to you by Basecamp Books and the Roslyn Downtown Association.
URL:https://roslyndowntown.org/event/zootopia2-the-roslyn-yard-summer-nights-outdoor-movie-2026/
LOCATION:The Roslyn Yard\, 104 W Pennsylvania Ave\, Roslyn\, WA\, 98941
CATEGORIES:Community Events,Entertainment
ATTACH;FMTTYPE=image/png:https://roslyndowntown.org/wp-content/uploads/2026/03/Roslyn-Summer-Movie-Nights-2026-flyer-1.png
END:VEVENT
BEGIN:VEVENT
DTSTART;TZID=America/Los_Angeles:20260906T090000
DTEND;TZID=America/Los_Angeles:20260906T130000
DTSTAMP:20260423T155715
CREATED:20260220T110155Z
LAST-MODIFIED:20260220T110155Z
UID:6973-1788685200-1788699600@roslyndowntown.org
SUMMARY:Roslyn Farmers Market - (Sundays\, June 14-Sept. 13\, 2026)
DESCRIPTION:September 6\, 2026 – Roslyn Farmers Market (every Sunday thru Sept. 13th) – 9am-1pm \nPennsylvania Avenue\, Downtown Roslyn \nroslynfarmersmarket.org \nRoslyn Farmers Market Facebook Page \nShort video Reel highlighting the market (Central Washington Outdoor) \nThe Roslyn Farmers Market is a market place for farmers\, specialty food producers\, artisan/crafters\, food preparers and entertainers.
URL:https://roslyndowntown.org/event/roslyn-farmers-market-090626/
LOCATION:Downtown Roslyn\, WA\, 98941
CATEGORIES:Community Events,Downtown Events
ATTACH;FMTTYPE=image/jpeg:https://roslyndowntown.org/wp-content/uploads/2026/02/Roslyn-Farmers-Market-2026.jpg
END:VEVENT
BEGIN:VEVENT
DTSTART;TZID=America/Los_Angeles:20260906T093000
DTEND;TZID=America/Los_Angeles:20260906T120000
DTSTAMP:20260423T155715
CREATED:20260221T052919Z
LAST-MODIFIED:20260221T052919Z
UID:6905-1788687000-1788696000@roslyndowntown.org
SUMMARY:Heritage Club Crowning of King Coal & Roslyn Labor Day Parade 2026
DESCRIPTION:Join the fun! \nSunday\, Sept. 6\, 2026\, Crowning of King Coal 9:30 AM \nCity of Roslyn Parade to follow at 11:00 AM
URL:https://roslyndowntown.org/event/coal-miner-parade-2026/
LOCATION:Downtown Roslyn\, WA\, 98941
CATEGORIES:Community Events,Festivals and Holiday Celebrations
ATTACH;FMTTYPE=image/png:https://roslyndowntown.org/wp-content/uploads/2026/02/Roslyn-Coal-Miners-Day.png
END:VEVENT
BEGIN:VEVENT
DTSTART;TZID=America/Los_Angeles:20260906T193000
DTEND;TZID=America/Los_Angeles:20260906T211100
DTSTAMP:20260423T155715
CREATED:20260318T174743Z
LAST-MODIFIED:20260318T221921Z
UID:7077-1788723000-1788729060@roslyndowntown.org
SUMMARY:"A MINECRAFT MOVIE" - The Roslyn Yard Summer Nights - Outdoor Movie - 2026
DESCRIPTION:Outdoor movies at the Roslyn Yard\n \nFREE ADMISSION!\nSunday\, September 6\, 2026 – Outdoor Movie A MINECRAFT MOVIE (2025) @ The Roslyn Yard – at Sunset (7:30 p.m.) \n101 minutes \nA Minecraft Movie (2025) – PG\nFour misfits find themselves struggling with ordinary problems when they are suddenly pulled through a mysterious portal into the Overworld\, a bizarre\, cubic wonderland that thrives on imagination. To get back home\, they’ll have to master this world while embarking on a magical quest with an unexpected\, expert craftier. Together\, their adventure will challenge all five to be bold and to reconnect with the qualities that make each of them uniquely creative-the very skills they need to thrive back in the real world. Starring Jason Momoa and Jack Black. \nBrought to you by Basecamp Books and the Roslyn Downtown Association.
URL:https://roslyndowntown.org/event/minecraft-the-roslyn-yard-summer-nights-outdoor-movie-2026/
LOCATION:The Roslyn Yard\, 104 W Pennsylvania Ave\, Roslyn\, WA\, 98941
CATEGORIES:Community Events,Entertainment
ATTACH;FMTTYPE=image/png:https://roslyndowntown.org/wp-content/uploads/2026/03/Roslyn-Summer-Movie-Nights-2026-flyer-1.png
END:VEVENT
BEGIN:VEVENT
DTSTART;TZID=America/Los_Angeles:20260907T193000
DTEND;TZID=America/Los_Angeles:20260907T212100
DTSTAMP:20260423T155715
CREATED:20260318T180203Z
LAST-MODIFIED:20260318T221917Z
UID:7080-1788809400-1788816060@roslyndowntown.org
SUMMARY:"RATATOUILLE" - The Roslyn Yard Summer Nights - Outdoor Movie - 2026
DESCRIPTION:Outdoor movies at the Roslyn Yard\n \nFREE ADMISSION!\nMonday\, September 7\, 2026 – Outdoor Movie RATATOUILLE (2007) @ The Roslyn Yard – at Sunset (7:30 p.m.) \n111 minutes \nRatatouille (2007) – G\nA rat named Remy dreams of becoming a great French chef despite his family’s wishes and the obvious problem of being a rat in a decidedly rodent-phobic profession. When fate places Remy in the sewers of Paris\, he finds himself ideally situated beneath a restaurant made famous by his culinary hero\, Auguste Gusteau. Despite the apparent dangers of being an unlikely\, and certainly unwanted\, visitor in the kitchen of a fine French restaurant\, Remy’s passion for cooking soon sets into motion a hilarious and exciting rat race that turns the culinary world of Paris upside down. \nBrought to you by Basecamp Books and the Roslyn Downtown Association.
URL:https://roslyndowntown.org/event/ratatouille-the-roslyn-yard-summer-nights-outdoor-movie-2026/
LOCATION:The Roslyn Yard\, 104 W Pennsylvania Ave\, Roslyn\, WA\, 98941
CATEGORIES:Community Events,Entertainment
ATTACH;FMTTYPE=image/png:https://roslyndowntown.org/wp-content/uploads/2026/03/Roslyn-Summer-Movie-Nights-2026-flyer-1.png
END:VEVENT
BEGIN:VEVENT
DTSTART;TZID=America/Los_Angeles:20260911T192000
DTEND;TZID=America/Los_Angeles:20260911T212800
DTSTAMP:20260423T155715
CREATED:20260318T181403Z
LAST-MODIFIED:20260318T221915Z
UID:7083-1789154400-1789162080@roslyndowntown.org
SUMMARY:"THE PARENT TRAP (1998)" - The Roslyn Yard Summer Nights - Outdoor Movie - 2026
DESCRIPTION:Outdoor movies at the Roslyn Yard\n \nFREE ADMISSION!\nFriday\, September 11\, 2026 – Outdoor Movie THE PARENT TRAP (1998) @ The Roslyn Yard – at Sunset (7:20 p.m.) \n128 minutes \nThe Parent Trap (1998) – PG\nWhen two pre-teens named Hallie and Annie meet at summer camp\, their lives are rattled when they realize that they are identical twins. With parents\, British mother aka famous dress designer Elizabeth and American father\, a wine maker named Nick\, living on different sides of the universe\, the girls decide to make an identity swap in hopes of spending time with their other parent. The girls later choose to inform their guardians of the swap while at a hotel in San Francisco\, which later reunites the divorced pair and they remarry. Starring Lindsay Lohan\, Dennis Quaid and Natasha Richardson \nBrought to you by Basecamp Books and the Roslyn Downtown Association.
URL:https://roslyndowntown.org/event/parent-trap-the-roslyn-yard-summer-nights-outdoor-movie-2026-2/
LOCATION:The Roslyn Yard\, 104 W Pennsylvania Ave\, Roslyn\, WA\, 98941
CATEGORIES:Community Events,Entertainment
ATTACH;FMTTYPE=image/png:https://roslyndowntown.org/wp-content/uploads/2026/03/Roslyn-Summer-Movie-Nights-2026-flyer-1.png
END:VEVENT
BEGIN:VEVENT
DTSTART;TZID=America/Los_Angeles:20260912T192000
DTEND;TZID=America/Los_Angeles:20260912T212500
DTSTAMP:20260423T155715
CREATED:20260318T201542Z
LAST-MODIFIED:20260318T221933Z
UID:7086-1789240800-1789248300@roslyndowntown.org
SUMMARY:"HOW TO TRAIN YOUR DRAGON" - The Roslyn Yard Summer Nights - Outdoor Movie - 2026
DESCRIPTION:Outdoor movies at the Roslyn Yard\n \nFREE ADMISSION!\nSaturday\, September 12\, 2026 – Outdoor Movie HOW TO TRAIN YOUR DRAGON (2025) @ The Roslyn Yard – at Sunset (7:20 p.m.) \n125 minutes \nHow to Train Your Dragon (2025) – PG\nOn the remote island of Berk\, Vikings live under constant threat from dragons that raid their livestock and destroy their homes. Hiccup Horrendous Haddock III-an inventive but awkward teen and the son of Chief Stoick the Vast-struggles to fit into a culture that values brute strength. During a dragon attack\, he secretly injures a rare Night Fury but\, instead of killing it\, forms a bond with the creature he names Toothless. Their friendship reveals that dragons are not the monsters the Vikings believe them to be. \nBrought to you by Basecamp Books and the Roslyn Downtown Association.
URL:https://roslyndowntown.org/event/how-to-train-your-dragon-the-roslyn-yard-summer-nights-outdoor-movie-2026/
LOCATION:The Roslyn Yard\, 104 W Pennsylvania Ave\, Roslyn\, WA\, 98941
CATEGORIES:Community Events,Entertainment
ATTACH;FMTTYPE=image/png:https://roslyndowntown.org/wp-content/uploads/2026/03/Roslyn-Summer-Movie-Nights-2026-flyer-1.png
END:VEVENT
BEGIN:VEVENT
DTSTART;TZID=America/Los_Angeles:20260913T090000
DTEND;TZID=America/Los_Angeles:20260913T130000
DTSTAMP:20260423T155715
CREATED:20260220T110303Z
LAST-MODIFIED:20260220T110303Z
UID:6975-1789290000-1789304400@roslyndowntown.org
SUMMARY:Roslyn Farmers Market - (Sundays\, June 14-Sept. 13\, 2026)
DESCRIPTION:FINAL MARKET OF THE SEASON!\nSeptember 13\, 2026 – Roslyn Farmers Market (every Sunday thru Sept. 13th) – 9am-1pm \nPennsylvania Avenue\, Downtown Roslyn \nroslynfarmersmarket.org \nRoslyn Farmers Market Facebook Page \nShort video Reel highlighting the market (Central Washington Outdoor) \nThe Roslyn Farmers Market is a market place for farmers\, specialty food producers\, artisan/crafters\, food preparers and entertainers.
URL:https://roslyndowntown.org/event/roslyn-farmers-market-091326/
LOCATION:Downtown Roslyn\, WA\, 98941
CATEGORIES:Community Events,Downtown Events
ATTACH;FMTTYPE=image/jpeg:https://roslyndowntown.org/wp-content/uploads/2026/02/Roslyn-Farmers-Market-2026.jpg
END:VEVENT
BEGIN:VEVENT
DTSTART;TZID=America/Los_Angeles:20260918T191000
DTEND;TZID=America/Los_Angeles:20260918T211200
DTSTAMP:20260423T155715
CREATED:20260318T202110Z
LAST-MODIFIED:20260318T221943Z
UID:7089-1789758600-1789765920@roslyndowntown.org
SUMMARY:"SUPERMAN (2025)" - The Roslyn Yard Summer Nights - Outdoor Movie - 2026
DESCRIPTION:Outdoor movies at the Roslyn Yard\n \nFREE ADMISSION!\nFriday\, September 18\, 2026 – Outdoor Movie SUPERMAN (2025) @ The Roslyn Yard – at Sunset (7:10 p.m.) \n122 minutes \nSuperman (2025) – PG-13\nSet within a new DC universe. A few years into his heroics\, Superman embarks on a personal quest to understand his Kryptonian heritage and mix it with his upbringing as mild mannered Clark Kent. But things get complicated when ruthless industrialist Lex Luthor frames Superman for an international incident and plans to put himself on top by bringing Superman down. Now with aid from Lois Lane\, Jimmy Olsen and the Justice Gang\, Superman must embrace his lineage and fully become the hero we deserve in order to stop Luthor’s plot and save the world. \nBrought to you by Basecamp Books and the Roslyn Downtown Association.
URL:https://roslyndowntown.org/event/superman-the-roslyn-yard-summer-nights-outdoor-movie-2026-2/
LOCATION:The Roslyn Yard\, 104 W Pennsylvania Ave\, Roslyn\, WA\, 98941
CATEGORIES:Community Events,Entertainment
ATTACH;FMTTYPE=image/png:https://roslyndowntown.org/wp-content/uploads/2026/03/Roslyn-Summer-Movie-Nights-2026-flyer-1.png
END:VEVENT
BEGIN:VEVENT
DTSTART;TZID=America/Los_Angeles:20260919T191000
DTEND;TZID=America/Los_Angeles:20260919T212800
DTSTAMP:20260423T155715
CREATED:20260318T204347Z
LAST-MODIFIED:20260318T221956Z
UID:7092-1789845000-1789853280@roslyndowntown.org
SUMMARY:"WICKED: FOR GOOD" - The Roslyn Yard Summer Nights - Outdoor Movie - 2026
DESCRIPTION:Outdoor movies at the Roslyn Yard\n \nFREE ADMISSION!\nSaturday\, September 19\, 2026 – Outdoor Movie WICKED FOR GOOD (2025) @ The Roslyn Yard – at Sunset (7:10 p.m.) \n138 minutes \nWicked: For Good (2025) – PG\nAfter challenging the Wizard’s totalitarian regime in Oz\, Elphaba must grapple with her identity as the “Wicked Witch of the West.” Meanwhile\, the Wizard has given Glinda the title “Glinda the Good” and a public status as the nation’s defender against Elphaba. The two witches must make decisions that seal their fates in this second musical installment. \nBrought to you by Basecamp Books and the Roslyn Downtown Association.
URL:https://roslyndowntown.org/event/wicked-for-good-the-roslyn-yard-summer-nights-outdoor-movie-2026/
LOCATION:The Roslyn Yard\, 104 W Pennsylvania Ave\, Roslyn\, WA\, 98941
CATEGORIES:Community Events,Entertainment
ATTACH;FMTTYPE=image/png:https://roslyndowntown.org/wp-content/uploads/2026/03/Roslyn-Summer-Movie-Nights-2026-flyer-1.png
END:VEVENT
END:VCALENDAR